BEGIN:VCALENDAR
VERSION:2.0
PRODID:-//The Pacific Northwest Conference of The United Methodist Church - ECPv6.15.20//NONSGML v1.0//EN
CALSCALE:GREGORIAN
METHOD:PUBLISH
X-ORIGINAL-URL:https://www.pnwumc.org
X-WR-CALDESC:Events for The Pacific Northwest Conference of The United Methodist Church
REFRESH-INTERVAL;VALUE=DURATION:PT1H
X-Robots-Tag:noindex
X-PUBLISHED-TTL:PT1H
BEGIN:VTIMEZONE
TZID:America/Los_Angeles
BEGIN:DAYLIGHT
TZOFFSETFROM:-0800
TZOFFSETTO:-0700
TZNAME:PDT
DTSTART:20160313T100000
END:DAYLIGHT
BEGIN:STANDARD
TZOFFSETFROM:-0700
TZOFFSETTO:-0800
TZNAME:PST
DTSTART:20161106T090000
END:STANDARD
BEGIN:DAYLIGHT
TZOFFSETFROM:-0800
TZOFFSETTO:-0700
TZNAME:PDT
DTSTART:20170312T100000
END:DAYLIGHT
BEGIN:STANDARD
TZOFFSETFROM:-0700
TZOFFSETTO:-0800
TZNAME:PST
DTSTART:20171105T090000
END:STANDARD
BEGIN:DAYLIGHT
TZOFFSETFROM:-0800
TZOFFSETTO:-0700
TZNAME:PDT
DTSTART:20180311T100000
END:DAYLIGHT
BEGIN:STANDARD
TZOFFSETFROM:-0700
TZOFFSETTO:-0800
TZNAME:PST
DTSTART:20181104T090000
END:STANDARD
END:VTIMEZONE
BEGIN:VEVENT
DTSTART;TZID=America/Los_Angeles:20170510T093000
DTEND;TZID=America/Los_Angeles:20170510T113000
DTSTAMP:20260422T002008
CREATED:20170405T180541Z
LAST-MODIFIED:20170405T180917Z
UID:10000076-1494408600-1494415800@www.pnwumc.org
SUMMARY:Board of Pensions on Investing/Benefits
DESCRIPTION:In the first two weeks of May seven meetings will take place around the conference. Each meeting covers the same issues. The meetings are open to all voting members of annual conference. \nThe meeting will cover four issues with the first issue on the agenda having relevance to all voting members of annual conference. The other issues will cover clergy benefits which will not be relevant to the lay members that attend. The issues covered are as follows: \n\nA resolution coming from the conference board of pensions that responds to the divestment from fossil fuels companies petition that was passed at last year’s annual conference requiring conference investments to be fossil free by January 1\, 2018.\nAutomatic enhancements with the United Methodist Personal Investment Plan beginning January 1\, 2018. If one is currently contributing less then 2% of their plan compensation to UMPIP the automatic enhancements will impact them beginning January 1\, 2018. There are currently 38 clergy that are contributing less than 2% of plan compensation to UMPIP so will be impacted by this pilot project.\nWellness monetary incentives added to health reimbursement account by the conference board of pensions\, not HealthFlex Exchange\, will be eliminated beginning in 2018.\nQ&A with the conference benefits officer on any benefit or financial planning topic.\n\nThe meeting location\, time and dates are as follows \n\nFriday\, May 5th; Olympia: First; 9:30 – 11:30 am\nFriday\, May 5th; Vancouver: Salmon Creek; 2 – 4 pm\nWednesday\, May 10th; Snohomish; 9:30 – 11:30 am\nWednesday\, May 10th; Kent; 1:30 – 3:30 pm\nThursday\, May 11th; Ellensburg; 9:30 – 11:30 am\nThursday\, May 11th; Pasco: Riverview 2:30 – 4:30 pm\nFriday\, May 12th; Spokane: Audubon Park; 9:30 – 11:30 am\n\nTo register for this event\, or to leave a comment\, click HERE
URL:https://www.pnwumc.org/event/board-of-pensions-on-investingbenefits-2017-05-10/
LOCATION:Snohomish United Methodist Church\, 6202 99th Avenue SE\, Snohomish\, WA\, 98290\, United States
CATEGORIES:Annual Conference,Meetings,Pensions
ORGANIZER;CN="Bruce Galvin":MAILTO: bruce.galvin@pnwumc.org
GEO:47.9397316;-122.0988447
X-APPLE-STRUCTURED-LOCATION;VALUE=URI;X-ADDRESS=Snohomish United Methodist Church 6202 99th Avenue SE Snohomish WA 98290 United States;X-APPLE-RADIUS=500;X-TITLE=6202 99th Avenue SE:geo:-122.0988447,47.9397316
END:VEVENT
END:VCALENDAR