BEGIN:VCALENDAR
VERSION:2.0
PRODID:-//The Pacific Northwest Conference of The United Methodist Church - ECPv6.15.20//NONSGML v1.0//EN
CALSCALE:GREGORIAN
METHOD:PUBLISH
X-WR-CALNAME:The Pacific Northwest Conference of The United Methodist Church
X-ORIGINAL-URL:https://www.pnwumc.org
X-WR-CALDESC:Events for The Pacific Northwest Conference of The United Methodist Church
REFRESH-INTERVAL;VALUE=DURATION:PT1H
X-Robots-Tag:noindex
X-PUBLISHED-TTL:PT1H
BEGIN:VTIMEZONE
TZID:America/Los_Angeles
BEGIN:DAYLIGHT
TZOFFSETFROM:-0800
TZOFFSETTO:-0700
TZNAME:PDT
DTSTART:20180311T100000
END:DAYLIGHT
BEGIN:STANDARD
TZOFFSETFROM:-0700
TZOFFSETTO:-0800
TZNAME:PST
DTSTART:20181104T090000
END:STANDARD
BEGIN:DAYLIGHT
TZOFFSETFROM:-0800
TZOFFSETTO:-0700
TZNAME:PDT
DTSTART:20190310T100000
END:DAYLIGHT
BEGIN:STANDARD
TZOFFSETFROM:-0700
TZOFFSETTO:-0800
TZNAME:PST
DTSTART:20191103T090000
END:STANDARD
BEGIN:DAYLIGHT
TZOFFSETFROM:-0800
TZOFFSETTO:-0700
TZNAME:PDT
DTSTART:20200308T100000
END:DAYLIGHT
BEGIN:STANDARD
TZOFFSETFROM:-0700
TZOFFSETTO:-0800
TZNAME:PST
DTSTART:20201101T090000
END:STANDARD
END:VTIMEZONE
BEGIN:VEVENT
DTSTART;TZID=America/Los_Angeles:20190519T100000
DTEND;TZID=America/Los_Angeles:20190519T123000
DTSTAMP:20260420T070557
CREATED:20190325T181129Z
LAST-MODIFIED:20190325T181129Z
UID:10000382-1558260000-1558269000@www.pnwumc.org
SUMMARY:Sand Point Community UMC - 75th Anniversary Celebration
DESCRIPTION:Sand Point Community United Methodist Church is celebrating its 75th Anniversary Celebration on May 19th with a worship service at 10 AM followed with a Reception around 11:30 AM.
URL:https://www.pnwumc.org/event/sand-point-community-umc-75th-anniversary-celebration/
LOCATION:Sand Point Community UMC\, 4710 NE 70th St\, Seattle\, WA\, 98115\, United States
CATEGORIES:Local Church
GEO:47.6798021;-122.2773739
X-APPLE-STRUCTURED-LOCATION;VALUE=URI;X-ADDRESS=Sand Point Community UMC 4710 NE 70th St Seattle WA 98115 United States;X-APPLE-RADIUS=500;X-TITLE=4710 NE 70th St:geo:-122.2773739,47.6798021
END:VEVENT
END:VCALENDAR