BEGIN:VCALENDAR
VERSION:2.0
PRODID:-//The Pacific Northwest Conference of The United Methodist Church - ECPv6.15.20//NONSGML v1.0//EN
CALSCALE:GREGORIAN
METHOD:PUBLISH
X-WR-CALNAME:The Pacific Northwest Conference of The United Methodist Church
X-ORIGINAL-URL:https://www.pnwumc.org
X-WR-CALDESC:Events for The Pacific Northwest Conference of The United Methodist Church
REFRESH-INTERVAL;VALUE=DURATION:PT1H
X-Robots-Tag:noindex
X-PUBLISHED-TTL:PT1H
BEGIN:VTIMEZONE
TZID:America/Los_Angeles
BEGIN:DAYLIGHT
TZOFFSETFROM:-0800
TZOFFSETTO:-0700
TZNAME:PDT
DTSTART:20240310T100000
END:DAYLIGHT
BEGIN:STANDARD
TZOFFSETFROM:-0700
TZOFFSETTO:-0800
TZNAME:PST
DTSTART:20241103T090000
END:STANDARD
BEGIN:DAYLIGHT
TZOFFSETFROM:-0800
TZOFFSETTO:-0700
TZNAME:PDT
DTSTART:20250309T100000
END:DAYLIGHT
BEGIN:STANDARD
TZOFFSETFROM:-0700
TZOFFSETTO:-0800
TZNAME:PST
DTSTART:20251102T090000
END:STANDARD
BEGIN:DAYLIGHT
TZOFFSETFROM:-0800
TZOFFSETTO:-0700
TZNAME:PDT
DTSTART:20260308T100000
END:DAYLIGHT
BEGIN:STANDARD
TZOFFSETFROM:-0700
TZOFFSETTO:-0800
TZNAME:PST
DTSTART:20261101T090000
END:STANDARD
END:VTIMEZONE
BEGIN:VEVENT
DTSTART;TZID=America/Los_Angeles:20250116T180000
DTEND;TZID=America/Los_Angeles:20250116T200000
DTSTAMP:20260420T151308
CREATED:20241207T013155Z
LAST-MODIFIED:20241207T063534Z
UID:10001109-1737050400-1737057600@www.pnwumc.org
SUMMARY:Safe Parking 101 Training
DESCRIPTION:For over ten years\, Lake Washington United Methodist Church in Kirkland\, WA\, has run a Safe Parking Program for women and families living in their vehicles. If you would like to learn more about this ministry\, you are invited to join them on Thursday\, January 16th from 6pm – 8pm on Zoom for a panel discussion on our Safe Parking Program. Participants can ask questions during the presentation and may also submit questions to office@lakewaumc.org ahead of time if they wish.  \nClick here to register in advance for this meeting. \nAfter registering\, you will receive a confirmation email containing information about joining the meeting.
URL:https://www.pnwumc.org/event/safe-parking-101-training/
LOCATION:Lake Washington United Methodist Church\, 7525 132nd Avenue NE\, Kirkland\, WA\, 98033\, United States
CATEGORIES:Local Church,Training
ATTACH;FMTTYPE=image/jpeg:https://www.pnwumc.org/wp-content/uploads/2024/12/safe-parking.jpg
GEO:47.6720065;-122.1648688
X-APPLE-STRUCTURED-LOCATION;VALUE=URI;X-ADDRESS=Lake Washington United Methodist Church 7525 132nd Avenue NE Kirkland WA 98033 United States;X-APPLE-RADIUS=500;X-TITLE=7525 132nd Avenue NE:geo:-122.1648688,47.6720065
END:VEVENT
END:VCALENDAR