BEGIN:VCALENDAR
VERSION:2.0
PRODID:-//The Pacific Northwest Conference of The United Methodist Church - ECPv6.15.20//NONSGML v1.0//EN
CALSCALE:GREGORIAN
METHOD:PUBLISH
X-ORIGINAL-URL:https://www.pnwumc.org
X-WR-CALDESC:Events for The Pacific Northwest Conference of The United Methodist Church
REFRESH-INTERVAL;VALUE=DURATION:PT1H
X-Robots-Tag:noindex
X-PUBLISHED-TTL:PT1H
BEGIN:VTIMEZONE
TZID:America/Los_Angeles
BEGIN:DAYLIGHT
TZOFFSETFROM:-0800
TZOFFSETTO:-0700
TZNAME:PDT
DTSTART:20160313T100000
END:DAYLIGHT
BEGIN:STANDARD
TZOFFSETFROM:-0700
TZOFFSETTO:-0800
TZNAME:PST
DTSTART:20161106T090000
END:STANDARD
BEGIN:DAYLIGHT
TZOFFSETFROM:-0800
TZOFFSETTO:-0700
TZNAME:PDT
DTSTART:20170312T100000
END:DAYLIGHT
BEGIN:STANDARD
TZOFFSETFROM:-0700
TZOFFSETTO:-0800
TZNAME:PST
DTSTART:20171105T090000
END:STANDARD
BEGIN:DAYLIGHT
TZOFFSETFROM:-0800
TZOFFSETTO:-0700
TZNAME:PDT
DTSTART:20180311T100000
END:DAYLIGHT
BEGIN:STANDARD
TZOFFSETFROM:-0700
TZOFFSETTO:-0800
TZNAME:PST
DTSTART:20181104T090000
END:STANDARD
END:VTIMEZONE
BEGIN:VEVENT
DTSTART;VALUE=DATE:20170315
DTEND;VALUE=DATE:20170316
DTSTAMP:20260421T053228
CREATED:20170120T231651Z
LAST-MODIFIED:20170214T224007Z
UID:10000032-1489536000-1489568400@www.pnwumc.org
SUMMARY:Puget Sound Clergy Day Apart
DESCRIPTION:Mark your calendar!\nOn Wednesday\, March 15\, Puget Sound Clergy are gathering at Camp Killoqua in Stanwood.  This will be an excellent opportunity to fellowship and worship with your clergy colleagues\, all while surrounded by the nature and beauty of the Pacific Northwest. \nRegister now!\nWe are excited to have our own Bill Gibson\, Director of Strategic Faith Community Development\, as the keynote speaker for the day.  You won’t want to miss it!
URL:https://www.pnwumc.org/event/puget-sound-clergy-day-apart/
LOCATION:Camp Killoqua\, 15207 E Lake Goodwin Rd\, Stanwood\, WA\, 98292\, United States
GEO:48.1313748;-122.2807895
X-APPLE-STRUCTURED-LOCATION;VALUE=URI;X-ADDRESS=Camp Killoqua 15207 E Lake Goodwin Rd Stanwood WA 98292 United States;X-APPLE-RADIUS=500;X-TITLE=15207 E Lake Goodwin Rd:geo:-122.2807895,48.1313748
END:VEVENT
END:VCALENDAR