BEGIN:VCALENDAR
VERSION:2.0
PRODID:-//The Pacific Northwest Conference of The United Methodist Church - ECPv6.15.20//NONSGML v1.0//EN
CALSCALE:GREGORIAN
METHOD:PUBLISH
X-ORIGINAL-URL:https://www.pnwumc.org
X-WR-CALDESC:Events for The Pacific Northwest Conference of The United Methodist Church
REFRESH-INTERVAL;VALUE=DURATION:PT1H
X-Robots-Tag:noindex
X-PUBLISHED-TTL:PT1H
BEGIN:VTIMEZONE
TZID:America/Los_Angeles
BEGIN:DAYLIGHT
TZOFFSETFROM:-0800
TZOFFSETTO:-0700
TZNAME:PDT
DTSTART:20170312T100000
END:DAYLIGHT
BEGIN:STANDARD
TZOFFSETFROM:-0700
TZOFFSETTO:-0800
TZNAME:PST
DTSTART:20171105T090000
END:STANDARD
BEGIN:DAYLIGHT
TZOFFSETFROM:-0800
TZOFFSETTO:-0700
TZNAME:PDT
DTSTART:20180311T100000
END:DAYLIGHT
BEGIN:STANDARD
TZOFFSETFROM:-0700
TZOFFSETTO:-0800
TZNAME:PST
DTSTART:20181104T090000
END:STANDARD
BEGIN:DAYLIGHT
TZOFFSETFROM:-0800
TZOFFSETTO:-0700
TZNAME:PDT
DTSTART:20190310T100000
END:DAYLIGHT
BEGIN:STANDARD
TZOFFSETFROM:-0700
TZOFFSETTO:-0800
TZNAME:PST
DTSTART:20191103T090000
END:STANDARD
BEGIN:DAYLIGHT
TZOFFSETFROM:-0800
TZOFFSETTO:-0700
TZNAME:PDT
DTSTART:20200308T100000
END:DAYLIGHT
BEGIN:STANDARD
TZOFFSETFROM:-0700
TZOFFSETTO:-0800
TZNAME:PST
DTSTART:20201101T090000
END:STANDARD
BEGIN:DAYLIGHT
TZOFFSETFROM:-0800
TZOFFSETTO:-0700
TZNAME:PDT
DTSTART:20210314T100000
END:DAYLIGHT
BEGIN:STANDARD
TZOFFSETFROM:-0700
TZOFFSETTO:-0800
TZNAME:PST
DTSTART:20211107T090000
END:STANDARD
BEGIN:DAYLIGHT
TZOFFSETFROM:-0800
TZOFFSETTO:-0700
TZNAME:PDT
DTSTART:20220313T100000
END:DAYLIGHT
BEGIN:STANDARD
TZOFFSETFROM:-0700
TZOFFSETTO:-0800
TZNAME:PST
DTSTART:20221106T090000
END:STANDARD
BEGIN:DAYLIGHT
TZOFFSETFROM:-0800
TZOFFSETTO:-0700
TZNAME:PDT
DTSTART:20230312T100000
END:DAYLIGHT
BEGIN:STANDARD
TZOFFSETFROM:-0700
TZOFFSETTO:-0800
TZNAME:PST
DTSTART:20231105T090000
END:STANDARD
BEGIN:DAYLIGHT
TZOFFSETFROM:-0800
TZOFFSETTO:-0700
TZNAME:PDT
DTSTART:20240310T100000
END:DAYLIGHT
BEGIN:STANDARD
TZOFFSETFROM:-0700
TZOFFSETTO:-0800
TZNAME:PST
DTSTART:20241103T090000
END:STANDARD
BEGIN:DAYLIGHT
TZOFFSETFROM:-0800
TZOFFSETTO:-0700
TZNAME:PDT
DTSTART:20250309T100000
END:DAYLIGHT
BEGIN:STANDARD
TZOFFSETFROM:-0700
TZOFFSETTO:-0800
TZNAME:PST
DTSTART:20251102T090000
END:STANDARD
END:VTIMEZONE
BEGIN:VEVENT
DTSTART;TZID=America/Los_Angeles:20240523T090000
DTEND;TZID=America/Los_Angeles:20240523T140000
DTSTAMP:20260420T150515
CREATED:20231027T180204Z
LAST-MODIFIED:20231027T180204Z
UID:10000700-1716454800-1716472800@www.pnwumc.org
SUMMARY:Full GNW Cabinet
DESCRIPTION:The full GNW Cabinet is meeting on Zoom.
URL:https://www.pnwumc.org/event/full-gnw-cabinet/2024-05-23/
CATEGORIES:Meetings
ORGANIZER;CN="Rhondalei Gabuat":MAILTO:rgabuat@pnwumc.org
LOCATION:https://www.pnwumc.org/event/full-gnw-cabinet/2024-05-23/
END:VEVENT
BEGIN:VEVENT
DTSTART;VALUE=DATE:20240514
DTEND;VALUE=DATE:20240516
DTSTAMP:20260420T150515
CREATED:20231027T181347Z
LAST-MODIFIED:20231027T181347Z
UID:10000708-1715644800-1715817599@www.pnwumc.org
SUMMARY:GNW Full Cabinet
DESCRIPTION:The GNW Full Cabinet will be meeting in person. Details TBA.
URL:https://www.pnwumc.org/event/gnw-full-cabinet-4/
CATEGORIES:Meetings
ORGANIZER;CN="Rhondalei Gabuat":MAILTO:rgabuat@pnwumc.org
END:VEVENT
BEGIN:VEVENT
DTSTART;TZID=America/Los_Angeles:20240509T090000
DTEND;TZID=America/Los_Angeles:20240509T140000
DTSTAMP:20260420T150515
CREATED:20231027T180204Z
LAST-MODIFIED:20231027T180204Z
UID:10000699-1715245200-1715263200@www.pnwumc.org
SUMMARY:Full GNW Cabinet
DESCRIPTION:The full GNW Cabinet is meeting on Zoom.
URL:https://www.pnwumc.org/event/full-gnw-cabinet/2024-05-09/
CATEGORIES:Meetings
ORGANIZER;CN="Rhondalei Gabuat":MAILTO:rgabuat@pnwumc.org
LOCATION:https://www.pnwumc.org/event/full-gnw-cabinet/2024-05-09/
END:VEVENT
BEGIN:VEVENT
DTSTART;TZID=America/Los_Angeles:20240416T100000
DTEND;TZID=America/Los_Angeles:20240416T130000
DTSTAMP:20260420T150515
CREATED:20231027T175434Z
LAST-MODIFIED:20231027T175434Z
UID:10000695-1713261600-1713272400@www.pnwumc.org
SUMMARY:Appointive Cabinet
DESCRIPTION:The GNW Appointive Cabinet is meeting.
URL:https://www.pnwumc.org/event/appointive-cabinet/2024-04-16/
CATEGORIES:Meetings
ORGANIZER;CN="Rhondalei Gabuat":MAILTO:rgabuat@pnwumc.org
LOCATION:https://www.pnwumc.org/event/appointive-cabinet/2024-04-16/
END:VEVENT
BEGIN:VEVENT
DTSTART;TZID=America/Los_Angeles:20240411T090000
DTEND;TZID=America/Los_Angeles:20240411T140000
DTSTAMP:20260420T150515
CREATED:20231027T180204Z
LAST-MODIFIED:20231027T180204Z
UID:10000698-1712826000-1712844000@www.pnwumc.org
SUMMARY:Full GNW Cabinet
DESCRIPTION:The full GNW Cabinet is meeting on Zoom.
URL:https://www.pnwumc.org/event/full-gnw-cabinet/2024-04-11/
CATEGORIES:Meetings
ORGANIZER;CN="Rhondalei Gabuat":MAILTO:rgabuat@pnwumc.org
LOCATION:https://www.pnwumc.org/event/full-gnw-cabinet/2024-04-11/
END:VEVENT
BEGIN:VEVENT
DTSTART;TZID=America/Los_Angeles:20240409T100000
DTEND;TZID=America/Los_Angeles:20240409T130000
DTSTAMP:20260420T150515
CREATED:20231027T175434Z
LAST-MODIFIED:20231027T175434Z
UID:10000694-1712656800-1712667600@www.pnwumc.org
SUMMARY:Appointive Cabinet
DESCRIPTION:The GNW Appointive Cabinet is meeting.
URL:https://www.pnwumc.org/event/appointive-cabinet/2024-04-09/
CATEGORIES:Meetings
ORGANIZER;CN="Rhondalei Gabuat":MAILTO:rgabuat@pnwumc.org
LOCATION:https://www.pnwumc.org/event/appointive-cabinet/2024-04-09/
END:VEVENT
BEGIN:VEVENT
DTSTART;TZID=America/Los_Angeles:20240404T100000
DTEND;TZID=America/Los_Angeles:20240404T130000
DTSTAMP:20260420T150515
CREATED:20231027T175434Z
LAST-MODIFIED:20231027T175434Z
UID:10000693-1712224800-1712235600@www.pnwumc.org
SUMMARY:Appointive Cabinet
DESCRIPTION:The GNW Appointive Cabinet is meeting.
URL:https://www.pnwumc.org/event/appointive-cabinet/2024-04-04/
CATEGORIES:Meetings
ORGANIZER;CN="Rhondalei Gabuat":MAILTO:rgabuat@pnwumc.org
LOCATION:https://www.pnwumc.org/event/appointive-cabinet/2024-04-04/
END:VEVENT
BEGIN:VEVENT
DTSTART;TZID=America/Los_Angeles:20240402T100000
DTEND;TZID=America/Los_Angeles:20240402T130000
DTSTAMP:20260420T150515
CREATED:20231027T175434Z
LAST-MODIFIED:20231027T175434Z
UID:10000692-1712052000-1712062800@www.pnwumc.org
SUMMARY:Appointive Cabinet
DESCRIPTION:The GNW Appointive Cabinet is meeting.
URL:https://www.pnwumc.org/event/appointive-cabinet/2024-04-02/
CATEGORIES:Meetings
ORGANIZER;CN="Rhondalei Gabuat":MAILTO:rgabuat@pnwumc.org
LOCATION:https://www.pnwumc.org/event/appointive-cabinet/2024-04-02/
END:VEVENT
BEGIN:VEVENT
DTSTART;TZID=America/Los_Angeles:20240328T100000
DTEND;TZID=America/Los_Angeles:20240328T130000
DTSTAMP:20260420T150515
CREATED:20231027T175434Z
LAST-MODIFIED:20231027T175434Z
UID:10000691-1711620000-1711630800@www.pnwumc.org
SUMMARY:Appointive Cabinet
DESCRIPTION:The GNW Appointive Cabinet is meeting.
URL:https://www.pnwumc.org/event/appointive-cabinet/2024-03-28/
CATEGORIES:Meetings
ORGANIZER;CN="Rhondalei Gabuat":MAILTO:rgabuat@pnwumc.org
LOCATION:https://www.pnwumc.org/event/appointive-cabinet/2024-03-28/
END:VEVENT
BEGIN:VEVENT
DTSTART;TZID=America/Los_Angeles:20240326T100000
DTEND;TZID=America/Los_Angeles:20240326T130000
DTSTAMP:20260420T150515
CREATED:20231027T175434Z
LAST-MODIFIED:20231027T175434Z
UID:10000690-1711447200-1711458000@www.pnwumc.org
SUMMARY:Appointive Cabinet
DESCRIPTION:The GNW Appointive Cabinet is meeting.
URL:https://www.pnwumc.org/event/appointive-cabinet/2024-03-26/
CATEGORIES:Meetings
ORGANIZER;CN="Rhondalei Gabuat":MAILTO:rgabuat@pnwumc.org
LOCATION:https://www.pnwumc.org/event/appointive-cabinet/2024-03-26/
END:VEVENT
BEGIN:VEVENT
DTSTART;VALUE=DATE:20240320
DTEND;VALUE=DATE:20240322
DTSTAMP:20260420T150515
CREATED:20231027T181230Z
LAST-MODIFIED:20231027T181230Z
UID:10000707-1710892800-1711065599@www.pnwumc.org
SUMMARY:GNW Full Cabinet
DESCRIPTION:The GNW Full Cabinet will be meeting in person. Details TBA.
URL:https://www.pnwumc.org/event/gnw-full-cabinet-3/
CATEGORIES:Meetings
ORGANIZER;CN="Rhondalei Gabuat":MAILTO:rgabuat@pnwumc.org
END:VEVENT
BEGIN:VEVENT
DTSTART;TZID=America/Los_Angeles:20240312T100000
DTEND;TZID=America/Los_Angeles:20240312T130000
DTSTAMP:20260420T150515
CREATED:20231027T175434Z
LAST-MODIFIED:20231027T175434Z
UID:10000689-1710237600-1710248400@www.pnwumc.org
SUMMARY:Appointive Cabinet
DESCRIPTION:The GNW Appointive Cabinet is meeting.
URL:https://www.pnwumc.org/event/appointive-cabinet/2024-03-12/
CATEGORIES:Meetings
ORGANIZER;CN="Rhondalei Gabuat":MAILTO:rgabuat@pnwumc.org
LOCATION:https://www.pnwumc.org/event/appointive-cabinet/2024-03-12/
END:VEVENT
BEGIN:VEVENT
DTSTART;TZID=America/Los_Angeles:20240305T100000
DTEND;TZID=America/Los_Angeles:20240305T130000
DTSTAMP:20260420T150515
CREATED:20231027T175434Z
LAST-MODIFIED:20231027T175434Z
UID:10000688-1709632800-1709643600@www.pnwumc.org
SUMMARY:Appointive Cabinet
DESCRIPTION:The GNW Appointive Cabinet is meeting.
URL:https://www.pnwumc.org/event/appointive-cabinet/2024-03-05/
CATEGORIES:Meetings
ORGANIZER;CN="Rhondalei Gabuat":MAILTO:rgabuat@pnwumc.org
LOCATION:https://www.pnwumc.org/event/appointive-cabinet/2024-03-05/
END:VEVENT
BEGIN:VEVENT
DTSTART;TZID=America/Los_Angeles:20240229T090000
DTEND;TZID=America/Los_Angeles:20240229T140000
DTSTAMP:20260420T150515
CREATED:20231027T180204Z
LAST-MODIFIED:20231027T180204Z
UID:10000697-1709197200-1709215200@www.pnwumc.org
SUMMARY:Full GNW Cabinet
DESCRIPTION:The full GNW Cabinet is meeting on Zoom.
URL:https://www.pnwumc.org/event/full-gnw-cabinet/2024-02-29/
CATEGORIES:Meetings
ORGANIZER;CN="Rhondalei Gabuat":MAILTO:rgabuat@pnwumc.org
LOCATION:https://www.pnwumc.org/event/full-gnw-cabinet/2024-02-29/
END:VEVENT
BEGIN:VEVENT
DTSTART;TZID=America/Los_Angeles:20240227T100000
DTEND;TZID=America/Los_Angeles:20240227T130000
DTSTAMP:20260420T150515
CREATED:20231113T214834Z
LAST-MODIFIED:20231113T214834Z
UID:10000683-1709028000-1709038800@www.pnwumc.org
SUMMARY:Appointive Cabinet
DESCRIPTION:The GNW Appointive Cabinet is meeting.
URL:https://www.pnwumc.org/event/appointive-cabinet-4/
CATEGORIES:Meetings
ORGANIZER;CN="Rhondalei Gabuat":MAILTO:rgabuat@pnwumc.org
LOCATION:https://www.pnwumc.org/event/appointive-cabinet-4/
END:VEVENT
BEGIN:VEVENT
DTSTART;TZID=America/Los_Angeles:20240222T100000
DTEND;TZID=America/Los_Angeles:20240222T130000
DTSTAMP:20260420T150515
CREATED:20231027T175434Z
LAST-MODIFIED:20231027T175434Z
UID:10000687-1708596000-1708606800@www.pnwumc.org
SUMMARY:Appointive Cabinet
DESCRIPTION:The GNW Appointive Cabinet is meeting.
URL:https://www.pnwumc.org/event/appointive-cabinet/2024-02-22/
CATEGORIES:Meetings
ORGANIZER;CN="Rhondalei Gabuat":MAILTO:rgabuat@pnwumc.org
LOCATION:https://www.pnwumc.org/event/appointive-cabinet/2024-02-22/
END:VEVENT
BEGIN:VEVENT
DTSTART;TZID=America/Los_Angeles:20240220T100000
DTEND;TZID=America/Los_Angeles:20240220T130000
DTSTAMP:20260420T150515
CREATED:20231027T175434Z
LAST-MODIFIED:20231027T175434Z
UID:10000686-1708423200-1708434000@www.pnwumc.org
SUMMARY:Appointive Cabinet
DESCRIPTION:The GNW Appointive Cabinet is meeting.
URL:https://www.pnwumc.org/event/appointive-cabinet/2024-02-20/
CATEGORIES:Meetings
ORGANIZER;CN="Rhondalei Gabuat":MAILTO:rgabuat@pnwumc.org
LOCATION:https://www.pnwumc.org/event/appointive-cabinet/2024-02-20/
END:VEVENT
BEGIN:VEVENT
DTSTART;TZID=America/Los_Angeles:20240215T100000
DTEND;TZID=America/Los_Angeles:20240215T130000
DTSTAMP:20260420T150515
CREATED:20231027T175434Z
LAST-MODIFIED:20231027T175434Z
UID:10000685-1707991200-1708002000@www.pnwumc.org
SUMMARY:Appointive Cabinet
DESCRIPTION:The GNW Appointive Cabinet is meeting.
URL:https://www.pnwumc.org/event/appointive-cabinet/2024-02-15/
CATEGORIES:Meetings
ORGANIZER;CN="Rhondalei Gabuat":MAILTO:rgabuat@pnwumc.org
LOCATION:https://www.pnwumc.org/event/appointive-cabinet/2024-02-15/
END:VEVENT
BEGIN:VEVENT
DTSTART;TZID=America/Los_Angeles:20240213T100000
DTEND;TZID=America/Los_Angeles:20240213T130000
DTSTAMP:20260420T150515
CREATED:20231027T175434Z
LAST-MODIFIED:20231027T175434Z
UID:10000684-1707818400-1707829200@www.pnwumc.org
SUMMARY:Appointive Cabinet
DESCRIPTION:The GNW Appointive Cabinet is meeting.
URL:https://www.pnwumc.org/event/appointive-cabinet/2024-02-13/
CATEGORIES:Meetings
ORGANIZER;CN="Rhondalei Gabuat":MAILTO:rgabuat@pnwumc.org
LOCATION:https://www.pnwumc.org/event/appointive-cabinet/2024-02-13/
END:VEVENT
BEGIN:VEVENT
DTSTART;TZID=America/Los_Angeles:20240206T100000
DTEND;TZID=America/Los_Angeles:20240206T130000
DTSTAMP:20260420T150515
CREATED:20231027T175434Z
LAST-MODIFIED:20231027T175434Z
UID:10000682-1707213600-1707224400@www.pnwumc.org
SUMMARY:Appointive Cabinet
DESCRIPTION:The GNW Appointive Cabinet is meeting.
URL:https://www.pnwumc.org/event/appointive-cabinet/2024-02-06/
CATEGORIES:Meetings
ORGANIZER;CN="Rhondalei Gabuat":MAILTO:rgabuat@pnwumc.org
LOCATION:https://www.pnwumc.org/event/appointive-cabinet/2024-02-06/
END:VEVENT
BEGIN:VEVENT
DTSTART;TZID=America/Los_Angeles:20240130T100000
DTEND;TZID=America/Los_Angeles:20240130T130000
DTSTAMP:20260420T150515
CREATED:20231027T175434Z
LAST-MODIFIED:20231027T175434Z
UID:10000681-1706608800-1706619600@www.pnwumc.org
SUMMARY:Appointive Cabinet
DESCRIPTION:The GNW Appointive Cabinet is meeting.
URL:https://www.pnwumc.org/event/appointive-cabinet/2024-01-30/
CATEGORIES:Meetings
ORGANIZER;CN="Rhondalei Gabuat":MAILTO:rgabuat@pnwumc.org
LOCATION:https://www.pnwumc.org/event/appointive-cabinet/2024-01-30/
END:VEVENT
BEGIN:VEVENT
DTSTART;VALUE=DATE:20240124
DTEND;VALUE=DATE:20240126
DTSTAMP:20260420T150515
CREATED:20231027T181130Z
LAST-MODIFIED:20231027T181130Z
UID:10000706-1706054400-1706227199@www.pnwumc.org
SUMMARY:GNW Full Cabinet
DESCRIPTION:The GNW Full Cabinet will be meeting in person. Details TBA.
URL:https://www.pnwumc.org/event/gnw-full-cabinet-2/
CATEGORIES:Meetings
ORGANIZER;CN="Rhondalei Gabuat":MAILTO:rgabuat@pnwumc.org
END:VEVENT
BEGIN:VEVENT
DTSTART;VALUE=DATE:20240109
DTEND;VALUE=DATE:20240112
DTSTAMP:20260420T150515
CREATED:20231027T180950Z
LAST-MODIFIED:20231027T181004Z
UID:10000705-1704758400-1705017599@www.pnwumc.org
SUMMARY:GNW Full Cabinet
DESCRIPTION:The GNW Full Cabinet will be meeting in person. Details TBA.
URL:https://www.pnwumc.org/event/gnw-full-cabinet/
CATEGORIES:Meetings
ORGANIZER;CN="Rhondalei Gabuat":MAILTO:rgabuat@pnwumc.org
END:VEVENT
BEGIN:VEVENT
DTSTART;VALUE=DATE:20231206
DTEND;VALUE=DATE:20231208
DTSTAMP:20260420T150515
CREATED:20231027T180846Z
LAST-MODIFIED:20231027T181033Z
UID:10000704-1701820800-1701993599@www.pnwumc.org
SUMMARY:GNW Full Cabinet
DESCRIPTION:The GNW Full Cabinet will be meeting in person. Details TBA.
URL:https://www.pnwumc.org/event/full-gnw-cabinet-2/
CATEGORIES:Meetings
ORGANIZER;CN="Rhondalei Gabuat":MAILTO:rgabuat@pnwumc.org
END:VEVENT
BEGIN:VEVENT
DTSTART;TZID=America/Los_Angeles:20231205T100000
DTEND;TZID=America/Los_Angeles:20231205T130000
DTSTAMP:20260420T150515
CREATED:20231027T180510Z
LAST-MODIFIED:20231027T180547Z
UID:10000701-1701770400-1701781200@www.pnwumc.org
SUMMARY:Appointive Cabinet
DESCRIPTION:The GNW Appointive Cabinet will be meeting in person. Details. TBA.
URL:https://www.pnwumc.org/event/appointive-cabinet-2/
CATEGORIES:Meetings
ORGANIZER;CN="Rhondalei Gabuat":MAILTO:rgabuat@pnwumc.org
END:VEVENT
BEGIN:VEVENT
DTSTART;TZID=America/Los_Angeles:20231116T090000
DTEND;TZID=America/Los_Angeles:20231116T140000
DTSTAMP:20260420T150515
CREATED:20231027T180204Z
LAST-MODIFIED:20231027T180204Z
UID:10000696-1700125200-1700143200@www.pnwumc.org
SUMMARY:Full GNW Cabinet
DESCRIPTION:The full GNW Cabinet is meeting on Zoom.
URL:https://www.pnwumc.org/event/full-gnw-cabinet/2023-11-16/
CATEGORIES:Meetings
ORGANIZER;CN="Rhondalei Gabuat":MAILTO:rgabuat@pnwumc.org
LOCATION:https://www.pnwumc.org/event/full-gnw-cabinet/2023-11-16/
END:VEVENT
BEGIN:VEVENT
DTSTART;TZID=America/Los_Angeles:20231114T100000
DTEND;TZID=America/Los_Angeles:20231114T130000
DTSTAMP:20260420T150515
CREATED:20231027T175434Z
LAST-MODIFIED:20231027T175434Z
UID:10000680-1699956000-1699966800@www.pnwumc.org
SUMMARY:Appointive Cabinet
DESCRIPTION:The GNW Appointive Cabinet is meeting.
URL:https://www.pnwumc.org/event/appointive-cabinet/2023-11-14/
CATEGORIES:Meetings
ORGANIZER;CN="Rhondalei Gabuat":MAILTO:rgabuat@pnwumc.org
LOCATION:https://www.pnwumc.org/event/appointive-cabinet/2023-11-14/
END:VEVENT
BEGIN:VEVENT
DTSTART;TZID=America/Los_Angeles:20231101T100000
DTEND;TZID=America/Los_Angeles:20231101T130000
DTSTAMP:20260420T150515
CREATED:20231027T175434Z
LAST-MODIFIED:20231027T175434Z
UID:10000679-1698832800-1698843600@www.pnwumc.org
SUMMARY:Appointive Cabinet
DESCRIPTION:The GNW Appointive Cabinet is meeting.
URL:https://www.pnwumc.org/event/appointive-cabinet/2023-11-01/
CATEGORIES:Meetings
ORGANIZER;CN="Rhondalei Gabuat":MAILTO:rgabuat@pnwumc.org
LOCATION:https://www.pnwumc.org/event/appointive-cabinet/2023-11-01/
END:VEVENT
BEGIN:VEVENT
DTSTART;VALUE=DATE:20221115
DTEND;VALUE=DATE:20221118
DTSTAMP:20260420T150515
CREATED:20221115T192946Z
LAST-MODIFIED:20221115T192946Z
UID:10000560-1668470400-1668729599@www.pnwumc.org
SUMMARY:Greater Northwest Area Cabinet
DESCRIPTION:Members of the GNW Area Cabinet gather in person and remotely.
URL:https://www.pnwumc.org/event/greater-northwest-area-cabinet/
LOCATION:The Pacific Northwest Conference of the United Methodist Church\, 816 S 216th St\, Des Moines\, WA\, 98198\, United States
CATEGORIES:Greater NW Area,Meetings
ORGANIZER;CN="Rhondalei Gabuat":MAILTO:rgabuat@pnwumc.org
GEO:47.4095109;-122.3211638
X-APPLE-STRUCTURED-LOCATION;VALUE=URI;X-ADDRESS=The Pacific Northwest Conference of the United Methodist Church 816 S 216th St Des Moines WA 98198 United States;X-APPLE-RADIUS=500;X-TITLE=816 S 216th St:geo:-122.3211638,47.4095109
END:VEVENT
BEGIN:VEVENT
DTSTART;TZID=America/Los_Angeles:20180607T080000
DTEND;TZID=America/Los_Angeles:20180607T170000
DTSTAMP:20260420T150515
CREATED:20171130T022432Z
LAST-MODIFIED:20180119T213159Z
UID:10000189-1528358400-1528390800@www.pnwumc.org
SUMMARY:Seattle DCOM
DESCRIPTION:Conference Room #1
URL:https://www.pnwumc.org/event/seattle-dcom-10/
LOCATION:The Pacific Northwest Conference of the United Methodist Church\, 816 S 216th St\, Des Moines\, WA\, 98198\, United States
CATEGORIES:District,Meetings,SeaTac
ORGANIZER;CN="Rhondalei Gabuat":MAILTO:rgabuat@pnwumc.org
GEO:47.4095109;-122.3211638
X-APPLE-STRUCTURED-LOCATION;VALUE=URI;X-ADDRESS=The Pacific Northwest Conference of the United Methodist Church 816 S 216th St Des Moines WA 98198 United States;X-APPLE-RADIUS=500;X-TITLE=816 S 216th St:geo:-122.3211638,47.4095109
END:VEVENT
END:VCALENDAR