BEGIN:VCALENDAR
VERSION:2.0
PRODID:-//The Pacific Northwest Conference of The United Methodist Church - ECPv6.15.20//NONSGML v1.0//EN
CALSCALE:GREGORIAN
METHOD:PUBLISH
X-WR-CALNAME:The Pacific Northwest Conference of The United Methodist Church
X-ORIGINAL-URL:https://www.pnwumc.org
X-WR-CALDESC:Events for The Pacific Northwest Conference of The United Methodist Church
REFRESH-INTERVAL;VALUE=DURATION:PT1H
X-Robots-Tag:noindex
X-PUBLISHED-TTL:PT1H
BEGIN:VTIMEZONE
TZID:America/Los_Angeles
BEGIN:DAYLIGHT
TZOFFSETFROM:-0800
TZOFFSETTO:-0700
TZNAME:PDT
DTSTART:20250309T100000
END:DAYLIGHT
BEGIN:STANDARD
TZOFFSETFROM:-0700
TZOFFSETTO:-0800
TZNAME:PST
DTSTART:20251102T090000
END:STANDARD
BEGIN:DAYLIGHT
TZOFFSETFROM:-0800
TZOFFSETTO:-0700
TZNAME:PDT
DTSTART:20260308T100000
END:DAYLIGHT
BEGIN:STANDARD
TZOFFSETFROM:-0700
TZOFFSETTO:-0800
TZNAME:PST
DTSTART:20261101T090000
END:STANDARD
BEGIN:DAYLIGHT
TZOFFSETFROM:-0800
TZOFFSETTO:-0700
TZNAME:PDT
DTSTART:20270314T100000
END:DAYLIGHT
BEGIN:STANDARD
TZOFFSETFROM:-0700
TZOFFSETTO:-0800
TZNAME:PST
DTSTART:20271107T090000
END:STANDARD
END:VTIMEZONE
BEGIN:VEVENT
DTSTART;TZID=America/Los_Angeles:20260209T183000
DTEND;TZID=America/Los_Angeles:20260209T203000
DTSTAMP:20260422T075647
CREATED:20251126T030420Z
LAST-MODIFIED:20251126T033805Z
UID:10001635-1770661800-1770669000@www.pnwumc.org
SUMMARY:Lay Servant Ministries Foundations (Basic) Course
DESCRIPTION:This is a foundational course designed to equip church leaders in the United Methodist Church. It explores: personal spiritual gifts; servant leadership; each leader’s role in developing future leaders; the importance of consistent spiritual practices; “God’s call to a life of servanthood” as a disciple of Jesus Christ; and the core ministries of Leading\, Caring\, and Communicating. \nCOURSE DATES: February 9\, 16\, 23\, March 2 & 9.  \nTIME: Mondays  6:30 – 8:30 pm  PST     \nZoom Course: Save your registration; the Zoom link is at the top of your confirmation. \n*COST:  $13.00 for the cost of the book “Lay Servant Ministries: The Basic Course\,” Participant’s Book by Sandy Zeigler Jackson and Brian Jackson  • DR626 • 978-0-88177-626-3 •  Available at Cokesbury and Upper Room. Ebooks are also available.  \nParticipant Requirements: Have the book named above\, read the 1st session before the first meeting\, and fully engage in all five sessions with audio and video active. Additional assignments will be provided in your welcome letter. \nINSTRUCTOR: Sheila Miranda\, PNW Lay Servant Ministries. Any questions about this class or Lay Servant Ministries in the PNW Annual Conference should be directed to Sheila Miranda\, smiranda@pnwumc.org \nRegister here by January 26\, 2026.
URL:https://www.pnwumc.org/event/lay-servant-ministries-foundations-basic-course/2026-02-09/
LOCATION:https://www.pnwumc.org/event/lay-servant-ministries-foundations-basic-course/2026-02-09/
CATEGORIES:Certified Lay Minister,Education,Greater NW Area,Laity,Local Church,Online Training,Training
ATTACH;FMTTYPE=image/jpeg:https://www.pnwumc.org/wp-content/uploads/2025/11/Lay-Servant-Ministries-Basic-Course-e1764128230745.jpg
ORGANIZER;CN="Sheila Miranda":MAILTO:SMiranda@pnwumc.org
END:VEVENT
BEGIN:VEVENT
DTSTART;TZID=America/Los_Angeles:20260212T090000
DTEND;TZID=America/Los_Angeles:20260212T150000
DTSTAMP:20260422T075647
CREATED:20251220T065243Z
LAST-MODIFIED:20251220T065243Z
UID:10001701-1770886800-1770908400@www.pnwumc.org
SUMMARY:Interfaith Advocacy Day 2026
DESCRIPTION:Exact Location details for our time in Olympia together will be announced closer to the event or once you register. Register today for your best chance to get an appointment with legislators in your district. \nClick here to register. | Click here to learn more. \nFaith Action Network’s Interfaith Advocacy Day brings the voices of compassion and justice to our elected leaders. Meeting with your legislators and their staff on this day is putting your faith into action! \nOn Interfaith Advocacy Day\, you will be able to: \n\nLearn more about the issues and legislation on FAN’s 2026 Legislative Agenda.\nMeet with advocates from your legislative district to prepare for your legislative visits.\nMeet with your legislator or their legislative assistant! If you register by January 29th\, FAN staff and our Legislative District Leads will set up an appointment for you and others from your district.\nLunch will be provided.\n\n\n\n\nREGISTRATION: Due to the generosity of our donors\, there is no cost this year to participate in FAN’s Interfaith Advocacy Day. You are welcome to donate to keep our advocacy moving forward in 2026 using this link Faith Action Network \nAfter you register\, you will receive more information via e-mail as February 12 approaches\, including details on the agenda\, workshop topics\, and times of your legislative appointments. \nCheck-in begins at 8:00 AM\, and the program begins at 8:30 AM. We’ll end by 3:00 PM.\n\n\n\n\n\n\nTRANSPORTATION:  \nCarpooling: We recommend carpooling with others from your faith community or your area\, especially if your faith community has a van. FAN does not organize carpools\, but as the date approaches\, we will put you in touch with others from your legislative district to help you self-organize carpools. \nParking: Please research parking that is available in a nearby state capitol lot or street parking. See Washington State Capitol Campus Parking Options.\n\n\n\n\n\n\nLODGING: There are a number of hotels nearby in Olympia for those traveling from faraway parts of the state. We will share more of our recommendations on our IFAD page in the coming days.Please contact fan@fanwa.org if you have further questions.\n\n\n\nWe’re excited to have you be FAN in the halls of power on this great day! \nContact us at fan@fanwa.org with any questions!
URL:https://www.pnwumc.org/event/interfaith-advocacy-day-2026/
LOCATION:WA
CATEGORIES:Networks
ATTACH;FMTTYPE=image/jpeg:https://www.pnwumc.org/wp-content/uploads/2025/01/Fanwa-Logo-Interfaith-Advocacy-Day-2025.jpg
END:VEVENT
END:VCALENDAR