BEGIN:VCALENDAR
VERSION:2.0
PRODID:-//The Pacific Northwest Conference of The United Methodist Church - ECPv6.15.20//NONSGML v1.0//EN
CALSCALE:GREGORIAN
METHOD:PUBLISH
X-ORIGINAL-URL:https://www.pnwumc.org
X-WR-CALDESC:Events for The Pacific Northwest Conference of The United Methodist Church
REFRESH-INTERVAL;VALUE=DURATION:PT1H
X-Robots-Tag:noindex
X-PUBLISHED-TTL:PT1H
BEGIN:VTIMEZONE
TZID:America/Los_Angeles
BEGIN:DAYLIGHT
TZOFFSETFROM:-0800
TZOFFSETTO:-0700
TZNAME:PDT
DTSTART:20240310T100000
END:DAYLIGHT
BEGIN:STANDARD
TZOFFSETFROM:-0700
TZOFFSETTO:-0800
TZNAME:PST
DTSTART:20241103T090000
END:STANDARD
BEGIN:DAYLIGHT
TZOFFSETFROM:-0800
TZOFFSETTO:-0700
TZNAME:PDT
DTSTART:20250309T100000
END:DAYLIGHT
BEGIN:STANDARD
TZOFFSETFROM:-0700
TZOFFSETTO:-0800
TZNAME:PST
DTSTART:20251102T090000
END:STANDARD
BEGIN:DAYLIGHT
TZOFFSETFROM:-0800
TZOFFSETTO:-0700
TZNAME:PDT
DTSTART:20260308T100000
END:DAYLIGHT
BEGIN:STANDARD
TZOFFSETFROM:-0700
TZOFFSETTO:-0800
TZNAME:PST
DTSTART:20261101T090000
END:STANDARD
END:VTIMEZONE
BEGIN:VEVENT
DTSTART;VALUE=DATE:20251013
DTEND;VALUE=DATE:20251014
DTSTAMP:20260422T145350
CREATED:20250106T182611Z
LAST-MODIFIED:20250106T182647Z
UID:10001117-1760313600-1760399999@www.pnwumc.org
SUMMARY:Indigenous Peoples' Day
DESCRIPTION:The conference office is closed in commemoration of Indigenous Peoples’ Day.
URL:https://www.pnwumc.org/event/indigenous-peoples-day/
LOCATION:WA
CATEGORIES:Annual Conference,Ethnic Ministries,Greater NW Area,Western Jurisdiction
ATTACH;FMTTYPE=image/png:https://www.pnwumc.org/wp-content/uploads/2023/01/Ind-peep-day.png
END:VEVENT
BEGIN:VEVENT
DTSTART;TZID=America/Los_Angeles:20251013T083000
DTEND;TZID=America/Los_Angeles:20251013T170000
DTSTAMP:20260422T145350
CREATED:20250903T221046Z
LAST-MODIFIED:20250904T022652Z
UID:10001598-1760344200-1760374800@www.pnwumc.org
SUMMARY:UMCOR Disaster Response - Early Response Team Basic Training
DESCRIPTION:Be ready for when the next disaster strikes to help those most in need. \nTrain now to be an Early Response Team member. \nOur next UMCOR Disaster Response – Early Response Team Basic Training is being offered on Saturday\, October 25\, 2025\, from 8:30 a.m. – 5 p.m. PT at Faith Church – Issaquah\, WA (3924 Issaquah-Pine Lake Rd SE\, Issaquah\, WA 98029). \nThe Early Response Team Basic Training will prepare you on ways to clean out a flooded home\, haul debris\, sift through ashes and work alongside survivors while staying safe. The class is taught by United Methodist Committee on Relief (UMCOR) certified trainers and includes examples of recent missions\, hands-on activities and an opportunity to meet people with a passion to serve. Anyone 18 years or older is welcomed to attend. \nThe registration fee is $26.57 and includes all training materials\, lunch and snacks. The registration deadline is Monday\, October 13th. There are several pre-requisites to complete before the class so please register ASAP. \nClick here to register! \nQuestions? Contact Kathy Bryson\, PNW Conference Disaster Response Coordinator\, at brysonpnw@gmail.com\, (509) 539-2978.
URL:https://www.pnwumc.org/event/umcor-disaster-response-early-response-team-basic-training-2/
LOCATION:Faith Church\, 3924 Issaquah-Pine Lake Rd SE\, Issaquah\, WA\, 98029\, United States
CATEGORIES:Disaster Response,Emergency Preparedness,Training
ATTACH;FMTTYPE=image/jpeg:https://www.pnwumc.org/wp-content/uploads/2025/09/ert-Basic-768x256-2.jpg
ORGANIZER;CN="Kathy Bryson":MAILTO:brysonpnw@gmail.com
GEO:47.5744073;-122.0210375
X-APPLE-STRUCTURED-LOCATION;VALUE=URI;X-ADDRESS=Faith Church 3924 Issaquah-Pine Lake Rd SE Issaquah WA 98029 United States;X-APPLE-RADIUS=500;X-TITLE=3924 Issaquah-Pine Lake Rd SE:geo:-122.0210375,47.5744073
END:VEVENT
BEGIN:VEVENT
DTSTART;TZID=America/Los_Angeles:20251014T183000
DTEND;TZID=America/Los_Angeles:20251014T203000
DTSTAMP:20260422T145350
CREATED:20250701T165142Z
LAST-MODIFIED:20250701T170526Z
UID:10001555-1760466600-1760473800@www.pnwumc.org
SUMMARY:Lay Servant Ministries: The Basic Course
DESCRIPTION:The “Introduction to Lay Ministry: The BASIC Course” is the foundational course for Lay Servant Ministries. This is the gateway course for those who are called to be Certified Lay Servants\, Lay Speakers\, and Lay Ministers. And can also be part of a person’s discipleship plan to acquaint you with your gifts\, calling\, and responsibilities as a follower of Christ. The course is being offered this Fall (Tuesdays\, 6:30 to 8:30 PM PDT\, September 9 – October 14 online for those interested in taking this next step in exploration. \nWhile the course is offered for those who register at no cost\, participants must secure a copy of the Lay Servant Ministries Participant’s Book (DR626 • 978-0-88177-626-3 • $11.00) by Sandy Zeigler Jackson and Brian Jackson. The participants’ book is available at Cokesbury and on Amazon in paperback and Kindle formats. \nParticipant Requirements: Have the book named above\, read the 1st session before the first course meeting\, and fully engage in all sessions with audio and video active. Additional assignments will be provided in your welcome letter. \nRegister Here: https://gnw-reg.brtapp.com/LayServantMinistriesBasicCourseSept
URL:https://www.pnwumc.org/event/lay-servant-ministries-the-basic-course/2025-10-14/
LOCATION:https://www.pnwumc.org/event/lay-servant-ministries-the-basic-course/2025-10-14/
CATEGORIES:Certified Lay Minister,Education,Greater NW Area,Laity,Online Training,Training
ATTACH;FMTTYPE=image/jpeg:https://www.pnwumc.org/wp-content/uploads/2014/10/layservantmin.jpg
ORGANIZER;CN="Laura Velonza":MAILTO:lvelonza@pnwumc.org
END:VEVENT
BEGIN:VEVENT
DTSTART;TZID=America/Los_Angeles:20251015T180000
DTEND;TZID=America/Los_Angeles:20251015T193000
DTSTAMP:20260422T145350
CREATED:20250903T164107Z
LAST-MODIFIED:20251007T225939Z
UID:10001596-1760551200-1760556600@www.pnwumc.org
SUMMARY:Q&A Opportunity to prepare for the Special Session
DESCRIPTION:On Wednesday\, October 15\, at 6 p.m. PT\, lay and clergy members of the Pacific Northwest Conferences are invited to bring questions they may have after reviewing the materials for the Special Session on October 29\, 2025. Non-members will be able to watch the session on the Special Session Resource Page. Members who register by the October 10 deadline will receive this meeting link by email. \nMembers of the Pacific Northwest Conference can find the legislation for consideration\, along with support materials\, on the Special Session Resource Page. This will serve as our Focus Session\, allowing voting members to receive the budget well in advance of voting on it so we can honor conference rules. \nDuring the meeting\, panelists will be present to help answer questions about the proposed conference budget and related matters. To make the best use of our time\, please review the materials your conference is providing before you formulate and ask questions. We will be utilizing Zoom’s Q&A feature to answer as many questions as possible.
URL:https://www.pnwumc.org/event/qa-opportunity-to-prepare-for-the-special-session-2/
LOCATION:https://www.pnwumc.org/event/qa-opportunity-to-prepare-for-the-special-session-2/
CATEGORIES:Annual Conference,Meetings
ATTACH;FMTTYPE=image/png:https://www.pnwumc.org/wp-content/uploads/2025/09/SpecialSessionQA.png
END:VEVENT
BEGIN:VEVENT
DTSTART;TZID=America/Los_Angeles:20251016T180000
DTEND;TZID=America/Los_Angeles:20251016T200000
DTSTAMP:20260422T145350
CREATED:20250401T214733Z
LAST-MODIFIED:20250701T191350Z
UID:10001566-1760637600-1760644800@www.pnwumc.org
SUMMARY:Lay Servant Ministries: Lay Pastoral Care Giving
DESCRIPTION:Lay Pastoral Care Giving offers insights into the life span and the dynamics of contemporary life\, helping church leaders reach out with God’s love and care to others. Expressing care to someone in need\, whether within the community of faith or beyond\, may seem the most natural thing in the world. For some\, it is\, for others\, it’s less so. All can improve. \nThe course is being offered online this October (Thursdays and Tuesdays\, 6 to 8 PM PDT) for those interested in taking the next step in their exploration. The instructor is Billie Fitzsimmons\, a Certified Lay Minister. \nWhile the course is offered for those who register at no cost\, participants must secure a copy of the Lay Pastoral Care Giving Participant’s Book (ISBN • 978-0-88177-554-9) by Tim. M Farabough. The participants’ book is available at Cokesbury and on Amazon in paperback and Kindle formats. \nParticipant Requirements: Each participant must have a book\, read it\, complete assignments\, and be fully engaged in all five\, two-hour sessions with audio and video capability active. \nRegister Here: https://gnw-reg.brtapp.com/LayPastoralCareGiving2025
URL:https://www.pnwumc.org/event/lay-pastoral-care-giving/2025-10-16/
LOCATION:https://www.pnwumc.org/event/lay-pastoral-care-giving/2025-10-16/
CATEGORIES:Certified Lay Minister,Greater NW Area,Laity,Online Training,Training
ATTACH;FMTTYPE=image/jpeg:https://www.pnwumc.org/wp-content/uploads/2025/04/laypastoralcare.jpg
ORGANIZER;CN="Laura Velonza":MAILTO:lvelonza@pnwumc.org
END:VEVENT
BEGIN:VEVENT
DTSTART;VALUE=DATE:20251017
DTEND;VALUE=DATE:20251019
DTSTAMP:20260422T145350
CREATED:20250113T232148Z
LAST-MODIFIED:20250707T172622Z
UID:10001125-1760659200-1760831999@www.pnwumc.org
SUMMARY:PNW United Women in Faith Annual Gathering
DESCRIPTION:Join United Women in Faith from across the PNW Conference for their 2025 Annual Gathering\, taking place October 17-18 at Bothell UMC. This year’s theme\, “If Not Now\, When?\,” calls us to be present\, courageous\, and faithful in the unique moment we’re living in. The keynote speaker is Jana Jones\, National President of United Women in Faith. \nWhether you are a longtime member or new to United Women in Faith\, you are welcome to be part of this weekend of worship\, learning\, fellowship\, and inspiration. \nPlease refer to the PNW United Women in Faith website for more information.
URL:https://www.pnwumc.org/event/pnw-united-women-in-faith-annual-gathering-2/
LOCATION:Bothell United Methodist Church\, 18515 92nd Ave NE\, Bothell\, 98011\, United States
CATEGORIES:Meetings,United Methodist Women,United Women in Faith
ATTACH;FMTTYPE=image/png:https://www.pnwumc.org/wp-content/uploads/2025/01/pnwuwf.png
ORGANIZER;CN="Deb Avery":MAILTO:davery51@q.com
GEO:47.7624306;-122.2189218
X-APPLE-STRUCTURED-LOCATION;VALUE=URI;X-ADDRESS=Bothell United Methodist Church 18515 92nd Ave NE Bothell 98011 United States;X-APPLE-RADIUS=500;X-TITLE=18515 92nd Ave NE:geo:-122.2189218,47.7624306
END:VEVENT
BEGIN:VEVENT
DTSTART;TZID=America/Los_Angeles:20251017T080000
DTEND;TZID=America/Los_Angeles:20251017T120000
DTSTAMP:20260422T145350
CREATED:20250113T231941Z
LAST-MODIFIED:20250113T232918Z
UID:10001124-1760688000-1760702400@www.pnwumc.org
SUMMARY:PNW United Women in Faith Leadership Team Planning
DESCRIPTION:Please refer to the PNW United Women in Faith website for more information and precise times.
URL:https://www.pnwumc.org/event/pnw-united-women-in-faith-leadership-team-planning/
LOCATION:Bothell United Methodist Church\, 18515 92nd Ave NE\, Bothell\, 98011\, United States
CATEGORIES:Meetings,United Methodist Women,United Women in Faith
ATTACH;FMTTYPE=image/png:https://www.pnwumc.org/wp-content/uploads/2025/01/pnwuwf.png
ORGANIZER;CN="Deb Avery":MAILTO:davery51@q.com
GEO:47.7624306;-122.2189218
X-APPLE-STRUCTURED-LOCATION;VALUE=URI;X-ADDRESS=Bothell United Methodist Church 18515 92nd Ave NE Bothell 98011 United States;X-APPLE-RADIUS=500;X-TITLE=18515 92nd Ave NE:geo:-122.2189218,47.7624306
END:VEVENT
BEGIN:VEVENT
DTSTART;TZID=America/Los_Angeles:20251018T090000
DTEND;TZID=America/Los_Angeles:20251018T170000
DTSTAMP:20260422T145350
CREATED:20250903T212808Z
LAST-MODIFIED:20250904T023742Z
UID:10001597-1760778000-1760806800@www.pnwumc.org
SUMMARY:Connecting Neighbors preparedness training
DESCRIPTION:Be the Connection Before\, During\, and After Disaster \nWhether you’re a church leader\, volunteer\, or someone who simply wants to be part of the solution\, this training equips you to care for your family\, your congregation\, and your neighbors before and after disaster strikes. Anyone in the GNW Area is invited to attend! \nWho Should Attend?\nAnyone in your church community—no special background or experience required! \nWhat You’ll Learn: \nReady Congregants – How to prepare yourself and your household\nReady Churches – How to protect your church property and people\nReady Response – How to serve your community in disaster response and recovery \nWant to Go a Step Further?\nYou can become a Connecting Neighbors Ambassador—trained and resourced to lead workshops in your own church and beyond. It’s a great way to multiply impact and help others get ready\, too. \nThis training is FREE! Lunch\, snacks and materials are all included. Registration Closes Friday\, October 10. \nLet’s prepare together—because loving our neighbors means being ready to show up when they need us most. \nDownload a flier to promote this event! \nClick here to register today!
URL:https://www.pnwumc.org/event/connecting-neighbors-preparedness-training/
LOCATION:Edmonds United Methodist Church\, 828 Caspers Street\, Edmonds\, WA\, 98020\, United States
CATEGORIES:Disaster Response,Emergency Preparedness,Training,UMVIM
ATTACH;FMTTYPE=image/jpeg:https://www.pnwumc.org/wp-content/uploads/2025/09/Connecting-neighbors.jpg
ORGANIZER;CN="Kathy Bryson":MAILTO:brysonpnw@gmail.com
GEO:47.8176703;-122.3690318
X-APPLE-STRUCTURED-LOCATION;VALUE=URI;X-ADDRESS=Edmonds United Methodist Church 828 Caspers Street Edmonds WA 98020 United States;X-APPLE-RADIUS=500;X-TITLE=828 Caspers Street:geo:-122.3690318,47.8176703
END:VEVENT
END:VCALENDAR