BEGIN:VCALENDAR
VERSION:2.0
PRODID:-//The Pacific Northwest Conference of The United Methodist Church - ECPv6.15.20//NONSGML v1.0//EN
CALSCALE:GREGORIAN
METHOD:PUBLISH
X-ORIGINAL-URL:https://www.pnwumc.org
X-WR-CALDESC:Events for The Pacific Northwest Conference of The United Methodist Church
REFRESH-INTERVAL;VALUE=DURATION:PT1H
X-Robots-Tag:noindex
X-PUBLISHED-TTL:PT1H
BEGIN:VTIMEZONE
TZID:America/Los_Angeles
BEGIN:DAYLIGHT
TZOFFSETFROM:-0800
TZOFFSETTO:-0700
TZNAME:PDT
DTSTART:20240310T100000
END:DAYLIGHT
BEGIN:STANDARD
TZOFFSETFROM:-0700
TZOFFSETTO:-0800
TZNAME:PST
DTSTART:20241103T090000
END:STANDARD
BEGIN:DAYLIGHT
TZOFFSETFROM:-0800
TZOFFSETTO:-0700
TZNAME:PDT
DTSTART:20250309T100000
END:DAYLIGHT
BEGIN:STANDARD
TZOFFSETFROM:-0700
TZOFFSETTO:-0800
TZNAME:PST
DTSTART:20251102T090000
END:STANDARD
BEGIN:DAYLIGHT
TZOFFSETFROM:-0800
TZOFFSETTO:-0700
TZNAME:PDT
DTSTART:20260308T100000
END:DAYLIGHT
BEGIN:STANDARD
TZOFFSETFROM:-0700
TZOFFSETTO:-0800
TZNAME:PST
DTSTART:20261101T090000
END:STANDARD
END:VTIMEZONE
BEGIN:VEVENT
DTSTART;TZID=America/Los_Angeles:20250519T123000
DTEND;TZID=America/Los_Angeles:20250519T163000
DTSTAMP:20260422T235014
CREATED:20250123T182854Z
LAST-MODIFIED:20250123T183915Z
UID:10001141-1747657800-1747672200@www.pnwumc.org
SUMMARY:Crest to Coast dcom Meeting
DESCRIPTION:If you have questions or would like to be added to this calendar event\, please contact Sue Ostrom.
URL:https://www.pnwumc.org/event/crest-to-coast-dcom-meeting/2025-05-19/
LOCATION:Zoom
ORGANIZER;CN="Sue Ostrom":MAILTO:pastorsue@millplainumc.org
END:VEVENT
BEGIN:VEVENT
DTSTART;TZID=America/Los_Angeles:20250519T183000
DTEND;TZID=America/Los_Angeles:20250519T183000
DTSTAMP:20260422T235014
CREATED:20250329T001026Z
LAST-MODIFIED:20250329T001026Z
UID:10001161-1747679400-1747679400@www.pnwumc.org
SUMMARY:Understanding the Constitutional Amendments
DESCRIPTION:In May\, the Western Jurisdiction is providing a webinar to prepare members to learn about the four proposed amendments to our United Methodist Constitution. \nThis year’s Annual Conference gatherings require votes that impact our worldwide connection\, and we want you to be informed and involved. Your participation matters! \nAt the General Conference 2020/2024 meeting\, four pieces of legislation passed that would change the denomination’s constitution. In order for these changes to go into effect\, the legislation must be ratified by the collective votes of annual and central conferences of the UMC. Throughout 2025\, all central and annual conferences will be asked to vote on these important topics at their Annual Conference meetings. \nThe four pieces for ratification are: \n\nBallot #1: Regionalization: Changing the structure of the UMC to create equity across the worldwide church.\nBallot #2: Expand inclusiveness in church membership\, especially as it relates to gender and ability.\nBallot #3: Stand against racism and colonialism.\nBallot #4: Clarify local pastor status regarding who can vote for clergy delegates.\n\nUnderstanding these amendments is crucial as we move forward together\, as each will impact how we operate as a global church. The Western Jurisdiction has prepared information on each to help you cast your vote. Lay and clergy members of the annual conference are invited to learn more and prepare for this critical vote by joining us on May 19 at 6:30 pm PDT for an information webinar where you can learn more from your ratification conference teams\, and ask any questions you may have. \nREGISTER NOW AT THIS LINK
URL:https://www.pnwumc.org/event/understanding-the-constitutional-amendments/
LOCATION:https://www.pnwumc.org/event/understanding-the-constitutional-amendments/
CATEGORIES:Online Training,Western Jurisdiction
ATTACH;FMTTYPE=image/jpeg:https://www.pnwumc.org/wp-content/uploads/2025/03/WJ-Ratification-Webinar-Feature-1.jpg
END:VEVENT
BEGIN:VEVENT
DTSTART;TZID=America/Los_Angeles:20250521T183000
DTEND;TZID=America/Los_Angeles:20250521T203000
DTSTAMP:20260422T235014
CREATED:20241204T232722Z
LAST-MODIFIED:20241204T232834Z
UID:10001108-1747852200-1747859400@www.pnwumc.org
SUMMARY:Lay Servant Ministries: Discovering and Using Spiritual Gifts
DESCRIPTION:Lay Servants who have completed the Basic Course are invited to participate in this five-week class on discovering and using your spiritual gifts\, led by Rev. Dr. Desi Larson\, from April 23rd – May 21st\, 2025. The class will be held on Zoom on Wednesdays from 6:30-8:30 PM. This class is worth 1 CEU and counts toward either Lay Servant or Lay Speaker Certification. It is also a prerequisite for Certified Lay Minister Modules. \nThis course helps participants understand spiritual gifts and how the church can use them to fulfill its mission and ministry. Participants will also learn what it means to be a spiritual leader and will be equipped to lead others in exploring and using their spiritual gifts. \nThe Rev. Dr. Desi Larson is a member of the Oregon-Idaho Conference\, currently serving as Pastor of Trinity UMC in Sequim\, WA. Prior to moving to the western US in 2016\, Desi was a member of the New England Conference and served as Pastor of several churches in Maine. Desi holds a BA degree in English and Visual Arts from Waynesburg College in Pennsylvania and a Master of Divinity from Boston University in Massachusetts. Being a life-long learner\, Pastor Desi also received MS and Ph.D. degrees in Adult Education from Cornell University in New York. \nDATES: April 23\, 30\, May 7\, 14\, & 21 \nTIME: Wednesdays 6:30-8:30 pm PST     \nWHERE: Zoom (Link will be sent with registration confirmation)  \nFEE:  the cost of the book — For the Common Good: Discovering and Using Your Spiritual Gifts by Christine Harman ($10.49 at Cokesbury\, Upper Room\, or Amazon; ISBN 13: 9780802870971) \nParticipant Requirements: Must have completed the Basic course. Each participant must have a book\, read it prior to the first session\, complete assignments\, and be fully engaged in all 5 sessions with audio and video capability active. The registration deadline is April 9. \nContact Rev Sheila Miranda\, smiranda@pnwumc.org\, with questions or if you need assistance. \nTo register\, click here.
URL:https://www.pnwumc.org/event/lay-servant-ministries-discovering-and-using-spiritual-gifts/2025-05-21/
LOCATION:Zoom Webinar\, United States
CATEGORIES:Laity,Online Training,Training
ATTACH;FMTTYPE=image/png:https://www.pnwumc.org/wp-content/uploads/2024/12/LSM-Discovering-Spiritual-Gifts.png
ORGANIZER;CN="Sheila Miranda":MAILTO:SMiranda@pnwumc.org
GEO:37.09024;-95.712891
END:VEVENT
BEGIN:VEVENT
DTSTART;TZID=America/Los_Angeles:20250523T093000
DTEND;TZID=America/Los_Angeles:20250523T160000
DTSTAMP:20260422T235014
CREATED:20250430T181007Z
LAST-MODIFIED:20250430T181007Z
UID:10001179-1747992600-1748016000@www.pnwumc.org
SUMMARY:Using A.I. Tools in the Church
DESCRIPTION:So maybe you’ve heard all the buzz about A.I. in the news over the last year. Perhaps you’re thinking\, what is it\, what impact does it have on the church\, should be using it\, and is it the devil incarnate? If you’ve been asking any of those questions\, are curious\, convinced\, or are dead set against it\, we have the training for you. \nJason Moore has been a longtime proponent for the use of technology in the church. For decades he’s been leading trainings on the use of media\, screens\, visuals\, hybrid and more. And now he’s helping the church embrace Artificial Intelligence in ministry. \nClick here to register for this in-person event. \nIn this day-long training\, Jason will walk you through what A.I. is\, why we should be using it in the church (with theological underpinnings to back it up)\, how to use it (and how not to use it)\, and even where the ethical lines are that we should not be crossing. During the day\, Jason will expose you to the tools\, help you know which are best for what scenarios\, talk about copyright\, ethics and do several real-time demos. We’ll also cover 10 distinct ways to use A.I. in ministry. \nIf you’d like a broad primer on A.I. to see how it could benefit your ministry\, this is for you. And don’t worry\, it’s not highly technical. \nYou also won’t have to go broke with A.I. because many of the tools are free or inexpensive. Bring your computer and follow along\, or just sit back\, watch and observe. \nLunch will be provided for all registered participants! \n\nLocation Details: Emmaus Center (Or Olivet) at Cathedra of the Rockies Downtown Campus\nCost: \n\n\n\nIndividual Registrant: $59\nTeam Registration (for 3 or more): $15 off each registration for groups of 3 or more!\nCOTR Member: $39 with discount code COTR
URL:https://www.pnwumc.org/event/using-a-i-tools-in-the-church-2/
LOCATION:Cathedral of the Rockies\, 717 N. 11th St.\, Boise\, ID\, 83702\, United States
CATEGORIES:Greater NW Area,Networks,Training
ATTACH;FMTTYPE=image/jpeg:https://www.pnwumc.org/wp-content/uploads/2025/04/Unknown.jpeg
GEO:43.6226137;-116.2026794
X-APPLE-STRUCTURED-LOCATION;VALUE=URI;X-ADDRESS=Cathedral of the Rockies 717 N. 11th St. Boise ID 83702 United States;X-APPLE-RADIUS=500;X-TITLE=717 N. 11th St.:geo:-116.2026794,43.6226137
END:VEVENT
BEGIN:VEVENT
DTSTART;TZID=America/Los_Angeles:20250524T110000
DTEND;TZID=America/Los_Angeles:20250524T160000
DTSTAMP:20260422T235014
CREATED:20250424T005913Z
LAST-MODIFIED:20250424T005913Z
UID:10001177-1748084400-1748102400@www.pnwumc.org
SUMMARY:CWJFON Immigration Clinic w/Free Consultations
DESCRIPTION:Immigration attorneys will be providing free immigration consultations for individuals who need them on May 24 from 11 a.m. to 4 p.m. at the Glenn Anthon Hall on the Yakima Valley College Yakima Campus. Call Central Washington Justice For Our Neighbors (CWJFON) at (509) 300-1101 and leave a voicemail. They will call you back to set up a 30 minute consultation time for you. \nDownload the Event Flyer | English | Español
URL:https://www.pnwumc.org/event/cwjfon-immigration-clinic-w-free-consultations/
LOCATION:Glenn Anthon Hall\, 1001 S 16th Ave\, Yakima\, 98902\, United States
CATEGORIES:Ethnic Ministries,Hispanic Ministries,Networks
ATTACH;FMTTYPE=image/jpeg:https://www.pnwumc.org/wp-content/uploads/2025/04/ImmigrationClinic16-9.jpg
END:VEVENT
END:VCALENDAR