BEGIN:VCALENDAR
VERSION:2.0
PRODID:-//The Pacific Northwest Conference of The United Methodist Church - ECPv6.15.20//NONSGML v1.0//EN
CALSCALE:GREGORIAN
METHOD:PUBLISH
X-ORIGINAL-URL:https://www.pnwumc.org
X-WR-CALDESC:Events for The Pacific Northwest Conference of The United Methodist Church
REFRESH-INTERVAL;VALUE=DURATION:PT1H
X-Robots-Tag:noindex
X-PUBLISHED-TTL:PT1H
BEGIN:VTIMEZONE
TZID:America/Los_Angeles
BEGIN:DAYLIGHT
TZOFFSETFROM:-0800
TZOFFSETTO:-0700
TZNAME:PDT
DTSTART:20240310T100000
END:DAYLIGHT
BEGIN:STANDARD
TZOFFSETFROM:-0700
TZOFFSETTO:-0800
TZNAME:PST
DTSTART:20241103T090000
END:STANDARD
BEGIN:DAYLIGHT
TZOFFSETFROM:-0800
TZOFFSETTO:-0700
TZNAME:PDT
DTSTART:20250309T100000
END:DAYLIGHT
BEGIN:STANDARD
TZOFFSETFROM:-0700
TZOFFSETTO:-0800
TZNAME:PST
DTSTART:20251102T090000
END:STANDARD
BEGIN:DAYLIGHT
TZOFFSETFROM:-0800
TZOFFSETTO:-0700
TZNAME:PDT
DTSTART:20260308T100000
END:DAYLIGHT
BEGIN:STANDARD
TZOFFSETFROM:-0700
TZOFFSETTO:-0800
TZNAME:PST
DTSTART:20261101T090000
END:STANDARD
END:VTIMEZONE
BEGIN:VEVENT
DTSTART;TZID=America/Los_Angeles:20250306T180000
DTEND;TZID=America/Los_Angeles:20250306T200000
DTSTAMP:20260423T063244
CREATED:20250121T232008Z
LAST-MODIFIED:20250401T215001Z
UID:10001132-1741284000-1741291200@www.pnwumc.org
SUMMARY:Lay Servant Ministries: Advanced Course - Called To Preach\, Section 2
DESCRIPTION:Join Rev. Joanne Coleman Campbell as she leads you through the Advanced Course on Preaching\, “Called to Preach.” This course is designed for those who have not completed formal preaching training\, for pastors seeking a basic refresher course\, and for others who are called upon to preach in a pastor’s absence. Called to Preach is the required preaching course in the lay Speaker track of study. Click here to register.
URL:https://www.pnwumc.org/event/lay-servant-ministries-advanced-course-called-to-preach-section-2/2025-03-06/
LOCATION:Zoom
CATEGORIES:Certified Lay Minister,Laity
ATTACH;FMTTYPE=image/png:https://www.pnwumc.org/wp-content/uploads/2025/01/Called-to-Preach-Section-2-featured-image.png
ORGANIZER;CN="Joanne Coleman Campbell":MAILTO:jecolecamp@gmail.com
END:VEVENT
BEGIN:VEVENT
DTSTART;TZID=America/Los_Angeles:20250308T090000
DTEND;TZID=America/Los_Angeles:20250308T163000
DTSTAMP:20260423T063244
CREATED:20250221T190844Z
LAST-MODIFIED:20250221T190844Z
UID:10001155-1741424400-1741451400@www.pnwumc.org
SUMMARY:2025 Weaving Our Strengths
DESCRIPTION:The Church Council of Greater Seattle is hosting its 2025 Weaving Our Strengths on Saturday\, March 8 at University Congregational United Church of Christ (4515 16th Ave NE). \nJoin them for a day of workshops and reflection on the community organizing principles and anti-racism values that ground us in transformational change for liberation & justice. \nWorkshop Offerings: \n\nCrossroads Antiracism + Community Organizing Spiral\nActing Intentionally Toward Transformation: Introduction to the Faith Land Initiative\n\nSanctuary Q & A\n\nKnow Your Rights\n\nRapid Response Training\n\nFondo de Grupo de Solidaridad (listening session)\nBudgets Are A Moral Document! Panel\n\nClick here to RSVP!
URL:https://www.pnwumc.org/event/2025-weaving-our-strengths/
LOCATION:University Congregational UCC Church\, 4515 16th Ave. NE\, Seattle\, WA\, 98105\, United States
CATEGORIES:Networks
ATTACH;FMTTYPE=image/jpeg:https://www.pnwumc.org/wp-content/uploads/2025/02/thechurchcouncil-logo.jpg
GEO:47.6618561;-122.3111856
X-APPLE-STRUCTURED-LOCATION;VALUE=URI;X-ADDRESS=University Congregational UCC Church 4515 16th Ave. NE Seattle WA 98105 United States;X-APPLE-RADIUS=500;X-TITLE=4515 16th Ave. NE:geo:-122.3111856,47.6618561
END:VEVENT
END:VCALENDAR