BEGIN:VCALENDAR
VERSION:2.0
PRODID:-//The Pacific Northwest Conference of The United Methodist Church - ECPv6.15.20//NONSGML v1.0//EN
CALSCALE:GREGORIAN
METHOD:PUBLISH
X-ORIGINAL-URL:https://www.pnwumc.org
X-WR-CALDESC:Events for The Pacific Northwest Conference of The United Methodist Church
REFRESH-INTERVAL;VALUE=DURATION:PT1H
X-Robots-Tag:noindex
X-PUBLISHED-TTL:PT1H
BEGIN:VTIMEZONE
TZID:America/Los_Angeles
BEGIN:DAYLIGHT
TZOFFSETFROM:-0800
TZOFFSETTO:-0700
TZNAME:PDT
DTSTART:20240310T100000
END:DAYLIGHT
BEGIN:STANDARD
TZOFFSETFROM:-0700
TZOFFSETTO:-0800
TZNAME:PST
DTSTART:20241103T090000
END:STANDARD
BEGIN:DAYLIGHT
TZOFFSETFROM:-0800
TZOFFSETTO:-0700
TZNAME:PDT
DTSTART:20250309T100000
END:DAYLIGHT
BEGIN:STANDARD
TZOFFSETFROM:-0700
TZOFFSETTO:-0800
TZNAME:PST
DTSTART:20251102T090000
END:STANDARD
BEGIN:DAYLIGHT
TZOFFSETFROM:-0800
TZOFFSETTO:-0700
TZNAME:PDT
DTSTART:20260308T100000
END:DAYLIGHT
BEGIN:STANDARD
TZOFFSETFROM:-0700
TZOFFSETTO:-0800
TZNAME:PST
DTSTART:20261101T090000
END:STANDARD
END:VTIMEZONE
BEGIN:VEVENT
DTSTART;TZID=America/Los_Angeles:20250120T080000
DTEND;TZID=America/Los_Angeles:20250120T170000
DTSTAMP:20260423T081526
CREATED:20250106T181117Z
LAST-MODIFIED:20250106T181117Z
UID:10001112-1737360000-1737392400@www.pnwumc.org
SUMMARY:Martin Luther King Jr. Day
DESCRIPTION:The conference office is closed in commemoration.
URL:https://www.pnwumc.org/event/martin-luther-king-jr-day/
LOCATION:WA
CATEGORIES:Annual Conference,Ethnic Ministries,Greater NW Area,Western Jurisdiction
END:VEVENT
BEGIN:VEVENT
DTSTART;TZID=America/Los_Angeles:20250122T110000
DTEND;TZID=America/Los_Angeles:20250122T123000
DTSTAMP:20260423T081526
CREATED:20241120T023657Z
LAST-MODIFIED:20241120T023657Z
UID:10001028-1737543600-1737549000@www.pnwumc.org
SUMMARY:Board of Discipleship
DESCRIPTION:The Board of Discipleship is planning to meet on this date to continue its connectional work. Please contact Rev. DJ del Rosario for any additional information about this meeting.
URL:https://www.pnwumc.org/event/board-of-discipleship/2025-01-22/
LOCATION:https://www.pnwumc.org/event/board-of-discipleship/2025-01-22/
CATEGORIES:Discipleship,Meetings
ATTACH;FMTTYPE=image/jpeg:https://www.pnwumc.org/wp-content/uploads/2024/11/Board-of-Discipleship.jpg
ORGANIZER;CN="DJ del Rosario":MAILTO:dj@revdj.com
END:VEVENT
BEGIN:VEVENT
DTSTART;TZID=America/Los_Angeles:20250122T183000
DTEND;TZID=America/Los_Angeles:20250122T203000
DTSTAMP:20260423T081526
CREATED:20241204T232322Z
LAST-MODIFIED:20241204T233003Z
UID:10001096-1737570600-1737577800@www.pnwumc.org
SUMMARY:Lay Servant Ministries: Leading Public Prayer
DESCRIPTION:Lay Servants who have completed the Basic Course in Lay Servant Ministries are invited to participate in this five-week class on leading public prayer\, led by Rev. Dr. Desi Larson\, from January 8th – February 5th\, 2025. The class will be held on Zoom on Wednesdays from 6:30-8:30 PM. This class is worth 1 CEU and counts toward either Lay Servant or Lay Speaker Certification. \nPraying in public can be daunting\, but prayer is something one learns. This course on praying in public will help the participant grow in confidence and skill in public prayer and enrich their personal prayer life. \nThe Rev. Dr. Desi Larson is a member of the Oregon-Idaho Conference\, currently serving as Pastor of Trinity UMC in Sequim\, WA. Prior to moving to the western US in 2016\, Desi was a member of the New England Conference and served as Pastor of several churches in Maine. Desi holds a BA degree in English and Visual Arts from Waynesburg College in Pennsylvania and a Master of Divinity from Boston University in Massachusetts. Being a life-long learner\, Pastor Desi also received MS and Ph.D. degrees in Adult Education from Cornell University in New York. \nDATES: January 8\, 15\, 22\, 29\, and February 5 \nTIME: Wednesdays 6:30-8:30 pm PST     \nWHERE: Zoom (Link will be sent with registration confirmation)  \nFEE:  the cost of the book — Shaping the Prayers of the People: The Art of Intercession by Samuel Wells and Abigail Kocher ($15.29 at Cokesbury or Amazon; ISBN 13: 9780802870971) \nParticipants Requirements: Must have completed the Basic course. Each participant must have a book\, read it\, complete assignments\, and be fully engaged in all 5 sessions with audio and video capability active. Registration deadline is December 27\, 2024. \nContact Rev Sheila Miranda\, smiranda@pnwumc.org\, with questions or if you need assistance. \nTo register\, click here.
URL:https://www.pnwumc.org/event/lay-servant-ministries-leading-public-prayer/2025-01-22/
LOCATION:Zoom Webinar\, United States
CATEGORIES:Laity,Online Training,Training
ATTACH;FMTTYPE=image/png:https://www.pnwumc.org/wp-content/uploads/2024/12/LSM-Leading-Public-Prayer.png
ORGANIZER;CN="Sheila Miranda":MAILTO:SMiranda@pnwumc.org
GEO:37.09024;-95.712891
END:VEVENT
BEGIN:VEVENT
DTSTART;TZID=America/Los_Angeles:20250123T130000
DTEND;TZID=America/Los_Angeles:20250123T153000
DTSTAMP:20260423T081526
CREATED:20241112T220729Z
LAST-MODIFIED:20241120T000420Z
UID:10000986-1737637200-1737646200@www.pnwumc.org
SUMMARY:Grief Workshop With Sue Magrath
DESCRIPTION:Clergy of the Inland and Seven Rivers districts are invited to attend a four-week class on grief led by Sue Magrath from January 9th – 30th. The class will be held on Zoom on Thursday from 1:00 to 3:30 PM and will count as one CEU of your continuing education requirement. \nBased on Magrath’s new book\, Love Abides: The Sacrament of Grieving\, this class will explore the myths about grief and the many life events and losses that result in grief. We will examine the life experiences that shaped our thoughts about grief and how to challenge unhealthy beliefs and responses. We will dive into the situations unique to ministry that lead to grief yet are not always recognized as such. We will share our own grief stories\, practice the language of lament\, and gain more understanding of how to compassionately walk with parishioners who are grieving\, especially when their loss leads to a crisis of faith. Lastly\, we will seek to find meaning in our losses and transform them in life-giving ways that open us to hope and healing. \nSue Magrath is a retired mental health counselor and spiritual director who has been active in the Pacific Northwest Annual Conference for fourteen years. She has led retreats and workshops\, worked in clergy wellness\, served on the Board of Ordained Ministry’s formation committee\, and preached whenever she has the opportunity. Sue has led Advanced Boundary classes every quadrennium since 2012. She is the author of four books\, including My Burden is Light: A Primer for Clergy Wellness. \n  \nTIME: Thursdays 1-3:30 pm  PST     \nDATES: January 9\, 16\, 23\, and 30.  \nWHERE: Zoom (Link will be sent with registration confirmation)  \n*COST:  $15 Registration Fee  \nSue’s Book Love Abides is available on Kindle or from Amazon here\, but it is not necessary for this class. \nRegister Here: https://gnw-reg.brtapp.com/2025GriefWorkshop
URL:https://www.pnwumc.org/event/grief-workshop-with-sue-magrath/2025-01-23/
LOCATION:Zoom
CATEGORIES:Inland,Online Training,Seven Rivers
ATTACH;FMTTYPE=image/jpeg:https://www.pnwumc.org/wp-content/uploads/2024/11/love-abides.jpg
ORGANIZER;CN="Laura Velonza":MAILTO:lvelonza@pnwumc.org
END:VEVENT
END:VCALENDAR