BEGIN:VCALENDAR
VERSION:2.0
PRODID:-//The Pacific Northwest Conference of The United Methodist Church - ECPv6.15.20//NONSGML v1.0//EN
CALSCALE:GREGORIAN
METHOD:PUBLISH
X-ORIGINAL-URL:https://www.pnwumc.org
X-WR-CALDESC:Events for The Pacific Northwest Conference of The United Methodist Church
REFRESH-INTERVAL;VALUE=DURATION:PT1H
X-Robots-Tag:noindex
X-PUBLISHED-TTL:PT1H
BEGIN:VTIMEZONE
TZID:America/Los_Angeles
BEGIN:DAYLIGHT
TZOFFSETFROM:-0800
TZOFFSETTO:-0700
TZNAME:PDT
DTSTART:20230312T100000
END:DAYLIGHT
BEGIN:STANDARD
TZOFFSETFROM:-0700
TZOFFSETTO:-0800
TZNAME:PST
DTSTART:20231105T090000
END:STANDARD
BEGIN:DAYLIGHT
TZOFFSETFROM:-0800
TZOFFSETTO:-0700
TZNAME:PDT
DTSTART:20240310T100000
END:DAYLIGHT
BEGIN:STANDARD
TZOFFSETFROM:-0700
TZOFFSETTO:-0800
TZNAME:PST
DTSTART:20241103T090000
END:STANDARD
BEGIN:DAYLIGHT
TZOFFSETFROM:-0800
TZOFFSETTO:-0700
TZNAME:PDT
DTSTART:20250309T100000
END:DAYLIGHT
BEGIN:STANDARD
TZOFFSETFROM:-0700
TZOFFSETTO:-0800
TZNAME:PST
DTSTART:20251102T090000
END:STANDARD
END:VTIMEZONE
BEGIN:VEVENT
DTSTART;TZID=America/Los_Angeles:20240910T180000
DTEND;TZID=America/Los_Angeles:20240910T191500
DTSTAMP:20260423T162014
CREATED:20240815T232010Z
LAST-MODIFIED:20240815T232010Z
UID:10000892-1725991200-1725995700@www.pnwumc.org
SUMMARY:Setting Ministry Priorities Conversations - PNW #7
DESCRIPTION:Bishop Cedrick Bridgeforth has invited lay and clergy members within the Greater Northwest Area to conversations about resources\, ministry and collaboration in the area\, continuing conversations that annual conference members started when they met in June. This is another step in a discernment process that will help us determine ministry priorities and future opportunities to collaborate for better outcomes and greater efficiency. \n\n\nClick here to RSVP for this and other remaining opportunities.
URL:https://www.pnwumc.org/event/setting-ministry-priorities-conversations-pnw-7/
LOCATION:https://www.pnwumc.org/event/setting-ministry-priorities-conversations-pnw-7/
CATEGORIES:Greater NW Area
ATTACH;FMTTYPE=image/jpeg:https://www.pnwumc.org/wp-content/uploads/2024/08/Min-Prior-16-9.jpg
END:VEVENT
BEGIN:VEVENT
DTSTART;TZID=America/Los_Angeles:20240910T183000
DTEND;TZID=America/Los_Angeles:20240910T203000
DTSTAMP:20260423T162014
CREATED:20240605T200813Z
LAST-MODIFIED:20240605T200813Z
UID:10000870-1725993000-1726000200@www.pnwumc.org
SUMMARY:Introduction to Lay Servant Ministries: The Basic Course
DESCRIPTION:The “Introduction to Lay Servant Ministry: The BASIC Course” is the foundational course for Lay Servant Ministries. This is the gateway course for those who are called to be Certified Lay Servants\, Lay Speakers\, and Lay Ministers. And can also be part of a person’s discipleship plan to acquaint you with their gifts\, calling\, and responsibilities as followers of Christ. \nThis course will be offered over five two-hour sessions on Zoom on August 20 & 27\, September 10\, 17 & 24\, 2024\, from 6:30-8:30 p.m. PT. \nClick here for more information and to register today!
URL:https://www.pnwumc.org/event/introduction-to-lay-servant-ministries-the-basic-course-3/2024-09-10/
LOCATION:https://www.pnwumc.org/event/introduction-to-lay-servant-ministries-the-basic-course-3/2024-09-10/
ATTACH;FMTTYPE=image/png:https://www.pnwumc.org/wp-content/uploads/2023/08/LayServantMinistries16-9.png
ORGANIZER;CN="Sheila Miranda":MAILTO:SMiranda@pnwumc.org
END:VEVENT
BEGIN:VEVENT
DTSTART;TZID=America/Los_Angeles:20240914T093000
DTEND;TZID=America/Los_Angeles:20240914T143000
DTSTAMP:20260423T162014
CREATED:20240718T205942Z
LAST-MODIFIED:20240718T210049Z
UID:10000866-1726306200-1726324200@www.pnwumc.org
SUMMARY:Roots & Wings - Puget Sound District Training
DESCRIPTION:The Puget Sound Missional District is excited to bring back our event focused on leadership training for our laity! Because our district is geographically spread out\, we are hosting this event in three different locations on three different Saturdays. Come to the one that is closest to you or the date that works best for your calendar. There will be overlap in what workshops are offered on each day\, but you’re welcome to come to more than one event. Although this event is geared toward laity\, interested clergy may also attend. \nAugust 17 – Stanwood UMC\nSeptember 14 – Sequim Trinity UMC\nOctober 12 – Issaquah Faith UMC \n\nSome of the workshops being planned include: \n\nIndigenous Neighbor Engagement\nSolar Energy Projects\nServing the Unhoused/Volunteer Engagement\nGood Neighboring Experiment\nDisaster Preparedness/Response\nPlanned Giving/Endowments\nMessy Church\nEnvironmental Advocacy\nLay Servant Ministries/Certified Lay Ministries\n\nTo register\, click here.
URL:https://www.pnwumc.org/event/roots-wings-puget-sound-district-training-4/
LOCATION:Sequim Trinity UMC\, 100 S Blake Ave\, Sequim\, WA\, 98382
CATEGORIES:District,Laity,Puget Sound,Training
ATTACH;FMTTYPE=image/png:https://www.pnwumc.org/wp-content/uploads/2024/06/Roots-Wings.png
ORGANIZER;CN="Puget Sound District":MAILTO:etombaugh@pnwumc.org
END:VEVENT
END:VCALENDAR