BEGIN:VCALENDAR
VERSION:2.0
PRODID:-//The Pacific Northwest Conference of The United Methodist Church - ECPv6.15.20//NONSGML v1.0//EN
CALSCALE:GREGORIAN
METHOD:PUBLISH
X-ORIGINAL-URL:https://www.pnwumc.org
X-WR-CALDESC:Events for The Pacific Northwest Conference of The United Methodist Church
REFRESH-INTERVAL;VALUE=DURATION:PT1H
X-Robots-Tag:noindex
X-PUBLISHED-TTL:PT1H
BEGIN:VTIMEZONE
TZID:America/Los_Angeles
BEGIN:DAYLIGHT
TZOFFSETFROM:-0800
TZOFFSETTO:-0700
TZNAME:PDT
DTSTART:20230312T100000
END:DAYLIGHT
BEGIN:STANDARD
TZOFFSETFROM:-0700
TZOFFSETTO:-0800
TZNAME:PST
DTSTART:20231105T090000
END:STANDARD
BEGIN:DAYLIGHT
TZOFFSETFROM:-0800
TZOFFSETTO:-0700
TZNAME:PDT
DTSTART:20240310T100000
END:DAYLIGHT
BEGIN:STANDARD
TZOFFSETFROM:-0700
TZOFFSETTO:-0800
TZNAME:PST
DTSTART:20241103T090000
END:STANDARD
BEGIN:DAYLIGHT
TZOFFSETFROM:-0800
TZOFFSETTO:-0700
TZNAME:PDT
DTSTART:20250309T100000
END:DAYLIGHT
BEGIN:STANDARD
TZOFFSETFROM:-0700
TZOFFSETTO:-0800
TZNAME:PST
DTSTART:20251102T090000
END:STANDARD
END:VTIMEZONE
BEGIN:VEVENT
DTSTART;TZID=America/Los_Angeles:20240904T180000
DTEND;TZID=America/Los_Angeles:20240904T191500
DTSTAMP:20260423T144511
CREATED:20240815T230011Z
LAST-MODIFIED:20240815T230011Z
UID:10000890-1725472800-1725477300@www.pnwumc.org
SUMMARY:Setting Ministry Priorities Conversations - GNW #1
DESCRIPTION:Bishop Cedrick Bridgeforth has invited lay and clergy members within the Greater Northwest Area to conversations about resources\, ministry and collaboration in the area\, continuing conversations that annual conference members started when they met in June. This is another step in a discernment process that will help us determine ministry priorities and future opportunities to collaborate for better outcomes and greater efficiency. \n\n\nClick here to RSVP for this and other remaining opportunities.
URL:https://www.pnwumc.org/event/setting-ministry-priorities-conversations-gnw-1/
LOCATION:https://www.pnwumc.org/event/setting-ministry-priorities-conversations-gnw-1/
CATEGORIES:Greater NW Area
ATTACH;FMTTYPE=image/jpeg:https://www.pnwumc.org/wp-content/uploads/2024/08/Min-Prior-16-9.jpg
END:VEVENT
BEGIN:VEVENT
DTSTART;TZID=America/Los_Angeles:20240904T180000
DTEND;TZID=America/Los_Angeles:20240904T200000
DTSTAMP:20260423T144511
CREATED:20240724T203029Z
LAST-MODIFIED:20240724T203029Z
UID:10000884-1725472800-1725480000@www.pnwumc.org
SUMMARY:Pacific Northwest AC Hispanic/Latinx Pastors and Leaders Missional Priority Meeting
DESCRIPTION:Rev. Dr. Lydia Munoz will be leading a discussion with the Pacific Northwest AC Hispanic/Latinx Pastors and Leaders on the revision of our Hispanic/Latinx Strategic Plan. Together\, we will define our new priority mission for the years 2025-2028. \nFor any questions or further information\, please contact: \n\nAurora Pavon at L.a.c.p.3122@gmail.com\nRev. Cruz Edwin Santos at cruzsantos84@gmail.com
URL:https://www.pnwumc.org/event/pacific-northwest-ac-hispanic-latinx-pastors-and-leaders-missional-priority-meeting/
LOCATION:Zoom
CATEGORIES:Annual Conference,Ethnic Ministries,Hispanic Ministries
ORGANIZER;CN="Rev. Cruz Edwin Santos":MAILTO:cesantos@pnwumc.org
END:VEVENT
BEGIN:VEVENT
DTSTART;TZID=America/Los_Angeles:20240905T193000
DTEND;TZID=America/Los_Angeles:20240905T204500
DTSTAMP:20260423T144511
CREATED:20240815T230337Z
LAST-MODIFIED:20240815T230337Z
UID:10000891-1725564600-1725569100@www.pnwumc.org
SUMMARY:Setting Ministry Priorities Conversations - GNW #2
DESCRIPTION:Bishop Cedrick Bridgeforth has invited lay and clergy members within the Greater Northwest Area to conversations about resources\, ministry and collaboration in the area\, continuing conversations that annual conference members started when they met in June. This is another step in a discernment process that will help us determine ministry priorities and future opportunities to collaborate for better outcomes and greater efficiency. \n\n\nClick here to RSVP for this and other remaining opportunities.
URL:https://www.pnwumc.org/event/setting-ministry-priorities-conversations-gnw-2/
LOCATION:https://www.pnwumc.org/event/setting-ministry-priorities-conversations-gnw-2/
CATEGORIES:General Church
ATTACH;FMTTYPE=image/jpeg:https://www.pnwumc.org/wp-content/uploads/2024/08/Min-Prior-16-9.jpg
END:VEVENT
END:VCALENDAR