BEGIN:VCALENDAR
VERSION:2.0
PRODID:-//The Pacific Northwest Conference of The United Methodist Church - ECPv6.15.20//NONSGML v1.0//EN
CALSCALE:GREGORIAN
METHOD:PUBLISH
X-WR-CALNAME:The Pacific Northwest Conference of The United Methodist Church
X-ORIGINAL-URL:https://www.pnwumc.org
X-WR-CALDESC:Events for The Pacific Northwest Conference of The United Methodist Church
REFRESH-INTERVAL;VALUE=DURATION:PT1H
X-Robots-Tag:noindex
X-PUBLISHED-TTL:PT1H
BEGIN:VTIMEZONE
TZID:America/Los_Angeles
BEGIN:DAYLIGHT
TZOFFSETFROM:-0800
TZOFFSETTO:-0700
TZNAME:PDT
DTSTART:20230312T100000
END:DAYLIGHT
BEGIN:STANDARD
TZOFFSETFROM:-0700
TZOFFSETTO:-0800
TZNAME:PST
DTSTART:20231105T090000
END:STANDARD
BEGIN:DAYLIGHT
TZOFFSETFROM:-0800
TZOFFSETTO:-0700
TZNAME:PDT
DTSTART:20240310T100000
END:DAYLIGHT
BEGIN:STANDARD
TZOFFSETFROM:-0700
TZOFFSETTO:-0800
TZNAME:PST
DTSTART:20241103T090000
END:STANDARD
BEGIN:DAYLIGHT
TZOFFSETFROM:-0800
TZOFFSETTO:-0700
TZNAME:PDT
DTSTART:20250309T100000
END:DAYLIGHT
BEGIN:STANDARD
TZOFFSETFROM:-0700
TZOFFSETTO:-0800
TZNAME:PST
DTSTART:20251102T090000
END:STANDARD
END:VTIMEZONE
BEGIN:VEVENT
DTSTART;TZID=America/Los_Angeles:20240827T183000
DTEND;TZID=America/Los_Angeles:20240827T203000
DTSTAMP:20260423T162007
CREATED:20240605T200813Z
LAST-MODIFIED:20240605T200813Z
UID:10000869-1724783400-1724790600@www.pnwumc.org
SUMMARY:Introduction to Lay Servant Ministries: The Basic Course
DESCRIPTION:The “Introduction to Lay Servant Ministry: The BASIC Course” is the foundational course for Lay Servant Ministries. This is the gateway course for those who are called to be Certified Lay Servants\, Lay Speakers\, and Lay Ministers. And can also be part of a person’s discipleship plan to acquaint you with their gifts\, calling\, and responsibilities as followers of Christ. \nThis course will be offered over five two-hour sessions on Zoom on August 20 & 27\, September 10\, 17 & 24\, 2024\, from 6:30-8:30 p.m. PT. \nClick here for more information and to register today!
URL:https://www.pnwumc.org/event/introduction-to-lay-servant-ministries-the-basic-course-3/2024-08-27/
LOCATION:https://www.pnwumc.org/event/introduction-to-lay-servant-ministries-the-basic-course-3/2024-08-27/
ATTACH;FMTTYPE=image/png:https://www.pnwumc.org/wp-content/uploads/2023/08/LayServantMinistries16-9.png
ORGANIZER;CN="Sheila Miranda":MAILTO:SMiranda@pnwumc.org
END:VEVENT
BEGIN:VEVENT
DTSTART;TZID=America/Los_Angeles:20240829T150000
DTEND;TZID=America/Los_Angeles:20240829T160000
DTSTAMP:20260423T162007
CREATED:20240815T224205Z
LAST-MODIFIED:20240815T224205Z
UID:10000888-1724943600-1724947200@www.pnwumc.org
SUMMARY:Online CLM Orientation for Clergy
DESCRIPTION:The Desert Southwest Conference is inviting all clergy to join them in an “ABC’s of CLMs” session on Thursday\, Aug. 29\, 3-4 p.m. PT. You will hear from clergy persons who are in team ministry with Certified Lay Ministers (CLMs)\, learn about the application/accountability process for a CLM\, and “why” there should be a CLM at every church. \nWhile some of the process pieces may differ from conference to conference\, our PNW Conference Director of Lay Servant Ministry John Townsend recommends that clergy attend this event\, expecting that it will be a helpful and informative event. \nClick here to join this orientation on Zoom. \nFor event information\, contact Kathy Jewell at kpjewell7676@gmail.com.
URL:https://www.pnwumc.org/event/online-clm-orientation-for-clergy/
LOCATION:WA
CATEGORIES:Certified Lay Minister,Laity,Training
ATTACH;FMTTYPE=image/jpeg:https://www.pnwumc.org/wp-content/uploads/2016/09/Lay-servant-1x1-e1475794755829.jpg
END:VEVENT
BEGIN:VEVENT
DTSTART;TZID=America/Los_Angeles:20240829T180000
DTEND;TZID=America/Los_Angeles:20240829T191500
DTSTAMP:20260423T162007
CREATED:20240815T225641Z
LAST-MODIFIED:20240815T225641Z
UID:10000889-1724954400-1724958900@www.pnwumc.org
SUMMARY:Setting Ministry Priorities Conversations - PNW #6
DESCRIPTION:Bishop Cedrick Bridgeforth has invited lay and clergy members within the Greater Northwest Area to conversations about resources\, ministry and collaboration in the area\, continuing conversations that annual conference members started when they met in June. This is another step in a discernment process that will help us determine ministry priorities and future opportunities to collaborate for better outcomes and greater efficiency. \nClick here to RSVP for this and other remaining opportunities.
URL:https://www.pnwumc.org/event/setting-ministry-priorities-conversations-pnw-6/
LOCATION:https://www.pnwumc.org/event/setting-ministry-priorities-conversations-pnw-6/
CATEGORIES:General Church
ATTACH;FMTTYPE=image/jpeg:https://www.pnwumc.org/wp-content/uploads/2024/08/Min-Prior-16-9.jpg
END:VEVENT
END:VCALENDAR