BEGIN:VCALENDAR
VERSION:2.0
PRODID:-//The Pacific Northwest Conference of The United Methodist Church - ECPv6.15.20//NONSGML v1.0//EN
CALSCALE:GREGORIAN
METHOD:PUBLISH
X-ORIGINAL-URL:https://www.pnwumc.org
X-WR-CALDESC:Events for The Pacific Northwest Conference of The United Methodist Church
REFRESH-INTERVAL;VALUE=DURATION:PT1H
X-Robots-Tag:noindex
X-PUBLISHED-TTL:PT1H
BEGIN:VTIMEZONE
TZID:America/Los_Angeles
BEGIN:DAYLIGHT
TZOFFSETFROM:-0800
TZOFFSETTO:-0700
TZNAME:PDT
DTSTART:20230312T100000
END:DAYLIGHT
BEGIN:STANDARD
TZOFFSETFROM:-0700
TZOFFSETTO:-0800
TZNAME:PST
DTSTART:20231105T090000
END:STANDARD
BEGIN:DAYLIGHT
TZOFFSETFROM:-0800
TZOFFSETTO:-0700
TZNAME:PDT
DTSTART:20240310T100000
END:DAYLIGHT
BEGIN:STANDARD
TZOFFSETFROM:-0700
TZOFFSETTO:-0800
TZNAME:PST
DTSTART:20241103T090000
END:STANDARD
BEGIN:DAYLIGHT
TZOFFSETFROM:-0800
TZOFFSETTO:-0700
TZNAME:PDT
DTSTART:20250309T100000
END:DAYLIGHT
BEGIN:STANDARD
TZOFFSETFROM:-0700
TZOFFSETTO:-0800
TZNAME:PST
DTSTART:20251102T090000
END:STANDARD
END:VTIMEZONE
BEGIN:VEVENT
DTSTART;VALUE=DATE:20240423
DTEND;VALUE=DATE:20240504
DTSTAMP:20260423T214322
CREATED:20221115T183013Z
LAST-MODIFIED:20221115T183013Z
UID:10000555-1713830400-1714780799@www.pnwumc.org
SUMMARY:General Conference 2024
DESCRIPTION:The Commission on General Conference has announced that General Conference will be April 23-May 3\, 2024\, at Charlotte Convention Center in Charlotte\, North Carolina.
URL:https://www.pnwumc.org/event/general-conference-2024/
LOCATION:Charlotte Convention Center\, 501 S College St\, Charlotte\, NC\, 28202\, United States
CATEGORIES:General Church
ATTACH;FMTTYPE=image/jpeg:https://www.pnwumc.org/wp-content/uploads/2022/11/Charlotte-skyline-670.jpg
GEO:35.223036;-80.846032
X-APPLE-STRUCTURED-LOCATION;VALUE=URI;X-ADDRESS=Charlotte Convention Center 501 S College St Charlotte NC 28202 United States;X-APPLE-RADIUS=500;X-TITLE=501 S College St:geo:-80.846032,35.223036
END:VEVENT
BEGIN:VEVENT
DTSTART;TZID=America/Los_Angeles:20240430T183000
DTEND;TZID=America/Los_Angeles:20240430T203000
DTSTAMP:20260423T214322
CREATED:20240227T190253Z
LAST-MODIFIED:20240227T190253Z
UID:10000847-1714501800-1714509000@www.pnwumc.org
SUMMARY:Introduction to Lay Servant Ministries: The Basic Course
DESCRIPTION:The “Introduction to Lay Servant Ministry: The BASIC Course” is the foundational course for Lay Servant Ministries. This is the gateway course for those who are called to be Certified Lay Servants\, Lay Speakers\, and Lay Ministers. And can also be part of a person’s discipleship plan to acquaint you with their gifts\, calling\, and responsibilities as followers of Christ. \nThis course will be offered over five two-hour sessions on Zoom on April 2\, 9\, 16\, 23\, and 30\, 2024\, from 6:30-8:30 p.m. PT. \nClick here for more information and to register today!
URL:https://www.pnwumc.org/event/introduction-to-lay-servant-ministries-the-basic-course/2024-04-30/
LOCATION:https://www.pnwumc.org/event/introduction-to-lay-servant-ministries-the-basic-course/2024-04-30/
CATEGORIES:Certified Lay Minister,Laity,Training
ATTACH;FMTTYPE=image/png:https://www.pnwumc.org/wp-content/uploads/2023/08/LayServantMinistries16-9.png
ORGANIZER;CN="Sheila Miranda":MAILTO:SMiranda@pnwumc.org
END:VEVENT
BEGIN:VEVENT
DTSTART;VALUE=DATE:20240501
DTEND;VALUE=DATE:20240503
DTSTAMP:20260423T214322
CREATED:20240119T195042Z
LAST-MODIFIED:20240319T024245Z
UID:10000780-1714521600-1714694399@www.pnwumc.org
SUMMARY:Northwest Leadership Institute
DESCRIPTION:The annual Northwest Leadership Institute at Cathedral of the Rockies\, Boise First UMC\, offers training and learning sessions for all church leaders\, regardless of denomination. NLI is a learning\, worship\, and networking experience to bolster you and your staff’s ability to lead. \nLearn more and register today!
URL:https://www.pnwumc.org/event/northwest-leadership-institute/
LOCATION:Cathedral of the Rockies\, 717 N. 11th St.\, Boise\, ID\, 83702\, United States
CATEGORIES:Greater NW Area,Networks,Training
ATTACH;FMTTYPE=image/jpeg:https://www.pnwumc.org/wp-content/uploads/2024/01/cor-nli.jpg
GEO:43.6226137;-116.2026794
X-APPLE-STRUCTURED-LOCATION;VALUE=URI;X-ADDRESS=Cathedral of the Rockies 717 N. 11th St. Boise ID 83702 United States;X-APPLE-RADIUS=500;X-TITLE=717 N. 11th St.:geo:-116.2026794,43.6226137
END:VEVENT
BEGIN:VEVENT
DTSTART;TZID=America/Los_Angeles:20240502T130000
DTEND;TZID=America/Los_Angeles:20240502T160000
DTSTAMP:20260423T214322
CREATED:20240308T223248Z
LAST-MODIFIED:20240308T223458Z
UID:10000850-1714654800-1714665600@www.pnwumc.org
SUMMARY:Advanced Boundary Training (Session 2 of 2)
DESCRIPTION:Sue Magrath and Zach Taylor are offering a virtual Advanced Boundary Training on subsequent Thursday afternoons in April and May to fulfill the boundary requirement for clergy. The dates are April 25th and May 2nd\, 2024 from 1 PM to 4 PM PST. Attendance at both sessions is mandatory. Sue Magrath will be leading the first of the two sessions on April 25th; Zach Taylor will be assisting Sue in leading the second session on May 2nd. The advanced training is for clergy who have already participated in one or more boundary workshops in the past. The class involves discussion of case studies prepared by the participants. Case studies should be prepared in advance in a Word document and sent to the presenter a week prior to the first session. They should be based on a pastoral situation the attendee experienced in which boundary issues were a significant factor. Please describe the incident\, your actions\, the outcome\, and what you learned and/or might have done differently. Please submit this to the presenter at least one week prior to the class. Send the case studies to Sue Magrath (suemagrath@msn.com) and Zach Taylor (pastorzacharytaylor@gmail.com). Cost is $25 per person. Both session must be attended plus the case study written and mailed to the trainer for you to receive the full 8 hours credit to fulfill the boundary requirements. \nGo here to register.
URL:https://www.pnwumc.org/event/advanced-boundary-training-session-2-of-2-4/
LOCATION:Zoom
CATEGORIES:Board of Ordained Ministry
ORGANIZER;CN="Board of Ordained Ministry":MAILTO:sfranklin@pnwumc.org
END:VEVENT
BEGIN:VEVENT
DTSTART;TZID=America/Los_Angeles:20240503T100000
DTEND;TZID=America/Los_Angeles:20240503T113000
DTSTAMP:20260423T214322
CREATED:20240418T172125Z
LAST-MODIFIED:20240418T172125Z
UID:10000856-1714730400-1714735800@www.pnwumc.org
SUMMARY:Clean Energy Grants with Eric Walker
DESCRIPTION:The next round of grant funding from the Washington Department of Commerce for solar projects in Washington State will be coming in May. If you have been thinking about seeking funding for your church’s solar project\, now is the time. This may be the last round of funding until late 2025. Also\, there are new ways to be supported in your efforts. Eric Walker will be holding a webinar on May 3rd from 10-11:30 a.m. PT to discuss this opportunity and provide guidance on how to prepare. \nClick here to register.
URL:https://www.pnwumc.org/event/clean-energy-grants-with-eric-walker/
LOCATION:https://www.pnwumc.org/event/clean-energy-grants-with-eric-walker/
CATEGORIES:Creation Care
ATTACH;FMTTYPE=image/jpeg:https://www.pnwumc.org/wp-content/uploads/2024/03/green-energy.jpg
END:VEVENT
END:VCALENDAR