BEGIN:VCALENDAR
VERSION:2.0
PRODID:-//The Pacific Northwest Conference of The United Methodist Church - ECPv6.15.20//NONSGML v1.0//EN
CALSCALE:GREGORIAN
METHOD:PUBLISH
X-ORIGINAL-URL:https://www.pnwumc.org
X-WR-CALDESC:Events for The Pacific Northwest Conference of The United Methodist Church
REFRESH-INTERVAL;VALUE=DURATION:PT1H
X-Robots-Tag:noindex
X-PUBLISHED-TTL:PT1H
BEGIN:VTIMEZONE
TZID:America/Los_Angeles
BEGIN:DAYLIGHT
TZOFFSETFROM:-0800
TZOFFSETTO:-0700
TZNAME:PDT
DTSTART:20230312T100000
END:DAYLIGHT
BEGIN:STANDARD
TZOFFSETFROM:-0700
TZOFFSETTO:-0800
TZNAME:PST
DTSTART:20231105T090000
END:STANDARD
BEGIN:DAYLIGHT
TZOFFSETFROM:-0800
TZOFFSETTO:-0700
TZNAME:PDT
DTSTART:20240310T100000
END:DAYLIGHT
BEGIN:STANDARD
TZOFFSETFROM:-0700
TZOFFSETTO:-0800
TZNAME:PST
DTSTART:20241103T090000
END:STANDARD
BEGIN:DAYLIGHT
TZOFFSETFROM:-0800
TZOFFSETTO:-0700
TZNAME:PDT
DTSTART:20250309T100000
END:DAYLIGHT
BEGIN:STANDARD
TZOFFSETFROM:-0700
TZOFFSETTO:-0800
TZNAME:PST
DTSTART:20251102T090000
END:STANDARD
END:VTIMEZONE
BEGIN:VEVENT
DTSTART;TZID=America/Los_Angeles:20240401T160000
DTEND;TZID=America/Los_Angeles:20240403T100000
DTSTAMP:20260424T060122
CREATED:20240124T181706Z
LAST-MODIFIED:20240301T014720Z
UID:10000782-1711987200-1712138400@www.pnwumc.org
SUMMARY:GNW Area Ethnic Ministries Retreat
DESCRIPTION:The GNW Area Ethnic Ministries Retreat will be a time to gather\, care for yourself\, and connect or reconnect with your colleagues. We will set the atmosphere with prayer stations\, worship\, deep breathing stations\, and a licensed massage therapist of color. \nClick to view/download a two page event flier.\nCLICK HERE TO REGISTER TODAY! \nThe grounds at the Alton L. Collins Retreat Center have wooded walking trails that run alongside water streams for silent walking retreats. If you are interested\, a game room and arts and crafts will be available. There will be a chance to have organic conversations around the fire pit as we make s’mores on Tuesday night. The Bishop is tentatively scheduled to address us in person at the retreat. We look forward to your arrival. This is no registration fee. More information will be made available when registration opens. \nIf you have any questions\, please get in touch with Rev. Dr. Troy Lynn Carr at coem@pnwumc.org or Kathy Hogg at khogg@pnwumc.org. \nClick here to view/download a program flier. \n 
URL:https://www.pnwumc.org/event/gnw-area-ethnic-ministries-retreat/
LOCATION:Alton L Collins Retreat Center\, 32867 Oregon 211\, Eagle Creek\, OR\, 97022\, United States
CATEGORIES:Clergy,Ethnic Ministries
ATTACH;FMTTYPE=image/jpeg:https://www.pnwumc.org/wp-content/uploads/2024/01/EMR2004.jpg
ORGANIZER;CN="Kathy Hogg":MAILTO:khogg@pnwumc.org
GEO:45.3727307;-122.3284034
X-APPLE-STRUCTURED-LOCATION;VALUE=URI;X-ADDRESS=Alton L Collins Retreat Center 32867 Oregon 211 Eagle Creek OR 97022 United States;X-APPLE-RADIUS=500;X-TITLE=32867 Oregon 211:geo:-122.3284034,45.3727307
END:VEVENT
BEGIN:VEVENT
DTSTART;TZID=America/Los_Angeles:20240402T100000
DTEND;TZID=America/Los_Angeles:20240402T130000
DTSTAMP:20260424T060122
CREATED:20231027T175434Z
LAST-MODIFIED:20231027T175434Z
UID:10000692-1712052000-1712062800@www.pnwumc.org
SUMMARY:Appointive Cabinet
DESCRIPTION:The GNW Appointive Cabinet is meeting.
URL:https://www.pnwumc.org/event/appointive-cabinet/2024-04-02/
LOCATION:https://www.pnwumc.org/event/appointive-cabinet/2024-04-02/
CATEGORIES:Meetings
ORGANIZER;CN="Rhondalei Gabuat":MAILTO:rgabuat@pnwumc.org
END:VEVENT
BEGIN:VEVENT
DTSTART;TZID=America/Los_Angeles:20240402T183000
DTEND;TZID=America/Los_Angeles:20240402T203000
DTSTAMP:20260424T060122
CREATED:20240227T190253Z
LAST-MODIFIED:20240227T190253Z
UID:10000843-1712082600-1712089800@www.pnwumc.org
SUMMARY:Introduction to Lay Servant Ministries: The Basic Course
DESCRIPTION:The “Introduction to Lay Servant Ministry: The BASIC Course” is the foundational course for Lay Servant Ministries. This is the gateway course for those who are called to be Certified Lay Servants\, Lay Speakers\, and Lay Ministers. And can also be part of a person’s discipleship plan to acquaint you with their gifts\, calling\, and responsibilities as followers of Christ. \nThis course will be offered over five two-hour sessions on Zoom on April 2\, 9\, 16\, 23\, and 30\, 2024\, from 6:30-8:30 p.m. PT. \nClick here for more information and to register today!
URL:https://www.pnwumc.org/event/introduction-to-lay-servant-ministries-the-basic-course/2024-04-02/
LOCATION:https://www.pnwumc.org/event/introduction-to-lay-servant-ministries-the-basic-course/2024-04-02/
CATEGORIES:Certified Lay Minister,Laity,Training
ATTACH;FMTTYPE=image/png:https://www.pnwumc.org/wp-content/uploads/2023/08/LayServantMinistries16-9.png
ORGANIZER;CN="Sheila Miranda":MAILTO:SMiranda@pnwumc.org
END:VEVENT
BEGIN:VEVENT
DTSTART;TZID=America/Los_Angeles:20240404T100000
DTEND;TZID=America/Los_Angeles:20240404T130000
DTSTAMP:20260424T060122
CREATED:20231027T175434Z
LAST-MODIFIED:20231027T175434Z
UID:10000693-1712224800-1712235600@www.pnwumc.org
SUMMARY:Appointive Cabinet
DESCRIPTION:The GNW Appointive Cabinet is meeting.
URL:https://www.pnwumc.org/event/appointive-cabinet/2024-04-04/
LOCATION:https://www.pnwumc.org/event/appointive-cabinet/2024-04-04/
CATEGORIES:Meetings
ORGANIZER;CN="Rhondalei Gabuat":MAILTO:rgabuat@pnwumc.org
END:VEVENT
BEGIN:VEVENT
DTSTART;TZID=America/Los_Angeles:20240406T100000
DTEND;TZID=America/Los_Angeles:20240406T113000
DTSTAMP:20260424T060122
CREATED:20240320T003840Z
LAST-MODIFIED:20240320T003840Z
UID:10000853-1712397600-1712403000@www.pnwumc.org
SUMMARY:The Laity Meet-Up - “Today’s UMC: What laity need to know about General Conference”
DESCRIPTION:Register today for the first ‘Laity Meet-Up’ on April 6 \n“Let us consider how to provoke one another to love and good works\, not neglecting to meet together\, as is the habit of some\, but encouraging one another …” [Hebrews 10:24-25] \nAll laypersons from the Greater Northwest Area are invited to a new laity series named “The Laity Meet-Up\,” which kicks off on Saturday\, April 6. The free event will be held via Zoom at 9 a.m. AT | 10 a.m. PT | 11 a.m. MT. \nClick here to register for this Zoom event. Upon registration\, you will receive the link directly from Zoom. If you don’t see it\, please check your spam or junk folders. \nThe Laity Meet-Up\, which will be held three to four times per year\, aims to enhance lay ministries by equipping and empowering laity to be active and informed voices in our churches and communities – one of the express goals of Bishop Bridgeforth’s “going the M.I.L.E.”* \nIn the inaugural event on April 6\, the Meet-Up topic will be: “Today’s UMC: What Laity Need to Know About General Conference.” A panel of General Conference delegates and reserves will provide accurate information about proposed legislation\, squelch disinformation\, and share suggestions for communicating what General Conference is really about (and what it is not). To be discussed: removing harmful language from the Book of Discipline\, revising church structure\, updating the Social Principles\, and more! \nThe Laity Meet-Up is the brainchild of the Greater Northwest Area’s three conference lay leaders: Jo Anne Hayden of Alaska\, Nancy Tam Davis of Pacific Northwest\, and Paul Nickell of Oregon-Idaho. It is inspired by their reading of Hebrews 10\, which unveils the inadequacy of Old Testament sacrifices and upholds Christ’s sacrifice as the ultimate and final atonement for sins. It guides believers on their faith journey\, emphasizing the importance of community and perseverance. \nWhile designed for laity across the Alaska\, Pacific Northwest\, and Oregon-Idaho conferences\, The Laity Meet-Up’s gatherings are open to all.
URL:https://www.pnwumc.org/event/the-laity-meet-up-todays-umc-what-laity-need-to-know-about-general-conference/
LOCATION:https://www.pnwumc.org/event/the-laity-meet-up-todays-umc-what-laity-need-to-know-about-general-conference/
CATEGORIES:Greater NW Area,Laity
ATTACH;FMTTYPE=image/jpeg:https://www.pnwumc.org/wp-content/uploads/2024/03/GNW-Laity.jpg
END:VEVENT
END:VCALENDAR