BEGIN:VCALENDAR
VERSION:2.0
PRODID:-//The Pacific Northwest Conference of The United Methodist Church - ECPv6.15.20//NONSGML v1.0//EN
CALSCALE:GREGORIAN
METHOD:PUBLISH
X-ORIGINAL-URL:https://www.pnwumc.org
X-WR-CALDESC:Events for The Pacific Northwest Conference of The United Methodist Church
REFRESH-INTERVAL;VALUE=DURATION:PT1H
X-Robots-Tag:noindex
X-PUBLISHED-TTL:PT1H
BEGIN:VTIMEZONE
TZID:America/Los_Angeles
BEGIN:DAYLIGHT
TZOFFSETFROM:-0800
TZOFFSETTO:-0700
TZNAME:PDT
DTSTART:20220313T100000
END:DAYLIGHT
BEGIN:STANDARD
TZOFFSETFROM:-0700
TZOFFSETTO:-0800
TZNAME:PST
DTSTART:20221106T090000
END:STANDARD
BEGIN:DAYLIGHT
TZOFFSETFROM:-0800
TZOFFSETTO:-0700
TZNAME:PDT
DTSTART:20230312T100000
END:DAYLIGHT
BEGIN:STANDARD
TZOFFSETFROM:-0700
TZOFFSETTO:-0800
TZNAME:PST
DTSTART:20231105T090000
END:STANDARD
BEGIN:DAYLIGHT
TZOFFSETFROM:-0800
TZOFFSETTO:-0700
TZNAME:PDT
DTSTART:20240310T100000
END:DAYLIGHT
BEGIN:STANDARD
TZOFFSETFROM:-0700
TZOFFSETTO:-0800
TZNAME:PST
DTSTART:20241103T090000
END:STANDARD
END:VTIMEZONE
BEGIN:VEVENT
DTSTART;TZID=America/Los_Angeles:20230927T120000
DTEND;TZID=America/Los_Angeles:20230929T120000
DTSTAMP:20260424T144744
CREATED:20230621T003301Z
LAST-MODIFIED:20230830T180252Z
UID:10000612-1695816000-1695988800@www.pnwumc.org
SUMMARY:PNW Gathering of the Orders and Fellowships
DESCRIPTION:The Gathering of the Orders and Fellowships will be September 27-29\, 2023\, at Wesley United Methodist Church in Yakima\, Washington. We will be welcoming deaconesses and home missioners to the gathering for the first time. Check-in for the gathering opens at noon on Sept. 27\, with our opening session beginning at 2 p.m. The gathering will conclude with lunch on the 29th. A more thorough agenda will be forthcoming. \nThe keynote presenter will be Rev. Janet Wolf\, of whom you can read more below. Please register ASAP. Direct any questions to Rev. Katie M. Ladd at katiemladd@gmail.com. \nClick here to learn more and register! \nFor those who cannot attend in person\, the keynote presentations will be live-streamed but not recorded. You can register to receive the livestream. However\, for those who can\, attending in person is what we strongly recommend. \nAbout our Keynote\nThe Rev. Janet Wolf is an elder in The United Methodist Church and has served as a pastor of rural and urban congregations. She is a college and seminary professor\, community mediator\, learner\, and partner for transformative justice. \nIn July 2012\, she was appointed to work with Marian Wright Edelman and the Children’s Defense Fund on nonviolent direct-action organizing to dismantle the cradle-to-prison pipeline\, work that includes the organization’s Freedom Schools and the annual Proctor Institute for Child Advocacy Ministry. She is the author of “To See and To Be Seen\,” a chapter in I Was in Prison: United Methodist Perspectives on Prison Ministry\, edited by James M. Shopshire Sr.\, et al.\, and numerous other writings. She is the author of the book Practicing Resurrection: The Gospel of Mark and Radical Discipleship.
URL:https://www.pnwumc.org/event/pnw-gathering-of-the-orders-and-fellowship/
LOCATION:Yakima: Wesley UMC\, 14 North 48th Avenue\, Yakima\, WA\, 98908\, United States
CATEGORIES:Board of Ordained Ministry,Clergy,Meetings
ATTACH;FMTTYPE=image/jpeg:https://www.pnwumc.org/wp-content/uploads/2023/06/Orders-Gathering-2023.jpg
ORGANIZER;CN="Katie Ladd":MAILTO:katiemladd@gmail.com
GEO:46.5971846;-120.5733166
X-APPLE-STRUCTURED-LOCATION;VALUE=URI;X-ADDRESS=Yakima: Wesley UMC 14 North 48th Avenue Yakima WA 98908 United States;X-APPLE-RADIUS=500;X-TITLE=14 North 48th Avenue:geo:-120.5733166,46.5971846
END:VEVENT
BEGIN:VEVENT
DTSTART;TZID=America/Los_Angeles:20230930T083000
DTEND;TZID=America/Los_Angeles:20230930T130000
DTSTAMP:20260424T144744
CREATED:20230809T161930Z
LAST-MODIFIED:20230809T161930Z
UID:10000640-1696062600-1696078800@www.pnwumc.org
SUMMARY:SeaTac District United Women in Faith Annual Meeting
DESCRIPTION:Women of the SeaTac District\, please join us for our UWF annual meeting on September 30 at Kent UMC. Our theme for the day is “For the Beauty of the Earth\,” and our keynote speaker is the Rev. Laura Baumgartner sharing about Earth Ministry. \nRegistration is $12 and can be completed using this form. \n  \nThe schedule for the day is: \n8:30-9:00 AM – Continental Breakfast \n9:00-11:45 AM – Program & Meeting \n12:00-1:00 PM – Soup Luncheon \n  \nAbout our Keynote Speaker: Rev. Laura Baumgartner\nRev. Laura Baumgartner is the Pastor at Haller Lake United Methodist Church in Seattle and serves as the Board Chair of Earth Ministry Washington Interfaith Power and Light. Laura first worked with Earth Ministry/WAIPL as an intern during her seminary program and has been part of faith-based environmental efforts ever since. She has an undergraduate degree in Chemistry from the Massachusetts Institute of Technology\, a Master’s Degree in Environmental Engineering from the Illinois Institute of Technology\, and Master’s of Divinity from Seattle University. Laura is married to her husband\, Eric\, and they have a college-aged daughter\, Grace\, and a very fluffy dog\, Calvin. She loves to walk\, swim\, read\, and bake.
URL:https://www.pnwumc.org/event/seatac-district-united-women-in-faith-annual-meeting/
LOCATION:Kent United Methodist Church\, 11010 248th St. SE\, Kent\, WA\, 98030\, United States
CATEGORIES:Creation Care,United Methodist Women,United Women in Faith
ATTACH;FMTTYPE=image/jpeg:https://www.pnwumc.org/wp-content/uploads/2023/08/United-Women-in-Faith.jpg
GEO:47.380646;-122.193872
X-APPLE-STRUCTURED-LOCATION;VALUE=URI;X-ADDRESS=Kent United Methodist Church 11010 248th St. SE Kent WA 98030 United States;X-APPLE-RADIUS=500;X-TITLE=11010 248th St. SE:geo:-122.193872,47.380646
END:VEVENT
END:VCALENDAR