BEGIN:VCALENDAR
VERSION:2.0
PRODID:-//The Pacific Northwest Conference of The United Methodist Church - ECPv6.15.20//NONSGML v1.0//EN
CALSCALE:GREGORIAN
METHOD:PUBLISH
X-WR-CALNAME:The Pacific Northwest Conference of The United Methodist Church
X-ORIGINAL-URL:https://www.pnwumc.org
X-WR-CALDESC:Events for The Pacific Northwest Conference of The United Methodist Church
REFRESH-INTERVAL;VALUE=DURATION:PT1H
X-Robots-Tag:noindex
X-PUBLISHED-TTL:PT1H
BEGIN:VTIMEZONE
TZID:America/Los_Angeles
BEGIN:DAYLIGHT
TZOFFSETFROM:-0800
TZOFFSETTO:-0700
TZNAME:PDT
DTSTART:20220313T100000
END:DAYLIGHT
BEGIN:STANDARD
TZOFFSETFROM:-0700
TZOFFSETTO:-0800
TZNAME:PST
DTSTART:20221106T090000
END:STANDARD
BEGIN:DAYLIGHT
TZOFFSETFROM:-0800
TZOFFSETTO:-0700
TZNAME:PDT
DTSTART:20230312T100000
END:DAYLIGHT
BEGIN:STANDARD
TZOFFSETFROM:-0700
TZOFFSETTO:-0800
TZNAME:PST
DTSTART:20231105T090000
END:STANDARD
BEGIN:DAYLIGHT
TZOFFSETFROM:-0800
TZOFFSETTO:-0700
TZNAME:PDT
DTSTART:20240310T100000
END:DAYLIGHT
BEGIN:STANDARD
TZOFFSETFROM:-0700
TZOFFSETTO:-0800
TZNAME:PST
DTSTART:20241103T090000
END:STANDARD
END:VTIMEZONE
BEGIN:VEVENT
DTSTART;TZID=America/Los_Angeles:20230218T100000
DTEND;TZID=America/Los_Angeles:20230218T140000
DTSTAMP:20260425T043925
CREATED:20230107T051613Z
LAST-MODIFIED:20230107T051613Z
UID:10000574-1676714400-1676728800@www.pnwumc.org
SUMMARY:Safe Sanctuaries Online Workshop in Spanish
DESCRIPTION:This training will take place over four sessions: \n\nFebruary 18 from 10 am to 2 pm PT\nFebruary 19 from 3 pm to 6 pm PT\nFebruary 25 from 10 am to 2 pm PT\nFebruary 26 from 3 pm to 6 pm PT\n\nPor favor reserven estas fechas para que participen de este importante evento sobre Santuarios Seguros. \nPlease reserve these dates to participate in this important event about Safe Sanctuaries. \nEste taller virtual será totalmente en español para nuestros Pastores/as y líderes de sus Iglesias locales. \nThis virtual workshop will be in Spanish for our Pastors and Lay People from our Congregations. \nEste taller es auspiciado por la Junta General del Discipulado y la Conferencia Anual del Pacifico Noroeste de la Iglesia Metodista Unida. \nThis workshop is sponsored by the General Board of Discipleship and the Pacific Northwest Conference of The United Methodist Church. \nFor more information\, contact Rev. Cruz Edwin Santos at cesantos@pnwumc.org. \nClick here to register for this event today!
URL:https://www.pnwumc.org/event/safe-sanctuaries-online-workshop-in-spanish/2023-02-18/
LOCATION:WA\, United States
CATEGORIES:Hispanic Ministries,Training
ATTACH;FMTTYPE=image/jpeg:https://www.pnwumc.org/wp-content/uploads/2023/01/safe-sanc-train.jpg
ORGANIZER;CN="Rev. Cruz Edwin Santos":MAILTO:cesantos@pnwumc.org
GEO:30.3321838;-81.655651
END:VEVENT
END:VCALENDAR