BEGIN:VCALENDAR
VERSION:2.0
PRODID:-//The Pacific Northwest Conference of The United Methodist Church - ECPv6.15.20//NONSGML v1.0//EN
CALSCALE:GREGORIAN
METHOD:PUBLISH
X-ORIGINAL-URL:https://www.pnwumc.org
X-WR-CALDESC:Events for The Pacific Northwest Conference of The United Methodist Church
REFRESH-INTERVAL;VALUE=DURATION:PT1H
X-Robots-Tag:noindex
X-PUBLISHED-TTL:PT1H
BEGIN:VTIMEZONE
TZID:America/Los_Angeles
BEGIN:DAYLIGHT
TZOFFSETFROM:-0800
TZOFFSETTO:-0700
TZNAME:PDT
DTSTART:20220313T100000
END:DAYLIGHT
BEGIN:STANDARD
TZOFFSETFROM:-0700
TZOFFSETTO:-0800
TZNAME:PST
DTSTART:20221106T090000
END:STANDARD
BEGIN:DAYLIGHT
TZOFFSETFROM:-0800
TZOFFSETTO:-0700
TZNAME:PDT
DTSTART:20230312T100000
END:DAYLIGHT
BEGIN:STANDARD
TZOFFSETFROM:-0700
TZOFFSETTO:-0800
TZNAME:PST
DTSTART:20231105T090000
END:STANDARD
BEGIN:DAYLIGHT
TZOFFSETFROM:-0800
TZOFFSETTO:-0700
TZNAME:PDT
DTSTART:20240310T100000
END:DAYLIGHT
BEGIN:STANDARD
TZOFFSETFROM:-0700
TZOFFSETTO:-0800
TZNAME:PST
DTSTART:20241103T090000
END:STANDARD
END:VTIMEZONE
BEGIN:VEVENT
DTSTART;TZID=America/Los_Angeles:20230209T090000
DTEND;TZID=America/Los_Angeles:20230209T150000
DTSTAMP:20260425T043955
CREATED:20221219T235707Z
LAST-MODIFIED:20230105T025909Z
UID:10000572-1675933200-1675954800@www.pnwumc.org
SUMMARY:Interfaith Advocacy Day 2023
DESCRIPTION:Faith Action Network’s Interfaith Advocacy Day brings the voices of compassion and justice to our elected leaders. Meeting with your legislators and their staff on this day is putting your faith into action! This year\, Interfaith Advocacy Day will occur on Thursday\, February 9\, 9 am-3 pm in Olympia. \nClick here to learn more and to register for this event.
URL:https://www.pnwumc.org/event/interfaith-advocacy-day/
LOCATION:The United Churches of Olympia\, 110 11th Ave SE\, Olympia\, WA\, 98501
CATEGORIES:Networks
ATTACH;FMTTYPE=image/png:https://www.pnwumc.org/wp-content/uploads/2022/12/image.png
GEO:47.038346;-122.900043
X-APPLE-STRUCTURED-LOCATION;VALUE=URI;X-ADDRESS=The United Churches of Olympia 110 11th Ave SE Olympia WA 98501;X-APPLE-RADIUS=500;X-TITLE=110 11th Ave SE:geo:-122.900043,47.038346
END:VEVENT
END:VCALENDAR