BEGIN:VCALENDAR
VERSION:2.0
PRODID:-//The Pacific Northwest Conference of The United Methodist Church - ECPv6.15.20//NONSGML v1.0//EN
CALSCALE:GREGORIAN
METHOD:PUBLISH
X-ORIGINAL-URL:https://www.pnwumc.org
X-WR-CALDESC:Events for The Pacific Northwest Conference of The United Methodist Church
REFRESH-INTERVAL;VALUE=DURATION:PT1H
X-Robots-Tag:noindex
X-PUBLISHED-TTL:PT1H
BEGIN:VTIMEZONE
TZID:America/Los_Angeles
BEGIN:DAYLIGHT
TZOFFSETFROM:-0800
TZOFFSETTO:-0700
TZNAME:PDT
DTSTART:20220313T100000
END:DAYLIGHT
BEGIN:STANDARD
TZOFFSETFROM:-0700
TZOFFSETTO:-0800
TZNAME:PST
DTSTART:20221106T090000
END:STANDARD
BEGIN:DAYLIGHT
TZOFFSETFROM:-0800
TZOFFSETTO:-0700
TZNAME:PDT
DTSTART:20230312T100000
END:DAYLIGHT
BEGIN:STANDARD
TZOFFSETFROM:-0700
TZOFFSETTO:-0800
TZNAME:PST
DTSTART:20231105T090000
END:STANDARD
BEGIN:DAYLIGHT
TZOFFSETFROM:-0800
TZOFFSETTO:-0700
TZNAME:PDT
DTSTART:20240310T100000
END:DAYLIGHT
BEGIN:STANDARD
TZOFFSETFROM:-0700
TZOFFSETTO:-0800
TZNAME:PST
DTSTART:20241103T090000
END:STANDARD
END:VTIMEZONE
BEGIN:VEVENT
DTSTART;TZID=America/Los_Angeles:20230119T090000
DTEND;TZID=America/Los_Angeles:20230119T170000
DTSTAMP:20260425T062149
CREATED:20221101T142933Z
LAST-MODIFIED:20221101T142933Z
UID:10000554-1674118800-1674147600@www.pnwumc.org
SUMMARY:SeaTac DCOM Meeting
DESCRIPTION:
URL:https://www.pnwumc.org/event/seatac-dcom-meeting/
LOCATION:Zoom
CATEGORIES:Board of Ordained Ministry,SeaTac
ORGANIZER;CN="Board of Ordained Ministry":MAILTO:sfranklin@pnwumc.org
END:VEVENT
BEGIN:VEVENT
DTSTART;TZID=America/Los_Angeles:20230121T083000
DTEND;TZID=America/Los_Angeles:20230121T150000
DTSTAMP:20260425T062149
CREATED:20221219T235517Z
LAST-MODIFIED:20221219T235517Z
UID:10000571-1674289800-1674313200@www.pnwumc.org
SUMMARY:Eastern Washington Legislative Conference
DESCRIPTION:Theme: Caring for our Common Home\nThe 2023 Eastern Washington Legislative Session will take place on Saturday\, January 21\, 8:30 am to 3 pm\, at Spokane Valley United Methodist Church and online. The day will include plenary sessions\, legislative briefings\, and workshops. \nClick here to register.
URL:https://www.pnwumc.org/event/eastern-washington-legislative-conference-2/
LOCATION:Spokane Valley United Methodist Church\, 115 N Raymond Rd\, Spokane Valley\, WA\, 99206\, United States
CATEGORIES:Networks
GEO:47.658477;-117.264698
X-APPLE-STRUCTURED-LOCATION;VALUE=URI;X-ADDRESS=Spokane Valley United Methodist Church 115 N Raymond Rd Spokane Valley WA 99206 United States;X-APPLE-RADIUS=500;X-TITLE=115 N Raymond Rd:geo:-117.264698,47.658477
END:VEVENT
END:VCALENDAR