BEGIN:VCALENDAR
VERSION:2.0
PRODID:-//The Pacific Northwest Conference of The United Methodist Church - ECPv6.15.20//NONSGML v1.0//EN
CALSCALE:GREGORIAN
METHOD:PUBLISH
X-ORIGINAL-URL:https://www.pnwumc.org
X-WR-CALDESC:Events for The Pacific Northwest Conference of The United Methodist Church
REFRESH-INTERVAL;VALUE=DURATION:PT1H
X-Robots-Tag:noindex
X-PUBLISHED-TTL:PT1H
BEGIN:VTIMEZONE
TZID:America/Los_Angeles
BEGIN:DAYLIGHT
TZOFFSETFROM:-0800
TZOFFSETTO:-0700
TZNAME:PDT
DTSTART:20210314T100000
END:DAYLIGHT
BEGIN:STANDARD
TZOFFSETFROM:-0700
TZOFFSETTO:-0800
TZNAME:PST
DTSTART:20211107T090000
END:STANDARD
BEGIN:DAYLIGHT
TZOFFSETFROM:-0800
TZOFFSETTO:-0700
TZNAME:PDT
DTSTART:20220313T100000
END:DAYLIGHT
BEGIN:STANDARD
TZOFFSETFROM:-0700
TZOFFSETTO:-0800
TZNAME:PST
DTSTART:20221106T090000
END:STANDARD
BEGIN:DAYLIGHT
TZOFFSETFROM:-0800
TZOFFSETTO:-0700
TZNAME:PDT
DTSTART:20230312T100000
END:DAYLIGHT
BEGIN:STANDARD
TZOFFSETFROM:-0700
TZOFFSETTO:-0800
TZNAME:PST
DTSTART:20231105T090000
END:STANDARD
END:VTIMEZONE
BEGIN:VEVENT
DTSTART;VALUE=DATE:20221124
DTEND;VALUE=DATE:20221126
DTSTAMP:20260425T080727
CREATED:20221122T230333Z
LAST-MODIFIED:20221122T230417Z
UID:10000562-1669248000-1669420799@www.pnwumc.org
SUMMARY:Office Closed - Thanksgiving Holiday
DESCRIPTION:The PNW Conference Office is closed on Thursday\, November 24\, and Friday\, November 25\, for the Thanksgiving holiday.
URL:https://www.pnwumc.org/event/office-closed-thanksgiving-holiday/
LOCATION:The Pacific Northwest Conference of the United Methodist Church\, 816 S 216th St\, Des Moines\, WA\, 98198\, United States
GEO:47.4095109;-122.3211638
X-APPLE-STRUCTURED-LOCATION;VALUE=URI;X-ADDRESS=The Pacific Northwest Conference of the United Methodist Church 816 S 216th St Des Moines WA 98198 United States;X-APPLE-RADIUS=500;X-TITLE=816 S 216th St:geo:-122.3211638,47.4095109
END:VEVENT
END:VCALENDAR