BEGIN:VCALENDAR
VERSION:2.0
PRODID:-//The Pacific Northwest Conference of The United Methodist Church - ECPv6.15.20//NONSGML v1.0//EN
CALSCALE:GREGORIAN
METHOD:PUBLISH
X-WR-CALNAME:The Pacific Northwest Conference of The United Methodist Church
X-ORIGINAL-URL:https://www.pnwumc.org
X-WR-CALDESC:Events for The Pacific Northwest Conference of The United Methodist Church
REFRESH-INTERVAL;VALUE=DURATION:PT1H
X-Robots-Tag:noindex
X-PUBLISHED-TTL:PT1H
BEGIN:VTIMEZONE
TZID:America/Los_Angeles
BEGIN:DAYLIGHT
TZOFFSETFROM:-0800
TZOFFSETTO:-0700
TZNAME:PDT
DTSTART:20210314T100000
END:DAYLIGHT
BEGIN:STANDARD
TZOFFSETFROM:-0700
TZOFFSETTO:-0800
TZNAME:PST
DTSTART:20211107T090000
END:STANDARD
BEGIN:DAYLIGHT
TZOFFSETFROM:-0800
TZOFFSETTO:-0700
TZNAME:PDT
DTSTART:20220313T100000
END:DAYLIGHT
BEGIN:STANDARD
TZOFFSETFROM:-0700
TZOFFSETTO:-0800
TZNAME:PST
DTSTART:20221106T090000
END:STANDARD
BEGIN:DAYLIGHT
TZOFFSETFROM:-0800
TZOFFSETTO:-0700
TZNAME:PDT
DTSTART:20230312T100000
END:DAYLIGHT
BEGIN:STANDARD
TZOFFSETFROM:-0700
TZOFFSETTO:-0800
TZNAME:PST
DTSTART:20231105T090000
END:STANDARD
END:VTIMEZONE
BEGIN:VEVENT
DTSTART;VALUE=DATE:20220619
DTEND;VALUE=DATE:20220626
DTSTAMP:20260425T165748
CREATED:20210804T194745Z
LAST-MODIFIED:20220420T185035Z
UID:10000507-1655596800-1656201599@www.pnwumc.org
SUMMARY:Greater Northwest Annual Conference Sessions
DESCRIPTION:Please visit the PNWAC 2022 website for more information on the AC schedule. \nThe GNW area’s primary week of annual conference sessions\, where the business of each Conference is conducted by clergy and lay members\, will start on the evening of Sunday\, June 19\, with a GNW area-wide opening. The remainder of the week will include a separate focused day of work for each conference and individual days for ordination and commissioning services in PNW and OR-ID. \n\nThe GNW Area-wide Opening will take place on the evening of Sunday\, June 19.\nThe Alaska Conference will meet online on Monday\, June 20\, from 9 a.m. to 7 p.m. AKT.\nThe Pacific Northwest Conference will meet online on Tuesday\, June 21\, from 9 a.m. to 7 p.m. PT.\nThe Pacific Northwest Conference’s Service of Commissioning and Ordination will occur during the day on Wednesday\, June 22.\nThe Oregon-Idaho Conference will meet online on Thursday\, June 23\, from 9 a.m. to 7 p.m. PT\, 10 a.m. to 8 p.m. MT.\nThe Oregon-Idaho Conference’s Service of Commissioning and Ordination will occur during the day on Friday\, June 24.\nThe GNW Area-wide closing plenary and celebration will occur during the day on Saturday\, June 25.\n\nEach day of business will include morning bible studies and evening devotions during the first and last hour. These opportunities will be open for anyone – not just Annual Conference members – to attend. \nClick here for more information. Please watch for more information in conference and GNW Area communications. Published dates are subject to change\, and we will announce additional opportunities as they become available.
URL:https://www.pnwumc.org/event/greater-northwest-shared-annual-conference-session-2/
LOCATION:WA\, United States
CATEGORIES:Annual Conference
GEO:30.3321838;-81.655651
END:VEVENT
END:VCALENDAR