BEGIN:VCALENDAR
VERSION:2.0
PRODID:-//The Pacific Northwest Conference of The United Methodist Church - ECPv6.15.20//NONSGML v1.0//EN
CALSCALE:GREGORIAN
METHOD:PUBLISH
X-WR-CALNAME:The Pacific Northwest Conference of The United Methodist Church
X-ORIGINAL-URL:https://www.pnwumc.org
X-WR-CALDESC:Events for The Pacific Northwest Conference of The United Methodist Church
REFRESH-INTERVAL;VALUE=DURATION:PT1H
X-Robots-Tag:noindex
X-PUBLISHED-TTL:PT1H
BEGIN:VTIMEZONE
TZID:America/Los_Angeles
BEGIN:DAYLIGHT
TZOFFSETFROM:-0800
TZOFFSETTO:-0700
TZNAME:PDT
DTSTART:20210314T100000
END:DAYLIGHT
BEGIN:STANDARD
TZOFFSETFROM:-0700
TZOFFSETTO:-0800
TZNAME:PST
DTSTART:20211107T090000
END:STANDARD
BEGIN:DAYLIGHT
TZOFFSETFROM:-0800
TZOFFSETTO:-0700
TZNAME:PDT
DTSTART:20220313T100000
END:DAYLIGHT
BEGIN:STANDARD
TZOFFSETFROM:-0700
TZOFFSETTO:-0800
TZNAME:PST
DTSTART:20221106T090000
END:STANDARD
BEGIN:DAYLIGHT
TZOFFSETFROM:-0800
TZOFFSETTO:-0700
TZNAME:PDT
DTSTART:20230312T100000
END:DAYLIGHT
BEGIN:STANDARD
TZOFFSETFROM:-0700
TZOFFSETTO:-0800
TZNAME:PST
DTSTART:20231105T090000
END:STANDARD
END:VTIMEZONE
BEGIN:VEVENT
DTSTART;TZID=America/Los_Angeles:20220516T160000
DTEND;TZID=America/Los_Angeles:20220516T180000
DTSTAMP:20260425T204609
CREATED:20220326T182253Z
LAST-MODIFIED:20220326T182253Z
UID:10000538-1652716800-1652724000@www.pnwumc.org
SUMMARY:UMCOR Early Response Team Basic Training
DESCRIPTION:Be ready for when the next disaster strikes to help those most in need. \nTrain now to be an Early Response Team member. \nThis training will prepare you on ways to clean out a flooded home\, haul debris\, sift ashes and work alongside survivors while staying safe. United Methodist Committee on Relief (UMCOR) certified trainers teach the class and include real-world examples\, hands-on activities\, plus an opportunity to meet people with a passion for serving. \nThe three-part training combines two two-hour Zoom-based sessions and one four-hour in-person class. Dates are Monday and Wednesday\, May 16 and 18\, from 4 p.m. to 6 p.m. PT\, for the Zoom training. The in-person session is Saturday\, May 21\, from 8:30 a.m. to 12:30 p.m. at Des Moines United Methodist Church in Des Moines\, WA. This training is open to participants in the Oregon-Idaho and Pacific Northwest Conferences; a separate training is being planned for interested persons in Alaska. \nAll three days are required to complete the training. Anyone 18 years or older is welcome to attend. Full COVID-19 vaccinations in accordance with CDC guidelines are mandatory. The registration fee is $25. Class size is limited to 15 people so register ASAP.  Registration deadline is Friday\, May 6\, unless the class fills prior. There are pre-class requirements to complete no later than Friday\, May 13. Questions? Contact Kathy Bryson\, PNW Conference Disaster Response Coordinator\, at brysonpnw@gmail.com\, (509) 539-2978. \nClick here to register today!
URL:https://www.pnwumc.org/event/umcor-early-response-team-basic-training/2022-05-16/
LOCATION:Des Moines United Methodist Church\, 22225 9th Ave S\, Des Moines\, WA\, 98198\, United States
ATTACH;FMTTYPE=image/jpeg:https://www.pnwumc.org/wp-content/uploads/2022/03/ert-Basic.jpg
ORGANIZER;CN="Kathy Bryson":MAILTO:brysonpnw@gmail.com
GEO:47.402228;-122.322559
X-APPLE-STRUCTURED-LOCATION;VALUE=URI;X-ADDRESS=Des Moines United Methodist Church 22225 9th Ave S Des Moines WA 98198 United States;X-APPLE-RADIUS=500;X-TITLE=22225 9th Ave S:geo:-122.322559,47.402228
END:VEVENT
BEGIN:VEVENT
DTSTART;TZID=America/Los_Angeles:20220518T160000
DTEND;TZID=America/Los_Angeles:20220518T180000
DTSTAMP:20260425T204609
CREATED:20220326T182253Z
LAST-MODIFIED:20220326T182253Z
UID:10000539-1652889600-1652896800@www.pnwumc.org
SUMMARY:UMCOR Early Response Team Basic Training
DESCRIPTION:Be ready for when the next disaster strikes to help those most in need. \nTrain now to be an Early Response Team member. \nThis training will prepare you on ways to clean out a flooded home\, haul debris\, sift ashes and work alongside survivors while staying safe. United Methodist Committee on Relief (UMCOR) certified trainers teach the class and include real-world examples\, hands-on activities\, plus an opportunity to meet people with a passion for serving. \nThe three-part training combines two two-hour Zoom-based sessions and one four-hour in-person class. Dates are Monday and Wednesday\, May 16 and 18\, from 4 p.m. to 6 p.m. PT\, for the Zoom training. The in-person session is Saturday\, May 21\, from 8:30 a.m. to 12:30 p.m. at Des Moines United Methodist Church in Des Moines\, WA. This training is open to participants in the Oregon-Idaho and Pacific Northwest Conferences; a separate training is being planned for interested persons in Alaska. \nAll three days are required to complete the training. Anyone 18 years or older is welcome to attend. Full COVID-19 vaccinations in accordance with CDC guidelines are mandatory. The registration fee is $25. Class size is limited to 15 people so register ASAP.  Registration deadline is Friday\, May 6\, unless the class fills prior. There are pre-class requirements to complete no later than Friday\, May 13. Questions? Contact Kathy Bryson\, PNW Conference Disaster Response Coordinator\, at brysonpnw@gmail.com\, (509) 539-2978. \nClick here to register today!
URL:https://www.pnwumc.org/event/umcor-early-response-team-basic-training/2022-05-18/
LOCATION:Des Moines United Methodist Church\, 22225 9th Ave S\, Des Moines\, WA\, 98198\, United States
ATTACH;FMTTYPE=image/jpeg:https://www.pnwumc.org/wp-content/uploads/2022/03/ert-Basic.jpg
ORGANIZER;CN="Kathy Bryson":MAILTO:brysonpnw@gmail.com
GEO:47.402228;-122.322559
X-APPLE-STRUCTURED-LOCATION;VALUE=URI;X-ADDRESS=Des Moines United Methodist Church 22225 9th Ave S Des Moines WA 98198 United States;X-APPLE-RADIUS=500;X-TITLE=22225 9th Ave S:geo:-122.322559,47.402228
END:VEVENT
BEGIN:VEVENT
DTSTART;VALUE=DATE:20220520
DTEND;VALUE=DATE:20220523
DTSTAMP:20260425T204609
CREATED:20181127T235031Z
LAST-MODIFIED:20181127T235404Z
UID:10000339-1653004800-1653263999@www.pnwumc.org
SUMMARY:PNW United Methodist Women -- Assembly
DESCRIPTION:More information TBA
URL:https://www.pnwumc.org/event/pnw-united-methodist-women-assembly/
LOCATION:Orlando\, FL\, Orlando\, FL\, 32804\, United States
CATEGORIES:United Methodist Women
END:VEVENT
BEGIN:VEVENT
DTSTART;TZID=America/Los_Angeles:20220521T083000
DTEND;TZID=America/Los_Angeles:20220521T123000
DTSTAMP:20260425T204609
CREATED:20220326T182253Z
LAST-MODIFIED:20220326T182253Z
UID:10000540-1653121800-1653136200@www.pnwumc.org
SUMMARY:UMCOR Early Response Team Basic Training
DESCRIPTION:Be ready for when the next disaster strikes to help those most in need. \nTrain now to be an Early Response Team member. \nThis training will prepare you on ways to clean out a flooded home\, haul debris\, sift ashes and work alongside survivors while staying safe. United Methodist Committee on Relief (UMCOR) certified trainers teach the class and include real-world examples\, hands-on activities\, plus an opportunity to meet people with a passion for serving. \nThe three-part training combines two two-hour Zoom-based sessions and one four-hour in-person class. Dates are Monday and Wednesday\, May 16 and 18\, from 4 p.m. to 6 p.m. PT\, for the Zoom training. The in-person session is Saturday\, May 21\, from 8:30 a.m. to 12:30 p.m. at Des Moines United Methodist Church in Des Moines\, WA. This training is open to participants in the Oregon-Idaho and Pacific Northwest Conferences; a separate training is being planned for interested persons in Alaska. \nAll three days are required to complete the training. Anyone 18 years or older is welcome to attend. Full COVID-19 vaccinations in accordance with CDC guidelines are mandatory. The registration fee is $25. Class size is limited to 15 people so register ASAP.  Registration deadline is Friday\, May 6\, unless the class fills prior. There are pre-class requirements to complete no later than Friday\, May 13. Questions? Contact Kathy Bryson\, PNW Conference Disaster Response Coordinator\, at brysonpnw@gmail.com\, (509) 539-2978. \nClick here to register today!
URL:https://www.pnwumc.org/event/umcor-early-response-team-basic-training/2022-05-21/
LOCATION:Des Moines United Methodist Church\, 22225 9th Ave S\, Des Moines\, WA\, 98198\, United States
ATTACH;FMTTYPE=image/jpeg:https://www.pnwumc.org/wp-content/uploads/2022/03/ert-Basic.jpg
ORGANIZER;CN="Kathy Bryson":MAILTO:brysonpnw@gmail.com
GEO:47.402228;-122.322559
X-APPLE-STRUCTURED-LOCATION;VALUE=URI;X-ADDRESS=Des Moines United Methodist Church 22225 9th Ave S Des Moines WA 98198 United States;X-APPLE-RADIUS=500;X-TITLE=22225 9th Ave S:geo:-122.322559,47.402228
END:VEVENT
END:VCALENDAR