BEGIN:VCALENDAR
VERSION:2.0
PRODID:-//The Pacific Northwest Conference of The United Methodist Church - ECPv6.15.20//NONSGML v1.0//EN
CALSCALE:GREGORIAN
METHOD:PUBLISH
X-ORIGINAL-URL:https://www.pnwumc.org
X-WR-CALDESC:Events for The Pacific Northwest Conference of The United Methodist Church
REFRESH-INTERVAL;VALUE=DURATION:PT1H
X-Robots-Tag:noindex
X-PUBLISHED-TTL:PT1H
BEGIN:VTIMEZONE
TZID:America/Los_Angeles
BEGIN:DAYLIGHT
TZOFFSETFROM:-0800
TZOFFSETTO:-0700
TZNAME:PDT
DTSTART:20230312T100000
END:DAYLIGHT
BEGIN:STANDARD
TZOFFSETFROM:-0700
TZOFFSETTO:-0800
TZNAME:PST
DTSTART:20231105T090000
END:STANDARD
BEGIN:DAYLIGHT
TZOFFSETFROM:-0800
TZOFFSETTO:-0700
TZNAME:PDT
DTSTART:20240310T100000
END:DAYLIGHT
BEGIN:STANDARD
TZOFFSETFROM:-0700
TZOFFSETTO:-0800
TZNAME:PST
DTSTART:20241103T090000
END:STANDARD
BEGIN:DAYLIGHT
TZOFFSETFROM:-0800
TZOFFSETTO:-0700
TZNAME:PDT
DTSTART:20250309T100000
END:DAYLIGHT
BEGIN:STANDARD
TZOFFSETFROM:-0700
TZOFFSETTO:-0800
TZNAME:PST
DTSTART:20251102T090000
END:STANDARD
END:VTIMEZONE
BEGIN:VEVENT
DTSTART;TZID=America/Los_Angeles:20241107T090000
DTEND;TZID=America/Los_Angeles:20241107T170000
DTSTAMP:20260423T095448
CREATED:20240529T060104Z
LAST-MODIFIED:20240923T171436Z
UID:10000861-1730970000-1730998800@www.pnwumc.org
SUMMARY:Practicing Equity\, an Intercultural Skill
DESCRIPTION:How might you practice Equity as appointed or assigned leaders of the United Methodist Church? We will address this question in an all-day\, in-person workshop offered in three different locations around the Pacific Northwest Conference. Ordained clergy\, local licensed pastors\, and lay persons assigned from across the GNW Area are invited to attend. This full-day workshop (9 am to 5 pm) will fulfill the intercultural competency requirement for leaders under assignment or appointment in the PNW Conference for the quadrennium ending on December 31\, 2024. Kristina Gonzalez\, Executive Director for Innovation and Vitality\, and Equity Colleagues will facilitate. There is no charge for this training event. Registration is required at this link: https://www.surveymonkey.com/r/WXNS839 \nIf you are unsure whether you have fulfilled your PNW intercultural competency requirement for the current quadrennium\, please contact Stephanie Franklin\, Board of Ordained Ministry Administrator\, at sfranklin@pnwumc.org. If you have questions about this event\, please contact Patrick Ferguson\, Program Coordinator\, at pferguson@greaternw.org. \nThis training is being offered on three occasions this fall: \n\n\nNovember 7\, Spokane\, WA: Spokane Valley United Methodist Church\nNovember 13\, Seattle\, WA: Blaine Memorial United Methodist Church\nDecember 4\, Vancouver\, WA: Vancouver Heights United Methodist Church
URL:https://www.pnwumc.org/event/practicing-equity-an-intercultural-skill/
LOCATION:Spokane Valley United Methodist Church\, 115 N Raymond Rd\, Spokane Valley\, WA\, 99206\, United States
CATEGORIES:Board of Ordained Ministry,Clergy,Education,Training
ATTACH;FMTTYPE=image/jpeg:https://www.pnwumc.org/wp-content/uploads/2024/05/Intercultural-Competency.jpg
ORGANIZER;CN="Patrick Ferguson":MAILTO:pferguson@greaternw.org
GEO:47.658477;-117.264698
X-APPLE-STRUCTURED-LOCATION;VALUE=URI;X-ADDRESS=Spokane Valley United Methodist Church 115 N Raymond Rd Spokane Valley WA 99206 United States;X-APPLE-RADIUS=500;X-TITLE=115 N Raymond Rd:geo:-117.264698,47.658477
END:VEVENT
BEGIN:VEVENT
DTSTART;TZID=America/Los_Angeles:20241113T090000
DTEND;TZID=America/Los_Angeles:20241113T170000
DTSTAMP:20260423T095448
CREATED:20240529T060047Z
LAST-MODIFIED:20240923T171409Z
UID:10000860-1731488400-1731517200@www.pnwumc.org
SUMMARY:Practicing Equity\, an Intercultural Skill
DESCRIPTION:How might you practice Equity as appointed or assigned leaders of the United Methodist Church? We will address this question in an all-day\, in-person workshop offered in three different locations around the Pacific Northwest Conference. Ordained clergy\, local licensed pastors\, and lay persons assigned from across the GNW Area are invited to attend. This full-day workshop (9 am to 5 pm) will fulfill the intercultural competency requirement for leaders under assignment or appointment in the PNW Conference for the quadrennium ending on December 31\, 2024. Kristina Gonzalez\, Executive Director for Innovation and Vitality\, and Equity Colleagues will facilitate. There is no charge for this training event. Registration is required at this link: https://www.surveymonkey.com/r/WXNS839 \nIf you are unsure whether you have fulfilled your PNW intercultural competency requirement for the current quadrennium\, please contact Stephanie Franklin\, Board of Ordained Ministry Administrator\, at sfranklin@pnwumc.org. If you have questions about this event\, please contact Patrick Ferguson\, Program Coordinator\, at pferguson@greaternw.org. \nThis training is being offered on three occasions this fall: \n\n\nNovember 7\, Spokane\, WA: Spokane Valley United Methodist Church\nNovember 13\, Seattle\, WA: Blaine Memorial United Methodist Church\nDecember 4\, Vancouver\, WA: Vancouver Heights United Methodist Church
URL:https://www.pnwumc.org/event/practicing-equity-an-intercultural-skill-3/
LOCATION:Blaine Memorial UMC\, 3001 24th Ave S\, Seattle\, WA\, 98144\, United States
CATEGORIES:Board of Ordained Ministry,Clergy,Education,Training
ATTACH;FMTTYPE=image/jpeg:https://www.pnwumc.org/wp-content/uploads/2024/05/Intercultural-Competency.jpg
ORGANIZER;CN="Patrick Ferguson":MAILTO:pferguson@greaternw.org
GEO:47.5764631;-122.3013508
X-APPLE-STRUCTURED-LOCATION;VALUE=URI;X-ADDRESS=Blaine Memorial UMC 3001 24th Ave S Seattle WA 98144 United States;X-APPLE-RADIUS=500;X-TITLE=3001 24th Ave S:geo:-122.3013508,47.5764631
END:VEVENT
BEGIN:VEVENT
DTSTART;TZID=America/Los_Angeles:20241117T163000
DTEND;TZID=America/Los_Angeles:20241117T200000
DTSTAMP:20260423T095448
CREATED:20241004T020543Z
LAST-MODIFIED:20241004T020543Z
UID:10000961-1731861000-1731873600@www.pnwumc.org
SUMMARY:Faith Action Network's Annual Dinner
DESCRIPTION:Faith Action Network (FAN) is delighted to announce that it’s online registration for their Annual Dinner celebration and fundraiser on Sunday\, November 17\, is now open! Please go to their event webpage and click on the Renton\, Spokane\, or Sponsorship buttons to secure your seat(s) or find information about sponsorship opportunities. Seats are limited! Supporters will be coming together in-person and online as people of diverse traditions of faith and conscience to recommit to our shared work for justice and compassion. \nThe night’s theme\, Transforming our Future Together\, reflects FAN’s awareness that our nation and the global community as a whole are in uncertain times. While we do not know the outcome of the November 5 elections\, we do know that the threats of Christian nationalism to our democracy and religious pluralism will continue for the foreseeable future. FAN’s very identity as a multi-faith organization advocating together for policies to promote the common good is a strong witness as an alternative for our state and nation. \nOn November 17\, supporters will celebrate the power of our multi-faith\, statewide movement and make sure FAN is strong in the year ahead. We will celebrate our legislative victories from this past year\, introduce our new executive director (watch for our announcement next week!)\, and look ahead to our plans for 2025. Help us sustain this momentum with your financial support by sponsoring and joining in our event: https://fanwa.org/annual-dinner. \nIf you prefer to reserve your seat/s or discuss a sponsorship by phone\, please contact our office at fan@fanwa.org or call us at 206-625-9790.
URL:https://www.pnwumc.org/event/faith-action-networks-annual-dinner/
LOCATION:https://www.pnwumc.org/event/faith-action-networks-annual-dinner/
CATEGORIES:Networks
ATTACH;FMTTYPE=image/jpeg:https://www.pnwumc.org/wp-content/uploads/2024/10/FAN-Dinner.jpg
ORGANIZER;CN="Faith Action Network":MAILTO:fan@fanwa.org
END:VEVENT
BEGIN:VEVENT
DTSTART;VALUE=DATE:20241118
DTEND;VALUE=DATE:20241120
DTSTAMP:20260423T095448
CREATED:20241115T223241Z
LAST-MODIFIED:20241115T223241Z
UID:10001027-1731888000-1732060799@www.pnwumc.org
SUMMARY:Board of Ordained Ministry
DESCRIPTION:The Board of Ordained Ministry will be meeting at Browns Point United Methodist Church the evening of Nov. 18 through November 19. Please email Stephanie Franklin for additional details.
URL:https://www.pnwumc.org/event/board-of-ordained-ministry-3/
LOCATION:Browns Point UMC\, 5339 Browns Point Blvd NE\, Tacoma\, 98422\, United States
CATEGORIES:Board of Ordained Ministry,Meetings
ATTACH;FMTTYPE=image/png:https://www.pnwumc.org/wp-content/uploads/2024/11/LOGO_BOM_FINAL.png
ORGANIZER;CN="Stephanie Franklin":MAILTO:sfranklin@pnwumc.org
END:VEVENT
BEGIN:VEVENT
DTSTART;VALUE=DATE:20241128
DTEND;VALUE=DATE:20241130
DTSTAMP:20260423T095448
CREATED:20241112T220705Z
LAST-MODIFIED:20241112T220705Z
UID:10000971-1732752000-1732924799@www.pnwumc.org
SUMMARY:Thanksgiving Holiday - Office Closed
DESCRIPTION:
URL:https://www.pnwumc.org/event/thanksgiving-holiday-office-closed/
LOCATION:WA
CATEGORIES:Holidays
ATTACH;FMTTYPE=image/jpeg:https://www.pnwumc.org/wp-content/uploads/2023/01/Thanksgiving-stock.jpg
END:VEVENT
END:VCALENDAR