BEGIN:VCALENDAR
VERSION:2.0
PRODID:-//The Pacific Northwest Conference of The United Methodist Church - ECPv6.15.20//NONSGML v1.0//EN
CALSCALE:GREGORIAN
METHOD:PUBLISH
X-WR-CALNAME:The Pacific Northwest Conference of The United Methodist Church
X-ORIGINAL-URL:https://www.pnwumc.org
X-WR-CALDESC:Events for The Pacific Northwest Conference of The United Methodist Church
REFRESH-INTERVAL;VALUE=DURATION:PT1H
X-Robots-Tag:noindex
X-PUBLISHED-TTL:PT1H
BEGIN:VTIMEZONE
TZID:America/Los_Angeles
BEGIN:DAYLIGHT
TZOFFSETFROM:-0800
TZOFFSETTO:-0700
TZNAME:PDT
DTSTART:20230312T100000
END:DAYLIGHT
BEGIN:STANDARD
TZOFFSETFROM:-0700
TZOFFSETTO:-0800
TZNAME:PST
DTSTART:20231105T090000
END:STANDARD
BEGIN:DAYLIGHT
TZOFFSETFROM:-0800
TZOFFSETTO:-0700
TZNAME:PDT
DTSTART:20240310T100000
END:DAYLIGHT
BEGIN:STANDARD
TZOFFSETFROM:-0700
TZOFFSETTO:-0800
TZNAME:PST
DTSTART:20241103T090000
END:STANDARD
BEGIN:DAYLIGHT
TZOFFSETFROM:-0800
TZOFFSETTO:-0700
TZNAME:PDT
DTSTART:20250309T100000
END:DAYLIGHT
BEGIN:STANDARD
TZOFFSETFROM:-0700
TZOFFSETTO:-0800
TZNAME:PST
DTSTART:20251102T090000
END:STANDARD
END:VTIMEZONE
BEGIN:VEVENT
DTSTART;TZID=America/Los_Angeles:20240601T100000
DTEND;TZID=America/Los_Angeles:20240601T233000
DTSTAMP:20260423T181324
CREATED:20240525T212449Z
LAST-MODIFIED:20240529T055329Z
UID:10000859-1717236000-1717284600@www.pnwumc.org
SUMMARY:Laity Meet-Up: History was made - Learn what happened at General Conference
DESCRIPTION:‘The Laity Meet-Up’ Set for This Saturday\, June 1: Click here to register today! \nAll area laypersons are encouraged to register now for the next installment of “The Laity Meet-Up” this Saturday\, June 1. The free event will be held via Zoom 9 a.m. AKT | 10 a.m. PT | 11 a.m. MT. \nA panel of speakers will address the topic: “History Was Made: Learn About the Recent General Conference.” The panelists – Skylar Marston-Bihl\, Jan Nelson\, and Jo Anne Hayden\, represent all three of the annual conferences in the Greater Northwest Area at General Conference\, held recently in Charlotte\, N.C. More than 1\,000 petitions were processed\, and more than 800 delegates from around the world (and an additional 1\,000-plus reserves and observers) attended. \nThe panel will discuss important legislation addressed as the conference\, specifically: removing restrictive language from the Book of Discipline\, revising church structure\, updating the Social Principles\, and how the church has dramatically changed. \nAll persons\, laity and clergy alike\, are welcome to the gatherings of The Laity Meet-Up. For more information or to register\, click here.
URL:https://www.pnwumc.org/event/laity-meet-up-history-was-made-learn-what-happened-at-general-conference/
LOCATION:https://www.pnwumc.org/event/laity-meet-up-history-was-made-learn-what-happened-at-general-conference/
CATEGORIES:Greater NW Area,Laity
ATTACH;FMTTYPE=image/jpeg:https://www.pnwumc.org/wp-content/uploads/2024/05/GNW-Webinar-Laity-Meet-Up2.jpg
END:VEVENT
BEGIN:VEVENT
DTSTART;VALUE=DATE:20240613
DTEND;VALUE=DATE:20240617
DTSTAMP:20260423T181324
CREATED:20230816T235357Z
LAST-MODIFIED:20240419T003347Z
UID:10000647-1718236800-1718582399@www.pnwumc.org
SUMMARY:2024 PNW Annual Conference Session
DESCRIPTION:Bishop Cedrick Bridgeforth announced at the close of our 2023 session that we would gather in the Seven Rivers District on June 13-16 for our 2024 PNW Annual Conference Session. More information about this event is now available on the PNW Annual Conference 2024 subsite. \n 
URL:https://www.pnwumc.org/event/2024-pnw-annual-conference-session/
LOCATION:Central United Protestant\, 1124 Stevens Dr.\, Richland\, WA\, 99354\, United States
CATEGORIES:Annual Conference
ATTACH;FMTTYPE=image/jpeg:https://www.pnwumc.org/wp-content/uploads/2024/04/AC2024-16-9-logo-pnw-web.jpg
GEO:46.283981;-119.28319
X-APPLE-STRUCTURED-LOCATION;VALUE=URI;X-ADDRESS=Central United Protestant 1124 Stevens Dr. Richland WA 99354 United States;X-APPLE-RADIUS=500;X-TITLE=1124 Stevens Dr.:geo:-119.28319,46.283981
END:VEVENT
END:VCALENDAR