BEGIN:VCALENDAR
VERSION:2.0
PRODID:-//The Pacific Northwest Conference of The United Methodist Church - ECPv6.15.20//NONSGML v1.0//EN
CALSCALE:GREGORIAN
METHOD:PUBLISH
X-ORIGINAL-URL:https://www.pnwumc.org
X-WR-CALDESC:Events for The Pacific Northwest Conference of The United Methodist Church
REFRESH-INTERVAL;VALUE=DURATION:PT1H
X-Robots-Tag:noindex
X-PUBLISHED-TTL:PT1H
BEGIN:VTIMEZONE
TZID:America/Los_Angeles
BEGIN:DAYLIGHT
TZOFFSETFROM:-0800
TZOFFSETTO:-0700
TZNAME:PDT
DTSTART:20220313T100000
END:DAYLIGHT
BEGIN:STANDARD
TZOFFSETFROM:-0700
TZOFFSETTO:-0800
TZNAME:PST
DTSTART:20221106T090000
END:STANDARD
BEGIN:DAYLIGHT
TZOFFSETFROM:-0800
TZOFFSETTO:-0700
TZNAME:PDT
DTSTART:20230312T100000
END:DAYLIGHT
BEGIN:STANDARD
TZOFFSETFROM:-0700
TZOFFSETTO:-0800
TZNAME:PST
DTSTART:20231105T090000
END:STANDARD
BEGIN:DAYLIGHT
TZOFFSETFROM:-0800
TZOFFSETTO:-0700
TZNAME:PDT
DTSTART:20240310T100000
END:DAYLIGHT
BEGIN:STANDARD
TZOFFSETFROM:-0700
TZOFFSETTO:-0800
TZNAME:PST
DTSTART:20241103T090000
END:STANDARD
END:VTIMEZONE
BEGIN:VEVENT
DTSTART;VALUE=DATE:20231009
DTEND;VALUE=DATE:20231010
DTSTAMP:20260424T111055
CREATED:20230118T174013Z
LAST-MODIFIED:20230929T171854Z
UID:10000584-1696809600-1696895999@www.pnwumc.org
SUMMARY:Indigenous Peoples' Day - Office Closed
DESCRIPTION:
URL:https://www.pnwumc.org/event/indigenous-peoples-day-office-closed/
LOCATION:WA
CATEGORIES:Holidays
ATTACH;FMTTYPE=image/png:https://www.pnwumc.org/wp-content/uploads/2023/01/Ind-peep-day.png
END:VEVENT
BEGIN:VEVENT
DTSTART;TZID=America/Los_Angeles:20231009T083000
DTEND;TZID=America/Los_Angeles:20231009T110000
DTSTAMP:20260424T111055
CREATED:20230831T173337Z
LAST-MODIFIED:20230831T174924Z
UID:10000653-1696840200-1696849200@www.pnwumc.org
SUMMARY:Bishop's Day in the Puget Sound District - Part 1
DESCRIPTION:In his efforts to continue getting to know our Pacific Northwest Conference and Greater Northwest Area\, Bishop Cedrick Bridgeforth will meet with clergy and laity of the Puget Sound District on Monday\, October 9. \n  \nBecause our district is geographically spread out\, Bishop will meet with us in two different locations that day. In the morning\, Kingston Redeemer UMC will host churches that are on the west side of the Puget Sound plus Whidbey and Fidalgo Islands. Then\, in the afternoon\, Bothell UMC will host those churches located east of the Sound. \n  \nCapacity is limited in each location\, so we are asking for each church in the district to coordinate who will attend to represent them: at least the pastor(s) and 1-2 lay people. Information about registration has been emailed to pastors and leaders\, so please check your inboxes for more details.
URL:https://www.pnwumc.org/event/bishops-day-in-the-puget-sound-district-part-1/
LOCATION:Kingston: Redeemer UMC\, 9900 NE Shorty Campbell Rd\, Kingston\, 98346\, United States
CATEGORIES:Clergy,District,Laity,Puget Sound
ATTACH;FMTTYPE=image/png:https://www.pnwumc.org/wp-content/uploads/2023/08/Bishops-day-in-Puget-Sound2.png
ORGANIZER;CN="Puget Sound District":MAILTO:etombaugh@pnwumc.org
END:VEVENT
BEGIN:VEVENT
DTSTART;TZID=America/Los_Angeles:20231009T130000
DTEND;TZID=America/Los_Angeles:20231009T160000
DTSTAMP:20260424T111055
CREATED:20230831T173622Z
LAST-MODIFIED:20230831T174954Z
UID:10000654-1696856400-1696867200@www.pnwumc.org
SUMMARY:Bishop's Day in the Puget Sound District - Part 2
DESCRIPTION:In his efforts to continue getting to know our Pacific Northwest Conference and Greater Northwest Area\, Bishop Cedrick Bridgeforth will meet with clergy and laity of the Puget Sound District on Monday\, October 9. \n  \nBecause our district is geographically spread out\, Bishop will meet with us in two different locations that day. In the morning\, Kingston Redeemer UMC will host churches that are on the west side of the Puget Sound plus Whidbey and Fidalgo Islands. Then\, in the afternoon\, Bothell UMC will host those churches located east of the Sound. \n  \nCapacity is limited in each location\, so we are asking for each church in the district to coordinate who will attend to represent them: at least the pastor(s) and 1-2 lay people. Information about registration has been emailed to pastors and leaders\, so please check your inboxes for more details.
URL:https://www.pnwumc.org/event/bishops-day-in-the-puget-sound-district-part-2/
LOCATION:Bothell United Methodist Church\, 18515 92nd Ave NE\, Bothell\, 98011\, United States
CATEGORIES:Clergy,District,Laity,Puget Sound
ATTACH;FMTTYPE=image/png:https://www.pnwumc.org/wp-content/uploads/2023/08/Bishops-day-in-Puget-Sound2.png
GEO:47.7624306;-122.2189218
X-APPLE-STRUCTURED-LOCATION;VALUE=URI;X-ADDRESS=Bothell United Methodist Church 18515 92nd Ave NE Bothell 98011 United States;X-APPLE-RADIUS=500;X-TITLE=18515 92nd Ave NE:geo:-122.2189218,47.7624306
END:VEVENT
BEGIN:VEVENT
DTSTART;VALUE=DATE:20231020
DTEND;VALUE=DATE:20231022
DTSTAMP:20260424T111055
CREATED:20230908T181424Z
LAST-MODIFIED:20230908T181514Z
UID:10000655-1697760000-1697932799@www.pnwumc.org
SUMMARY:Conference United Women in Faith Annual Meeting
DESCRIPTION:Please visit the PNW United Women in Faith website for more information.
URL:https://www.pnwumc.org/event/conference-united-women-in-faith-annual-meeting/
LOCATION:First United Methodist Church of Olympia\, 1224 Legion Way SE\, Olympia\, WA\, 98501-1655\, United States
CATEGORIES:United Women in Faith
ATTACH;FMTTYPE=image/jpeg:https://www.pnwumc.org/wp-content/uploads/2023/08/United-Women-in-Faith.jpg
GEO:47.0447683;-122.8854621
X-APPLE-STRUCTURED-LOCATION;VALUE=URI;X-ADDRESS=First United Methodist Church of Olympia 1224 Legion Way SE Olympia WA 98501-1655 United States;X-APPLE-RADIUS=500;X-TITLE=1224 Legion Way SE:geo:-122.8854621,47.0447683
END:VEVENT
BEGIN:VEVENT
DTSTART;TZID=America/Los_Angeles:20231021T090000
DTEND;TZID=America/Los_Angeles:20231021T120000
DTSTAMP:20260424T111055
CREATED:20230822T233014Z
LAST-MODIFIED:20230822T233014Z
UID:10000649-1697878800-1697889600@www.pnwumc.org
SUMMARY:Advanced Preaching Class for Certified Lay Ministers and Lay Speakers
DESCRIPTION:The Advanced Preaching Class is intended to provide students with advanced skills in preaching and to give them feedback from experienced preachers in our Conference on a sermon they prepare and deliver. Participants must attend both sessions and prepare a written manuscript of a sermon on an assigned text during the week between the sessions. \nThis free course will be offered online via the Zoom Platform on October 21 and 28\, 2023\, from 9 a.m. to Noon PT. Registration is limited to nine students and closes on October 6. You can register online here: https://gnw-reg.brtapp.com/AdvancedPreaching2023 \nLaity from the Alaska\, Oregon-Idaho\, and Pacific Northwest Conferences who have completed an Introductory Course in Preaching are eligible to attend. This class qualifies as an approved advanced course for both CLMs and certified lay speakers. \nThis course will be taught by Rev. Kathy Neary and Rev. Andy Oliver. \nIf you have questions about the event\, please get in touch with Rev. Kathy Neary at kneary@pnwumc.org.
URL:https://www.pnwumc.org/event/advanced-preaching-class-for-certified-lay-ministers-and-lay-speakers/2023-10-21/
LOCATION:WA
CATEGORIES:Certified Lay Minister,Laity,Training
ATTACH;FMTTYPE=image/jpeg:https://www.pnwumc.org/wp-content/uploads/2023/08/advanced-preaching.jpg
ORGANIZER;CN="Kathy Neary":MAILTO:kneary@pnwumc.org
END:VEVENT
BEGIN:VEVENT
DTSTART;TZID=America/Los_Angeles:20231024T160000
DTEND;TZID=America/Los_Angeles:20231024T170000
DTSTAMP:20260424T111055
CREATED:20231005T192403Z
LAST-MODIFIED:20231005T192403Z
UID:10000678-1698163200-1698166800@www.pnwumc.org
SUMMARY:Crest to Coast Learning Hub Event
DESCRIPTION:Zoom for an engaging discussion on how to effectively manage conflict in a healthy manner. Our guest presenters\, Reverend Brian Shimer and Andrew Arthus of Genesis Christian Mediation\, will provide valuable insights and strategies for navigating challenging situations. This is an excellent opportunity to learn from experienced professionals and enhance your conflict resolution skills. \nClick here to register for this event.
URL:https://www.pnwumc.org/event/crest-to-coast-learning-hub-event/
LOCATION:https://www.pnwumc.org/event/crest-to-coast-learning-hub-event/
CATEGORIES:Crest to Coast,Training
ATTACH;FMTTYPE=image/jpeg:https://www.pnwumc.org/wp-content/uploads/2023/10/Crest-to-Coast-Learning-HUB-Blue.jpg
ORGANIZER;CN="Erin Tombaugh":MAILTO:etombaugh@pnwumc.org
END:VEVENT
BEGIN:VEVENT
DTSTART;TZID=America/Los_Angeles:20231026T150000
DTEND;TZID=America/Los_Angeles:20231026T170000
DTSTAMP:20260424T111055
CREATED:20230910T212743Z
LAST-MODIFIED:20230910T212743Z
UID:10000670-1698332400-1698339600@www.pnwumc.org
SUMMARY:Institutional Equity Cohort - Zoom Kickoff
DESCRIPTION:The date for the Zoom kickoff of Equity Cohort gatherings for individuals within the Alaska\, Oregon-Idaho\, and Pacific Northwest Annual Conferences leadership structures.
URL:https://www.pnwumc.org/event/institutional-equity-cohort-zoom-kickoff/
LOCATION:https://www.pnwumc.org/event/institutional-equity-cohort-zoom-kickoff/
CATEGORIES:Greater NW Area,Training
ATTACH;FMTTYPE=image/png:https://www.pnwumc.org/wp-content/uploads/2023/09/Equity-Cohorts.png
ORGANIZER;CN="Kristina Gonzalez":MAILTO:kgonzalez@greaternw.org
END:VEVENT
BEGIN:VEVENT
DTSTART;TZID=America/Los_Angeles:20231028T090000
DTEND;TZID=America/Los_Angeles:20231028T120000
DTSTAMP:20260424T111055
CREATED:20230822T233014Z
LAST-MODIFIED:20230822T233014Z
UID:10000650-1698483600-1698494400@www.pnwumc.org
SUMMARY:Advanced Preaching Class for Certified Lay Ministers and Lay Speakers
DESCRIPTION:The Advanced Preaching Class is intended to provide students with advanced skills in preaching and to give them feedback from experienced preachers in our Conference on a sermon they prepare and deliver. Participants must attend both sessions and prepare a written manuscript of a sermon on an assigned text during the week between the sessions. \nThis free course will be offered online via the Zoom Platform on October 21 and 28\, 2023\, from 9 a.m. to Noon PT. Registration is limited to nine students and closes on October 6. You can register online here: https://gnw-reg.brtapp.com/AdvancedPreaching2023 \nLaity from the Alaska\, Oregon-Idaho\, and Pacific Northwest Conferences who have completed an Introductory Course in Preaching are eligible to attend. This class qualifies as an approved advanced course for both CLMs and certified lay speakers. \nThis course will be taught by Rev. Kathy Neary and Rev. Andy Oliver. \nIf you have questions about the event\, please get in touch with Rev. Kathy Neary at kneary@pnwumc.org.
URL:https://www.pnwumc.org/event/advanced-preaching-class-for-certified-lay-ministers-and-lay-speakers/2023-10-28/
LOCATION:WA
CATEGORIES:Certified Lay Minister,Laity,Training
ATTACH;FMTTYPE=image/jpeg:https://www.pnwumc.org/wp-content/uploads/2023/08/advanced-preaching.jpg
ORGANIZER;CN="Kathy Neary":MAILTO:kneary@pnwumc.org
END:VEVENT
BEGIN:VEVENT
DTSTART;TZID=America/Los_Angeles:20231028T130000
DTEND;TZID=America/Los_Angeles:20231028T160000
DTSTAMP:20260424T111055
CREATED:20230929T171041Z
LAST-MODIFIED:20230929T171121Z
UID:10000672-1698498000-1698508800@www.pnwumc.org
SUMMARY:Fall Family Fun Fest
DESCRIPTION:Visit the Twinlow Camp website for more information.
URL:https://www.pnwumc.org/event/fall-family-fun-fest/2023-10-28/
LOCATION:Twinlow Camp\, 22787 N Twinlow Rd\, Rathdrum\, ID\, 83858\, United States
CATEGORIES:Camp and Retreat Ministries,Children's Ministry,Young People's Ministry,Youth
ATTACH;FMTTYPE=image/jpeg:https://www.pnwumc.org/wp-content/uploads/2023/09/fall-fam-fun-980x766-1.jpg
GEO:47.877512;-116.856824
X-APPLE-STRUCTURED-LOCATION;VALUE=URI;X-ADDRESS=Twinlow Camp 22787 N Twinlow Rd Rathdrum ID 83858 United States;X-APPLE-RADIUS=500;X-TITLE=22787 N Twinlow Rd:geo:-116.856824,47.877512
END:VEVENT
BEGIN:VEVENT
DTSTART;TZID=America/Los_Angeles:20231029T130000
DTEND;TZID=America/Los_Angeles:20231029T160000
DTSTAMP:20260424T111055
CREATED:20230929T171041Z
LAST-MODIFIED:20230929T171121Z
UID:10000673-1698584400-1698595200@www.pnwumc.org
SUMMARY:Fall Family Fun Fest
DESCRIPTION:Visit the Twinlow Camp website for more information.
URL:https://www.pnwumc.org/event/fall-family-fun-fest/2023-10-29/
LOCATION:Twinlow Camp\, 22787 N Twinlow Rd\, Rathdrum\, ID\, 83858\, United States
CATEGORIES:Camp and Retreat Ministries,Children's Ministry,Young People's Ministry,Youth
ATTACH;FMTTYPE=image/jpeg:https://www.pnwumc.org/wp-content/uploads/2023/09/fall-fam-fun-980x766-1.jpg
GEO:47.877512;-116.856824
X-APPLE-STRUCTURED-LOCATION;VALUE=URI;X-ADDRESS=Twinlow Camp 22787 N Twinlow Rd Rathdrum ID 83858 United States;X-APPLE-RADIUS=500;X-TITLE=22787 N Twinlow Rd:geo:-116.856824,47.877512
END:VEVENT
END:VCALENDAR