BEGIN:VCALENDAR
VERSION:2.0
PRODID:-//The Pacific Northwest Conference of The United Methodist Church - ECPv6.15.20//NONSGML v1.0//EN
CALSCALE:GREGORIAN
METHOD:PUBLISH
X-ORIGINAL-URL:https://www.pnwumc.org
X-WR-CALDESC:Events for The Pacific Northwest Conference of The United Methodist Church
REFRESH-INTERVAL;VALUE=DURATION:PT1H
X-Robots-Tag:noindex
X-PUBLISHED-TTL:PT1H
BEGIN:VTIMEZONE
TZID:America/Los_Angeles
BEGIN:DAYLIGHT
TZOFFSETFROM:-0800
TZOFFSETTO:-0700
TZNAME:PDT
DTSTART:20220313T100000
END:DAYLIGHT
BEGIN:STANDARD
TZOFFSETFROM:-0700
TZOFFSETTO:-0800
TZNAME:PST
DTSTART:20221106T090000
END:STANDARD
BEGIN:DAYLIGHT
TZOFFSETFROM:-0800
TZOFFSETTO:-0700
TZNAME:PDT
DTSTART:20230312T100000
END:DAYLIGHT
BEGIN:STANDARD
TZOFFSETFROM:-0700
TZOFFSETTO:-0800
TZNAME:PST
DTSTART:20231105T090000
END:STANDARD
BEGIN:DAYLIGHT
TZOFFSETFROM:-0800
TZOFFSETTO:-0700
TZNAME:PDT
DTSTART:20240310T100000
END:DAYLIGHT
BEGIN:STANDARD
TZOFFSETFROM:-0700
TZOFFSETTO:-0800
TZNAME:PST
DTSTART:20241103T090000
END:STANDARD
END:VTIMEZONE
BEGIN:VEVENT
DTSTART;TZID=America/Los_Angeles:20230802T150000
DTEND;TZID=America/Los_Angeles:20230802T163000
DTSTAMP:20260424T144726
CREATED:20230627T223443Z
LAST-MODIFIED:20230627T223443Z
UID:10000630-1690988400-1690993800@www.pnwumc.org
SUMMARY:Lay Pastoral Care Training (Online)
DESCRIPTION:Click here to register for an eight-week Zoom or in-person course based on Timothy M. Farabaugh’s book Lay Pastoral Care Giving. This training will include the basics of lay pastoral care\, why a system for this vital form of care can be a life-giving ministry for congregations of any size\, and how to create and commission a team for your church.  This course is offered by Rev. Alissa Amestoy\, pastor of Spokane Valley UMC. \nTwo sessions will be offered; \n\nSession 1 will be a Zoom session held Wednesdays from 6:30 pm – 8 pm starting August 2 and running through September 20.\nSession 2 will be an in-person session at Spokane Valley UMC held on Wednesdays from 3:00 pm – 4:30 pm starting August 2 and running through September 20.\n\nClick here to register for the in-person or online class offerings.
URL:https://www.pnwumc.org/event/lay-pastoral-care-training-online/2023-08-02/
LOCATION:WA\, United States
CATEGORIES:District,Laity,Online Training
GEO:30.3321838;-81.655651
END:VEVENT
BEGIN:VEVENT
DTSTART;TZID=America/Los_Angeles:20230802T183000
DTEND;TZID=America/Los_Angeles:20230802T200000
DTSTAMP:20260424T144726
CREATED:20230627T222442Z
LAST-MODIFIED:20230720T220719Z
UID:10000622-1691001000-1691006400@www.pnwumc.org
SUMMARY:Lay Pastoral Care Training
DESCRIPTION:Click here to register for an eight-week Zoom or in-person course based on Timothy M. Farabaugh’s book Lay Pastoral Care Giving. This training will include the basics of lay pastoral care\, why a system for this vital form of care can be a life-giving ministry for congregations of any size\, and how to create and commission a team for your church.  This course is offered by Rev. Alissa Amestoy\, pastor of Spokane Valley UMC. \nTwo sessions will be offered; \n\nSession 1 will be a Zoom session held Wednesdays from 6:30 pm – 8 pm starting August 2 and running through September 20.\nSession 2 will be an in-person session at Spokane Valley UMC held on Wednesdays from 3:00 pm – 4:30 pm starting August 2 and running through September 20.\n\nClick here to register for the in-person or online class offerings.
URL:https://www.pnwumc.org/event/lay-pastoral-care-training/2023-08-02/
LOCATION:Spokane Valley United Methodist Church\, 115 N Raymond Rd\, Spokane Valley\, WA\, 99206\, United States
CATEGORIES:District,Laity,Training
ATTACH;FMTTYPE=image/jpeg:https://www.pnwumc.org/wp-content/uploads/2023/06/priscilla-du-preez-aPa843frIzI-unsplash.jpg
GEO:47.658477;-117.264698
X-APPLE-STRUCTURED-LOCATION;VALUE=URI;X-ADDRESS=Spokane Valley United Methodist Church 115 N Raymond Rd Spokane Valley WA 99206 United States;X-APPLE-RADIUS=500;X-TITLE=115 N Raymond Rd:geo:-117.264698,47.658477
END:VEVENT
BEGIN:VEVENT
DTSTART;TZID=America/Los_Angeles:20230803T130000
DTEND;TZID=America/Los_Angeles:20230803T160000
DTSTAMP:20260424T144726
CREATED:20230602T223644Z
LAST-MODIFIED:20230602T223644Z
UID:10000610-1691067600-1691078400@www.pnwumc.org
SUMMARY:Advanced Boundary Training (Session 2 of 2)
DESCRIPTION:Advanced Boundaries Training for Pastoral Leaders offered online this summer\nThe Pacific Northwest Conference is offering Advanced Boundary Training on Thursdays\, July 27 and August 3\, from 1:00-4:00 pm each day over Zoom. This class is advanced training for clergy who have previously participated in one or more boundary workshops in the past; the course fee is $25. Rev. Kathy Morse will facilitate the training\, which fulfills the boundary requirement for clergy. \nThe class involves discussion of case studies prepared by the participants. These need to be prepared prior to the training\, based on a personal experience related to boundary issues. Please describe the incident\, your actions\, the outcome\, and what you learned and/or might have done differently. This study should be typed out and e-mailed to the presenter before the first training so that it can be forwarded to all participants prior to the training.  Please submit this to the presenter at least one week prior to the class. \nTo register\, please use this link. \nBoth sessions must be attended plus the case study written and mailed to the trainer for you to receive the full 8 hours credit to fulfill the boundary requirements.
URL:https://www.pnwumc.org/event/advanced-boundary-training-session-2-of-2-2/
LOCATION:Zoom Webinar\, United States
CATEGORIES:Board of Ordained Ministry,Training
ORGANIZER;CN="Board of Ordained Ministry":MAILTO:sfranklin@pnwumc.org
GEO:37.09024;-95.712891
END:VEVENT
BEGIN:VEVENT
DTSTART;TZID=America/Los_Angeles:20230809T150000
DTEND;TZID=America/Los_Angeles:20230809T163000
DTSTAMP:20260424T144726
CREATED:20230627T223443Z
LAST-MODIFIED:20230627T223443Z
UID:10000631-1691593200-1691598600@www.pnwumc.org
SUMMARY:Lay Pastoral Care Training (Online)
DESCRIPTION:Click here to register for an eight-week Zoom or in-person course based on Timothy M. Farabaugh’s book Lay Pastoral Care Giving. This training will include the basics of lay pastoral care\, why a system for this vital form of care can be a life-giving ministry for congregations of any size\, and how to create and commission a team for your church.  This course is offered by Rev. Alissa Amestoy\, pastor of Spokane Valley UMC. \nTwo sessions will be offered; \n\nSession 1 will be a Zoom session held Wednesdays from 6:30 pm – 8 pm starting August 2 and running through September 20.\nSession 2 will be an in-person session at Spokane Valley UMC held on Wednesdays from 3:00 pm – 4:30 pm starting August 2 and running through September 20.\n\nClick here to register for the in-person or online class offerings.
URL:https://www.pnwumc.org/event/lay-pastoral-care-training-online/2023-08-09/
LOCATION:WA\, United States
CATEGORIES:District,Laity,Online Training
GEO:30.3321838;-81.655651
END:VEVENT
BEGIN:VEVENT
DTSTART;TZID=America/Los_Angeles:20230809T183000
DTEND;TZID=America/Los_Angeles:20230809T200000
DTSTAMP:20260424T144726
CREATED:20230627T222442Z
LAST-MODIFIED:20230720T220719Z
UID:10000623-1691605800-1691611200@www.pnwumc.org
SUMMARY:Lay Pastoral Care Training
DESCRIPTION:Click here to register for an eight-week Zoom or in-person course based on Timothy M. Farabaugh’s book Lay Pastoral Care Giving. This training will include the basics of lay pastoral care\, why a system for this vital form of care can be a life-giving ministry for congregations of any size\, and how to create and commission a team for your church.  This course is offered by Rev. Alissa Amestoy\, pastor of Spokane Valley UMC. \nTwo sessions will be offered; \n\nSession 1 will be a Zoom session held Wednesdays from 6:30 pm – 8 pm starting August 2 and running through September 20.\nSession 2 will be an in-person session at Spokane Valley UMC held on Wednesdays from 3:00 pm – 4:30 pm starting August 2 and running through September 20.\n\nClick here to register for the in-person or online class offerings.
URL:https://www.pnwumc.org/event/lay-pastoral-care-training/2023-08-09/
LOCATION:Spokane Valley United Methodist Church\, 115 N Raymond Rd\, Spokane Valley\, WA\, 99206\, United States
CATEGORIES:District,Laity,Training
ATTACH;FMTTYPE=image/jpeg:https://www.pnwumc.org/wp-content/uploads/2023/06/priscilla-du-preez-aPa843frIzI-unsplash.jpg
GEO:47.658477;-117.264698
X-APPLE-STRUCTURED-LOCATION;VALUE=URI;X-ADDRESS=Spokane Valley United Methodist Church 115 N Raymond Rd Spokane Valley WA 99206 United States;X-APPLE-RADIUS=500;X-TITLE=115 N Raymond Rd:geo:-117.264698,47.658477
END:VEVENT
BEGIN:VEVENT
DTSTART;TZID=America/Los_Angeles:20230815T130000
DTEND;TZID=America/Los_Angeles:20230815T160000
DTSTAMP:20260424T144726
CREATED:20230605T213415Z
LAST-MODIFIED:20230605T213415Z
UID:10000611-1692104400-1692115200@www.pnwumc.org
SUMMARY:Clergy Wellness Webinar - Deciphering Personality Disorders in the Church and Beyond
DESCRIPTION:There are always one or two people in your congregation who know exactly how to push your buttons\, alienate others and make even the most innocuous meeting agenda go suddenly awry.  Learn about the personality disorders that are often behind people’s bad behavior and how you can become more effective in dealing with them. While we will be addressing clinical material\, the emphasis is not on diagnosis but on recognizing patterns of behavior and understanding the motivation behind them.  Through understanding\, you can begin to take your encounters with such people less personally.  This restores balance to your interactions and enables you to set healthy boundaries that protect you from hurtful behavior. \nThis event will take place over Zoom on Tuesday\, August 15th from 1-4pm. Please go to this link to register. \nObjectives: \n\nIdentify the five personality disorders most likely to be present in your congregations and understand the origins of these disorders.\nLearn the basic principles of assertiveness and how to utilize them in your church.\nDevelop an awareness of the personalities to which you are most vulnerable based on your personal history.\nLearn to implement appropriate boundaries that allow for healthy self-care without taking away from your family or your congregation.
URL:https://www.pnwumc.org/event/clergy-wellness-webinar-deciphering-personality-disorders-in-the-church-and-beyond/
LOCATION:Zoom Webinar\, United States
CATEGORIES:Board of Ordained Ministry
ATTACH;FMTTYPE=image/jpeg:https://www.pnwumc.org/wp-content/uploads/2018/12/Clergy-Wellness-Workshop-image.jpg
ORGANIZER;CN="Board of Ordained Ministry":MAILTO:sfranklin@pnwumc.org
GEO:37.09024;-95.712891
END:VEVENT
BEGIN:VEVENT
DTSTART;TZID=America/Los_Angeles:20230816T150000
DTEND;TZID=America/Los_Angeles:20230816T163000
DTSTAMP:20260424T144726
CREATED:20230627T223443Z
LAST-MODIFIED:20230627T223443Z
UID:10000632-1692198000-1692203400@www.pnwumc.org
SUMMARY:Lay Pastoral Care Training (Online)
DESCRIPTION:Click here to register for an eight-week Zoom or in-person course based on Timothy M. Farabaugh’s book Lay Pastoral Care Giving. This training will include the basics of lay pastoral care\, why a system for this vital form of care can be a life-giving ministry for congregations of any size\, and how to create and commission a team for your church.  This course is offered by Rev. Alissa Amestoy\, pastor of Spokane Valley UMC. \nTwo sessions will be offered; \n\nSession 1 will be a Zoom session held Wednesdays from 6:30 pm – 8 pm starting August 2 and running through September 20.\nSession 2 will be an in-person session at Spokane Valley UMC held on Wednesdays from 3:00 pm – 4:30 pm starting August 2 and running through September 20.\n\nClick here to register for the in-person or online class offerings.
URL:https://www.pnwumc.org/event/lay-pastoral-care-training-online/2023-08-16/
LOCATION:WA\, United States
CATEGORIES:District,Laity,Online Training
GEO:30.3321838;-81.655651
END:VEVENT
BEGIN:VEVENT
DTSTART;TZID=America/Los_Angeles:20230816T183000
DTEND;TZID=America/Los_Angeles:20230816T200000
DTSTAMP:20260424T144726
CREATED:20230627T222442Z
LAST-MODIFIED:20230720T220719Z
UID:10000624-1692210600-1692216000@www.pnwumc.org
SUMMARY:Lay Pastoral Care Training
DESCRIPTION:Click here to register for an eight-week Zoom or in-person course based on Timothy M. Farabaugh’s book Lay Pastoral Care Giving. This training will include the basics of lay pastoral care\, why a system for this vital form of care can be a life-giving ministry for congregations of any size\, and how to create and commission a team for your church.  This course is offered by Rev. Alissa Amestoy\, pastor of Spokane Valley UMC. \nTwo sessions will be offered; \n\nSession 1 will be a Zoom session held Wednesdays from 6:30 pm – 8 pm starting August 2 and running through September 20.\nSession 2 will be an in-person session at Spokane Valley UMC held on Wednesdays from 3:00 pm – 4:30 pm starting August 2 and running through September 20.\n\nClick here to register for the in-person or online class offerings.
URL:https://www.pnwumc.org/event/lay-pastoral-care-training/2023-08-16/
LOCATION:Spokane Valley United Methodist Church\, 115 N Raymond Rd\, Spokane Valley\, WA\, 99206\, United States
CATEGORIES:District,Laity,Training
ATTACH;FMTTYPE=image/jpeg:https://www.pnwumc.org/wp-content/uploads/2023/06/priscilla-du-preez-aPa843frIzI-unsplash.jpg
GEO:47.658477;-117.264698
X-APPLE-STRUCTURED-LOCATION;VALUE=URI;X-ADDRESS=Spokane Valley United Methodist Church 115 N Raymond Rd Spokane Valley WA 99206 United States;X-APPLE-RADIUS=500;X-TITLE=115 N Raymond Rd:geo:-117.264698,47.658477
END:VEVENT
BEGIN:VEVENT
DTSTART;TZID=America/Los_Angeles:20230819T100000
DTEND;TZID=America/Los_Angeles:20230819T140000
DTSTAMP:20260424T144726
CREATED:20230802T012456Z
LAST-MODIFIED:20230802T012722Z
UID:10000639-1692439200-1692453600@www.pnwumc.org
SUMMARY:SeaTac District Day
DESCRIPTION:Clergy and Lay members of the SeaTac District\, please join us for the upcoming SeaTac District Day! On Saturday\, August 19 we will gather at Tacoma First UMC from 10:00am – 2:00pm. \nThe day will begin with a time of sharing from the ministry of Tacoma First UMC and the ministry they have created called Common Good Tacoma\, creating partnerships with community organizations that share a common vision for their neighborhood and community. Over lunch we will welcome the new pastors in our District and thank those who have served our District in this past year. Then\, we will conclude with a series of workshops that we believe will challenge and inspire you for your ministry contexts\, including “Deep(er) Dive with Common Good Tacoma\,” “Creation Care\,” and “Property Development and Community Engaged Partnerships.” \n  \nRSVP here to let us know you’re coming. Looking forward to seeing you soon!
URL:https://www.pnwumc.org/event/seatac-district-day/
LOCATION:Tacoma First United Methodist Church\, 621 Tacoma Avenue South\, Tacoma\, WA\, 98402\, United States
CATEGORIES:District,SeaTac
ATTACH;FMTTYPE=image/png:https://www.pnwumc.org/wp-content/uploads/2023/08/seatac-district-day.png
ORGANIZER;CN="SeaTac District":MAILTO:etombaugh@pnwumc.org
GEO:47.2573855;-122.4453398
X-APPLE-STRUCTURED-LOCATION;VALUE=URI;X-ADDRESS=Tacoma First United Methodist Church 621 Tacoma Avenue South Tacoma WA 98402 United States;X-APPLE-RADIUS=500;X-TITLE=621 Tacoma Avenue South:geo:-122.4453398,47.2573855
END:VEVENT
BEGIN:VEVENT
DTSTART;TZID=America/Los_Angeles:20230823T150000
DTEND;TZID=America/Los_Angeles:20230823T163000
DTSTAMP:20260424T144726
CREATED:20230627T223443Z
LAST-MODIFIED:20230627T223443Z
UID:10000633-1692802800-1692808200@www.pnwumc.org
SUMMARY:Lay Pastoral Care Training (Online)
DESCRIPTION:Click here to register for an eight-week Zoom or in-person course based on Timothy M. Farabaugh’s book Lay Pastoral Care Giving. This training will include the basics of lay pastoral care\, why a system for this vital form of care can be a life-giving ministry for congregations of any size\, and how to create and commission a team for your church.  This course is offered by Rev. Alissa Amestoy\, pastor of Spokane Valley UMC. \nTwo sessions will be offered; \n\nSession 1 will be a Zoom session held Wednesdays from 6:30 pm – 8 pm starting August 2 and running through September 20.\nSession 2 will be an in-person session at Spokane Valley UMC held on Wednesdays from 3:00 pm – 4:30 pm starting August 2 and running through September 20.\n\nClick here to register for the in-person or online class offerings.
URL:https://www.pnwumc.org/event/lay-pastoral-care-training-online/2023-08-23/
LOCATION:WA\, United States
CATEGORIES:District,Laity,Online Training
GEO:30.3321838;-81.655651
END:VEVENT
BEGIN:VEVENT
DTSTART;TZID=America/Los_Angeles:20230823T183000
DTEND;TZID=America/Los_Angeles:20230823T200000
DTSTAMP:20260424T144726
CREATED:20230627T222442Z
LAST-MODIFIED:20230720T220719Z
UID:10000625-1692815400-1692820800@www.pnwumc.org
SUMMARY:Lay Pastoral Care Training
DESCRIPTION:Click here to register for an eight-week Zoom or in-person course based on Timothy M. Farabaugh’s book Lay Pastoral Care Giving. This training will include the basics of lay pastoral care\, why a system for this vital form of care can be a life-giving ministry for congregations of any size\, and how to create and commission a team for your church.  This course is offered by Rev. Alissa Amestoy\, pastor of Spokane Valley UMC. \nTwo sessions will be offered; \n\nSession 1 will be a Zoom session held Wednesdays from 6:30 pm – 8 pm starting August 2 and running through September 20.\nSession 2 will be an in-person session at Spokane Valley UMC held on Wednesdays from 3:00 pm – 4:30 pm starting August 2 and running through September 20.\n\nClick here to register for the in-person or online class offerings.
URL:https://www.pnwumc.org/event/lay-pastoral-care-training/2023-08-23/
LOCATION:Spokane Valley United Methodist Church\, 115 N Raymond Rd\, Spokane Valley\, WA\, 99206\, United States
CATEGORIES:District,Laity,Training
ATTACH;FMTTYPE=image/jpeg:https://www.pnwumc.org/wp-content/uploads/2023/06/priscilla-du-preez-aPa843frIzI-unsplash.jpg
GEO:47.658477;-117.264698
X-APPLE-STRUCTURED-LOCATION;VALUE=URI;X-ADDRESS=Spokane Valley United Methodist Church 115 N Raymond Rd Spokane Valley WA 99206 United States;X-APPLE-RADIUS=500;X-TITLE=115 N Raymond Rd:geo:-117.264698,47.658477
END:VEVENT
BEGIN:VEVENT
DTSTART;TZID=America/Los_Angeles:20230826T083000
DTEND;TZID=America/Los_Angeles:20230826T170000
DTSTAMP:20260424T144726
CREATED:20230707T173421Z
LAST-MODIFIED:20230707T173421Z
UID:10000638-1693038600-1693069200@www.pnwumc.org
SUMMARY:Early Response Team Basic Training
DESCRIPTION:Be ready when the next disaster strikes to help those most in need. The Early Response Team Basic Training will prepare you on ways to clean out a flooded home\, haul debris\, sift through ashes and work alongside survivors while staying safe. The class is taught by United Methodist Committee on Relief (UMCOR) certified trainers and includes examples of recent missions\, hands-on activities\, and an opportunity to meet people with a passion to serve. Anyone 18 years or older is welcome to attend.  \nClick here to register! The registration deadline is Friday\, August 18. \nRegistration fee is $25 and includes all training materials\, lunch\, and snacks.  Scholarships are available. \nClick here to download a printable flier. \nQuestions? Contact Kathy Bryson\, PNW Conference Disaster Response Coordinator\, at brysonpnw@gmail.com\, (509) 539-2978.
URL:https://www.pnwumc.org/event/early-response-team-basic-training-3/
LOCATION:Mount Vernon First United Methodist Church\, 1607 E. Division\, Mount Vernon\, WA\, 98274\, United States
CATEGORIES:Disaster Response,Training,UMVIM
ATTACH;FMTTYPE=image/jpeg:https://www.pnwumc.org/wp-content/uploads/2023/07/ERT_Training-fall-2023.jpg
ORGANIZER;CN="Kathy Bryson":MAILTO:brysonpnw@gmail.com
GEO:48.4210479;-122.321072
X-APPLE-STRUCTURED-LOCATION;VALUE=URI;X-ADDRESS=Mount Vernon First United Methodist Church 1607 E. Division Mount Vernon WA 98274 United States;X-APPLE-RADIUS=500;X-TITLE=1607 E. Division:geo:-122.321072,48.4210479
END:VEVENT
BEGIN:VEVENT
DTSTART;TZID=America/Los_Angeles:20230830T150000
DTEND;TZID=America/Los_Angeles:20230830T163000
DTSTAMP:20260424T144726
CREATED:20230627T223443Z
LAST-MODIFIED:20230627T223443Z
UID:10000634-1693407600-1693413000@www.pnwumc.org
SUMMARY:Lay Pastoral Care Training (Online)
DESCRIPTION:Click here to register for an eight-week Zoom or in-person course based on Timothy M. Farabaugh’s book Lay Pastoral Care Giving. This training will include the basics of lay pastoral care\, why a system for this vital form of care can be a life-giving ministry for congregations of any size\, and how to create and commission a team for your church.  This course is offered by Rev. Alissa Amestoy\, pastor of Spokane Valley UMC. \nTwo sessions will be offered; \n\nSession 1 will be a Zoom session held Wednesdays from 6:30 pm – 8 pm starting August 2 and running through September 20.\nSession 2 will be an in-person session at Spokane Valley UMC held on Wednesdays from 3:00 pm – 4:30 pm starting August 2 and running through September 20.\n\nClick here to register for the in-person or online class offerings.
URL:https://www.pnwumc.org/event/lay-pastoral-care-training-online/2023-08-30/
LOCATION:WA\, United States
CATEGORIES:District,Laity,Online Training
GEO:30.3321838;-81.655651
END:VEVENT
BEGIN:VEVENT
DTSTART;TZID=America/Los_Angeles:20230830T183000
DTEND;TZID=America/Los_Angeles:20230830T200000
DTSTAMP:20260424T144726
CREATED:20230627T222442Z
LAST-MODIFIED:20230720T220719Z
UID:10000626-1693420200-1693425600@www.pnwumc.org
SUMMARY:Lay Pastoral Care Training
DESCRIPTION:Click here to register for an eight-week Zoom or in-person course based on Timothy M. Farabaugh’s book Lay Pastoral Care Giving. This training will include the basics of lay pastoral care\, why a system for this vital form of care can be a life-giving ministry for congregations of any size\, and how to create and commission a team for your church.  This course is offered by Rev. Alissa Amestoy\, pastor of Spokane Valley UMC. \nTwo sessions will be offered; \n\nSession 1 will be a Zoom session held Wednesdays from 6:30 pm – 8 pm starting August 2 and running through September 20.\nSession 2 will be an in-person session at Spokane Valley UMC held on Wednesdays from 3:00 pm – 4:30 pm starting August 2 and running through September 20.\n\nClick here to register for the in-person or online class offerings.
URL:https://www.pnwumc.org/event/lay-pastoral-care-training/2023-08-30/
LOCATION:Spokane Valley United Methodist Church\, 115 N Raymond Rd\, Spokane Valley\, WA\, 99206\, United States
CATEGORIES:District,Laity,Training
ATTACH;FMTTYPE=image/jpeg:https://www.pnwumc.org/wp-content/uploads/2023/06/priscilla-du-preez-aPa843frIzI-unsplash.jpg
GEO:47.658477;-117.264698
X-APPLE-STRUCTURED-LOCATION;VALUE=URI;X-ADDRESS=Spokane Valley United Methodist Church 115 N Raymond Rd Spokane Valley WA 99206 United States;X-APPLE-RADIUS=500;X-TITLE=115 N Raymond Rd:geo:-117.264698,47.658477
END:VEVENT
END:VCALENDAR