BEGIN:VCALENDAR
VERSION:2.0
PRODID:-//The Pacific Northwest Conference of The United Methodist Church - ECPv6.15.20//NONSGML v1.0//EN
CALSCALE:GREGORIAN
METHOD:PUBLISH
X-ORIGINAL-URL:https://www.pnwumc.org
X-WR-CALDESC:Events for The Pacific Northwest Conference of The United Methodist Church
REFRESH-INTERVAL;VALUE=DURATION:PT1H
X-Robots-Tag:noindex
X-PUBLISHED-TTL:PT1H
BEGIN:VTIMEZONE
TZID:America/Los_Angeles
BEGIN:DAYLIGHT
TZOFFSETFROM:-0800
TZOFFSETTO:-0700
TZNAME:PDT
DTSTART:20220313T100000
END:DAYLIGHT
BEGIN:STANDARD
TZOFFSETFROM:-0700
TZOFFSETTO:-0800
TZNAME:PST
DTSTART:20221106T090000
END:STANDARD
BEGIN:DAYLIGHT
TZOFFSETFROM:-0800
TZOFFSETTO:-0700
TZNAME:PDT
DTSTART:20230312T100000
END:DAYLIGHT
BEGIN:STANDARD
TZOFFSETFROM:-0700
TZOFFSETTO:-0800
TZNAME:PST
DTSTART:20231105T090000
END:STANDARD
BEGIN:DAYLIGHT
TZOFFSETFROM:-0800
TZOFFSETTO:-0700
TZNAME:PDT
DTSTART:20240310T100000
END:DAYLIGHT
BEGIN:STANDARD
TZOFFSETFROM:-0700
TZOFFSETTO:-0800
TZNAME:PST
DTSTART:20241103T090000
END:STANDARD
END:VTIMEZONE
BEGIN:VEVENT
DTSTART;TZID=America/Los_Angeles:20230502T180000
DTEND;TZID=America/Los_Angeles:20230502T190000
DTSTAMP:20260424T195528
CREATED:20230501T230350Z
LAST-MODIFIED:20230501T230350Z
UID:10000607-1683050400-1683054000@www.pnwumc.org
SUMMARY:Stop Hate and Side with Love Community Vigil
DESCRIPTION:Edmonds United Methodist Church is hosting a community vigil\, “We Side with Love\,” on May 2 at 6:00 pm in response to the hate-filled incidents at two regional churches. In solidarity with our LGBTQIA+ siblings\, the vigil is a space for collective lament and a collective call to stop the spread of hate and all forms of bigotry. \nVigil speakers include Snohomish County Executive Dave Somers\, State Senator Manaka Dhingra\, Edmonds Mayor Mike Nelson\, and other elected officials in King and Snohomish Counties. Additional speakers include Courtney Wooten\, Chair\, Snohomish Co. Human Rights Commission\, Washington State Poet Laureate Luna Lyte\, and Mitch Hunter from Gen Pride. Other faith leaders and LGBTQIA+ organizations will speak and offer words of inspiration and hope. \nAdvocacy and outreach organizations will be on hand at the event\, including Faith Action Network\, Gen Pride\, Edmonds Neighborhood Action Coalition\, Edmonds Diversity Commission\, Under the Rainbow\, and the Edmonds UMC Racial Justice Team. \nThe Edmonds Police and Kirkland Police Departments are working together to find and stop the individual or group behind this effort. \nTuesday’s event at 6 pm will be held at Edmonds United Methodist Church\, 828 Caspers Street\, Edmonds\, WA (425) 778-2119. \nEdmonds UMC is a reconciling faith community. More information about the vigil can be found on our webpage at https://www.edmondsumc.org/vigil
URL:https://www.pnwumc.org/event/stop-hate-and-side-with-love-community-vigil/
LOCATION:Edmonds United Methodist Church\, 828 Caspers Street\, Edmonds\, WA\, 98020\, United States
CATEGORIES:Local Church,Puget Sound
ATTACH;FMTTYPE=image/jpeg:https://www.pnwumc.org/wp-content/uploads/2023/05/vigilFINAL28poster2928FacebookCover2928LandingPageWebsite29.jpeg
GEO:47.8176703;-122.3690318
X-APPLE-STRUCTURED-LOCATION;VALUE=URI;X-ADDRESS=Edmonds United Methodist Church 828 Caspers Street Edmonds WA 98020 United States;X-APPLE-RADIUS=500;X-TITLE=828 Caspers Street:geo:-122.3690318,47.8176703
END:VEVENT
BEGIN:VEVENT
DTSTART;TZID=America/Los_Angeles:20230504T133000
DTEND;TZID=America/Los_Angeles:20230504T163000
DTSTAMP:20260424T195528
CREATED:20230303T215631Z
LAST-MODIFIED:20230304T002337Z
UID:10000601-1683207000-1683217800@www.pnwumc.org
SUMMARY:Advanced Boundary Training (Session 2 of 2)
DESCRIPTION:The Pacific Northwest Conference is offering Advanced Boundary Training on Thursdays\, April 27 and May 4\, from 1:30-4:30pm each day over Zoom. This class is advanced training for clergy who have previously participated in one or more boundary workshops. Rev. Dr. Denise McGuiness will facilitate the training\, which fulfills the boundary requirement for clergy. \nThe class involves discussion of case studies prepared by the participants. These need to be prepared prior to the training\, based on a personal experience related to boundary issues. Please describe the incident\, your actions\, the outcome\, and what you learned and/or might have done differently. This study should be typed out and e-mailed to the presenter before the first training so that it can be forwarded to all participants prior to the training.  Please submit this to the presenter at least one week prior to the class. Details are as follows: \nRev. Dr. Denise McGuiness (d.mcguiness@gmail.com) \nZoom meeting – Click here to register \nThursday April 27th 1:30 pm – 4:30 pm \nThursday May 4th  1:30 pm- 4:30 pm \nBoth sessions must be attended plus the case study written and mailed to the trainer for you to receive the full 8 hours credit to fulfill the boundary requirements.
URL:https://www.pnwumc.org/event/advanced-boundary-training-session-2-of-2/
LOCATION:Zoom Webinar\, United States
ORGANIZER;CN="Board of Ordained Ministry":MAILTO:sfranklin@pnwumc.org
GEO:37.09024;-95.712891
END:VEVENT
BEGIN:VEVENT
DTSTART;TZID=America/Los_Angeles:20230506T090000
DTEND;TZID=America/Los_Angeles:20230506T100000
DTSTAMP:20260424T195528
CREATED:20230222T181700Z
LAST-MODIFIED:20230327T200514Z
UID:10000598-1683363600-1683367200@www.pnwumc.org
SUMMARY:Lay Pastoral Care: Introductory Workshop
DESCRIPTION:On Saturday\, May 6\, the Inland and Seven Rivers Districts will hold an introductory workshop on Lay Pastoral Care/Congregational Care led by Rev. Alissa Amestoy. An online presentation will be held on Zoom 9-10 am\, and an in-person meeting (same content) will be held the same day 10:30-11:30 am at Spokane Valley UMC. \nClick here to register for this event!
URL:https://www.pnwumc.org/event/lay-pastoral-care-introductory-workshop/
LOCATION:WA\, United States
CATEGORIES:Inland,Laity,Seven Rivers,Training
ORGANIZER;CN="Sheila Miranda":MAILTO:SMiranda@pnwumc.org
GEO:30.3321838;-81.655651
END:VEVENT
BEGIN:VEVENT
DTSTART;TZID=America/Los_Angeles:20230506T103000
DTEND;TZID=America/Los_Angeles:20230506T113000
DTSTAMP:20260424T195528
CREATED:20230222T181836Z
LAST-MODIFIED:20230327T200447Z
UID:10000599-1683369000-1683372600@www.pnwumc.org
SUMMARY:Lay Pastoral Care: Introductory Workshop
DESCRIPTION:On Saturday\, May 6\, the Inland and Seven Rivers Districts will hold an introductory workshop on Lay Pastoral Care/Congregational Care led by Rev. Alissa Amestoy. An online presentation will be held on Zoom 9-10 am\, and an in-person meeting (same content) will be held the same day 10:30-11:30 am at Spokane Valley UMC. \nClick here to register for this event!
URL:https://www.pnwumc.org/event/lay-pastoral-care-introductory-workshop-2/
LOCATION:Spokane Valley United Methodist Church\, 115 N Raymond Rd\, Spokane Valley\, WA\, 99206\, United States
CATEGORIES:Inland,Laity,Seven Rivers,Training
ORGANIZER;CN="Sheila Miranda":MAILTO:SMiranda@pnwumc.org
GEO:47.658477;-117.264698
X-APPLE-STRUCTURED-LOCATION;VALUE=URI;X-ADDRESS=Spokane Valley United Methodist Church 115 N Raymond Rd Spokane Valley WA 99206 United States;X-APPLE-RADIUS=500;X-TITLE=115 N Raymond Rd:geo:-117.264698,47.658477
END:VEVENT
BEGIN:VEVENT
DTSTART;TZID=America/Los_Angeles:20230507T150000
DTEND;TZID=America/Los_Angeles:20230507T170000
DTSTAMP:20260424T195528
CREATED:20230118T175025Z
LAST-MODIFIED:20230422T001431Z
UID:10000592-1683471600-1683478800@www.pnwumc.org
SUMMARY:Pacific Northwest Special Called Session
DESCRIPTION:Online only\, with GNTV voting support. More details TBA. \nThe sole purpose of this Special Session is to affirm or not affirm the church conference actions of local churches that are choosing to ask to disaffiliate from The United Methodist Church under the provisions of The Book of Discipline 2016\, Paragraph 2553. The Board of Trustees will present negotiated settlements that cannot be amended. The members of Annual Conference will affirm or not affirm the agreements by a simple majority vote. \nThe Special Session will be held on Zoom and will require registration for voting credentials. Registration and further information regarding the session and its business will be sent to the persons to be seated at the special session of the Annual Conference and posted on the conference website by April 15\, 2023. \nThe voting membership of the special session will consist of the clergy members of the annual conference as defined in ¶32 of the Book of Discipline and the lay members of the June 2022 Annual Conference (lay member or alternate\, whoever was last seated in the June annual conference) in accordance with the Book of Discipline ¶602.5.1 \n1 No local charge will be deprived of its lay member due to death\, serious illness\, or cessation of membership. Under such circumstances\, another lay member may be elected by the charge conference (¶602.5). If your charge is affected\, please contact Rev. Shirley DeLarme\, the Conference Secretary.
URL:https://www.pnwumc.org/event/pacific-northwest-special-called-session/
LOCATION:WA\, United States
CATEGORIES:Annual Conference
ATTACH;FMTTYPE=image/jpeg:https://www.pnwumc.org/wp-content/uploads/2023/01/Special-Session-16x9-1.jpg
GEO:30.3321838;-81.655651
END:VEVENT
BEGIN:VEVENT
DTSTART;TZID=America/Los_Angeles:20230510T130000
DTEND;TZID=America/Los_Angeles:20230510T150000
DTSTAMP:20260424T195528
CREATED:20230417T232700Z
LAST-MODIFIED:20230421T174802Z
UID:10000606-1683723600-1683730800@www.pnwumc.org
SUMMARY:Housing 101 Workshop
DESCRIPTION:Can We Affect the Housing Problem? \nThe lack of affordable housing throughout the country is well documented. But what\, if anything\, can churches do to make a difference? If you want to be a part of the affordable housing solution but don’t know where to start or what to do\, you are invited to a workshop entitled “Housing 101” on May 10 from 1-3 pm PST on Zoom. This invitation is to the entire Greater Northwest Episcopal Area. \nThis workshop is being hosted by Wesley UMC in Yakima and led by Pastor Shane Moore and Marty Miller. Marty Miller is the executive director of the Office of Rural and Farmworker Housing (ORFH) in Yakima. Marty has been with ORFH for over 20 years and brings wide expertise on the issues of affordable housing. While Marty is with ORFH\, he is coming to this presentation as a long-term member of Wesley UMC and someone with a passion for solving the housing crisis through grassroots work in local communities. \nJoin us on May 10th from 1-3 pm PST on Zoom to learn more about housing and the difference you and your faith community can make to solve this problem. \nClick here for more information or to register. 
URL:https://www.pnwumc.org/event/housing-101-workshop/
LOCATION:Zoom
CATEGORIES:Annual Conference,District,Education,Online Training,Seven Rivers,Training
ATTACH;FMTTYPE=image/jpeg:https://www.pnwumc.org/wp-content/uploads/2023/04/tom-rumble-7lvzopTxjOU-unsplash-2.jpg
ORGANIZER;CN="Sheila Miranda":MAILTO:smiranda@pnwumc.org
END:VEVENT
BEGIN:VEVENT
DTSTART;VALUE=DATE:20230511
DTEND;VALUE=DATE:20230513
DTSTAMP:20260424T195528
CREATED:20220901T202448Z
LAST-MODIFIED:20220901T202448Z
UID:10000549-1683763200-1683935999@www.pnwumc.org
SUMMARY:May BOM Meeting
DESCRIPTION:Location TBD
URL:https://www.pnwumc.org/event/may-bom-meeting/
LOCATION:The Pacific Northwest Conference of the United Methodist Church\, 816 S 216th St\, Des Moines\, WA\, 98198\, United States
GEO:47.4095109;-122.3211638
X-APPLE-STRUCTURED-LOCATION;VALUE=URI;X-ADDRESS=The Pacific Northwest Conference of the United Methodist Church 816 S 216th St Des Moines WA 98198 United States;X-APPLE-RADIUS=500;X-TITLE=816 S 216th St:geo:-122.3211638,47.4095109
END:VEVENT
BEGIN:VEVENT
DTSTART;TZID=America/Los_Angeles:20230520T150000
DTEND;TZID=America/Los_Angeles:20230520T170000
DTSTAMP:20260424T195528
CREATED:20230118T174508Z
LAST-MODIFIED:20230423T053828Z
UID:10000589-1684594800-1684602000@www.pnwumc.org
SUMMARY:Bishop’s Installation and GNW Opening Session
DESCRIPTION:This event will be livestreamed – in-person participation will be by invitation only due to limited church capacity. \nClick here to learn more and watch.
URL:https://www.pnwumc.org/event/bishops-installation-and-gnw-opening-session/
LOCATION:Aldersgate United Methodist Church\, 9161 Cinema Dr\, Juneau\, AK\, 99801\, United States
CATEGORIES:Annual Conference,Greater NW Area
GEO:58.3816723;-134.5818757
X-APPLE-STRUCTURED-LOCATION;VALUE=URI;X-ADDRESS=Aldersgate United Methodist Church 9161 Cinema Dr Juneau AK 99801 United States;X-APPLE-RADIUS=500;X-TITLE=9161 Cinema Dr:geo:-134.5818757,58.3816723
END:VEVENT
BEGIN:VEVENT
DTSTART;VALUE=DATE:20230524
DTEND;VALUE=DATE:20230525
DTSTAMP:20260424T195528
CREATED:20230118T182530Z
LAST-MODIFIED:20230210T010543Z
UID:10000593-1684886400-1684972799@www.pnwumc.org
SUMMARY:PNW Clergy Session
DESCRIPTION:Online only with voting support from GNTV. More details TBA.
URL:https://www.pnwumc.org/event/pnw-clergy-session/
LOCATION:https://www.pnwumc.org/event/pnw-clergy-session/
CATEGORIES:Annual Conference,Clergy
END:VEVENT
BEGIN:VEVENT
DTSTART;VALUE=DATE:20230529
DTEND;VALUE=DATE:20230530
DTSTAMP:20260424T195528
CREATED:20230118T173723Z
LAST-MODIFIED:20230118T173723Z
UID:10000580-1685318400-1685404799@www.pnwumc.org
SUMMARY:Memorial Day - Office Closed
DESCRIPTION:
URL:https://www.pnwumc.org/event/memorial-day-office-closed/
LOCATION:WA
CATEGORIES:Holidays
END:VEVENT
END:VCALENDAR