BEGIN:VCALENDAR
VERSION:2.0
PRODID:-//The Pacific Northwest Conference of The United Methodist Church - ECPv6.15.20//NONSGML v1.0//EN
CALSCALE:GREGORIAN
METHOD:PUBLISH
X-WR-CALNAME:The Pacific Northwest Conference of The United Methodist Church
X-ORIGINAL-URL:https://www.pnwumc.org
X-WR-CALDESC:Events for The Pacific Northwest Conference of The United Methodist Church
REFRESH-INTERVAL;VALUE=DURATION:PT1H
X-Robots-Tag:noindex
X-PUBLISHED-TTL:PT1H
BEGIN:VTIMEZONE
TZID:America/Los_Angeles
BEGIN:DAYLIGHT
TZOFFSETFROM:-0800
TZOFFSETTO:-0700
TZNAME:PDT
DTSTART:20210314T100000
END:DAYLIGHT
BEGIN:STANDARD
TZOFFSETFROM:-0700
TZOFFSETTO:-0800
TZNAME:PST
DTSTART:20211107T090000
END:STANDARD
BEGIN:DAYLIGHT
TZOFFSETFROM:-0800
TZOFFSETTO:-0700
TZNAME:PDT
DTSTART:20220313T100000
END:DAYLIGHT
BEGIN:STANDARD
TZOFFSETFROM:-0700
TZOFFSETTO:-0800
TZNAME:PST
DTSTART:20221106T090000
END:STANDARD
BEGIN:DAYLIGHT
TZOFFSETFROM:-0800
TZOFFSETTO:-0700
TZNAME:PDT
DTSTART:20230312T100000
END:DAYLIGHT
BEGIN:STANDARD
TZOFFSETFROM:-0700
TZOFFSETTO:-0800
TZNAME:PST
DTSTART:20231105T090000
END:STANDARD
END:VTIMEZONE
BEGIN:VEVENT
DTSTART;VALUE=DATE:20220308
DTEND;VALUE=DATE:20220313
DTSTAMP:20260425T204609
CREATED:20211029T214011Z
LAST-MODIFIED:20211029T214011Z
UID:10000515-1646697600-1647129599@www.pnwumc.org
SUMMARY:Provisional and Full Membership Interviews
DESCRIPTION:
URL:https://www.pnwumc.org/event/provisional-and-full-membership-interviews/
LOCATION:Dumas Bay Center\, 3200 SW Dash Point Rd\, Federal Way\, WA\, 98023\, United States
CATEGORIES:Board of Ordained Ministry
ORGANIZER;CN="Board of Ordained Ministry":MAILTO:sfranklin@pnwumc.org
GEO:47.328367;-122.3746118
X-APPLE-STRUCTURED-LOCATION;VALUE=URI;X-ADDRESS=Dumas Bay Center 3200 SW Dash Point Rd Federal Way WA 98023 United States;X-APPLE-RADIUS=500;X-TITLE=3200 SW Dash Point Rd:geo:-122.3746118,47.328367
END:VEVENT
BEGIN:VEVENT
DTSTART;VALUE=DATE:20220318
DTEND;VALUE=DATE:20220321
DTSTAMP:20260425T204609
CREATED:20211223T215703Z
LAST-MODIFIED:20211223T220912Z
UID:10000525-1647561600-1647820799@www.pnwumc.org
SUMMARY:Spring Conference UMW Exec Meeting
DESCRIPTION:
URL:https://www.pnwumc.org/event/spring-conference-umw-exec-meeting/
LOCATION:Lazy F Camp and Retreat Center\, 16170 Manastash Road\, Ellensburg\, WA\, 98926\, United States
CATEGORIES:Networks,United Methodist Women
ORGANIZER;CN="Ja net' Crouse":MAILTO:crousejw@crouses.com
GEO:46.961686;-120.775124
X-APPLE-STRUCTURED-LOCATION;VALUE=URI;X-ADDRESS=Lazy F Camp and Retreat Center 16170 Manastash Road Ellensburg WA 98926 United States;X-APPLE-RADIUS=500;X-TITLE=16170 Manastash Road:geo:-120.775124,46.961686
END:VEVENT
END:VCALENDAR