BEGIN:VCALENDAR
VERSION:2.0
PRODID:-//The Pacific Northwest Conference of The United Methodist Church - ECPv6.15.20//NONSGML v1.0//EN
CALSCALE:GREGORIAN
METHOD:PUBLISH
X-ORIGINAL-URL:https://www.pnwumc.org
X-WR-CALDESC:Events for The Pacific Northwest Conference of The United Methodist Church
REFRESH-INTERVAL;VALUE=DURATION:PT1H
X-Robots-Tag:noindex
X-PUBLISHED-TTL:PT1H
BEGIN:VTIMEZONE
TZID:America/Los_Angeles
BEGIN:DAYLIGHT
TZOFFSETFROM:-0800
TZOFFSETTO:-0700
TZNAME:PDT
DTSTART:20240310T100000
END:DAYLIGHT
BEGIN:STANDARD
TZOFFSETFROM:-0700
TZOFFSETTO:-0800
TZNAME:PST
DTSTART:20241103T090000
END:STANDARD
BEGIN:DAYLIGHT
TZOFFSETFROM:-0800
TZOFFSETTO:-0700
TZNAME:PDT
DTSTART:20250309T100000
END:DAYLIGHT
BEGIN:STANDARD
TZOFFSETFROM:-0700
TZOFFSETTO:-0800
TZNAME:PST
DTSTART:20251102T090000
END:STANDARD
BEGIN:DAYLIGHT
TZOFFSETFROM:-0800
TZOFFSETTO:-0700
TZNAME:PDT
DTSTART:20260308T100000
END:DAYLIGHT
BEGIN:STANDARD
TZOFFSETFROM:-0700
TZOFFSETTO:-0800
TZNAME:PST
DTSTART:20261101T090000
END:STANDARD
END:VTIMEZONE
BEGIN:VEVENT
DTSTART;TZID=America/Los_Angeles:20250928T170000
DTEND;TZID=America/Los_Angeles:20250928T190000
DTSTAMP:20260420T191348
CREATED:20250917T175747Z
LAST-MODIFIED:20250917T175901Z
UID:10001616-1759078800-1759086000@www.pnwumc.org
SUMMARY:Church Council of Greater Seattle Fall Fundraiser
DESCRIPTION:The Church Council of Greater Seattle invites you to our Fall Fundraiser on September 28th from 5-7pm at Quest Church (1401 Leary Wy NW)! Join us as we celebrate the collective power we’ve been building and invest in the sustainability of our shared work to come.\n\nThis year’s theme is “Deepening Our Solidarity\, Strengthening Our Movement.” As the Church Council has been operating more deeply into our role as a bridge between our historic faith partners and communities most impacted by systemic oppression\, we’ve witnessed our faith partners’ growing desire to build closer relationships with secular community organizations and to follow their leadership. As attacks on migrants\, LGBTQ+ communities\, Black and brown communities\, and more continue to rise\, we need to build a deeply-rooted movement to protect and care for one another. Our keynote will be a panel of community leaders we’ve partnered with over the past year\, speaking to how people of faith can show up in true solidarity with their communities. You won’t want to miss this dialogue\, nor another fantastic spread by DayoSense Catering!
URL:https://www.pnwumc.org/event/church-council-of-greater-seattle-fall-fundraiser/
LOCATION:Quest Church\, 1401 Leary Wy NW\, Seattle\, 98107\, United States
CATEGORIES:Networks
ATTACH;FMTTYPE=image/jpeg:https://www.pnwumc.org/wp-content/uploads/2025/09/2025-Fall-Fundraiser.jpg
END:VEVENT
BEGIN:VEVENT
DTSTART;VALUE=DATE:20251002
DTEND;VALUE=DATE:20251006
DTSTAMP:20260420T191348
CREATED:20250421T205028Z
LAST-MODIFIED:20250904T171716Z
UID:10001176-1759363200-1759708799@www.pnwumc.org
SUMMARY:Earthkeepers Training with a Spanish Track
DESCRIPTION:Are you passionate about caring for the environment and looking for a way to connect your faith with action? The United Methodist EarthKeepers program offers training for individuals ready to launch or grow environmental projects in their communities. \nWatch and share a short invitation on Facebook from Rev. Jenny Phillips\, PNW Elder and Director of Environmental Sustainability for Global Ministries. \nParticipants gain tools for spiritual reflection\, community organizing\, and project planning—all through a United Methodist lens. Whether your interest is in energy efficiency\, sustainable food\, environmental justice\, or creation-focused worship\, EarthKeepers equips you to make a lasting impact. \nThere will be a Spanish language track for this training. \nDates and Times: Training begins October 2 at 4pm PT and ends October 5\, 2025 at 1pm PT. Pre-training homework will be provided on September 12. \nLocation: Wesley Homes and Des Moines First UMC in Des Moines\, WA\, a short train ride from Sea-Tac Airport. \nLodging and Meals: Sheraton Four Points\, Des Moines\, WA. Global Ministries will cover the cost of single lodging on the nights of October 2\, 3\, and 4. Global Ministries will provide vegetarian meals starting with dinner on October 2 and ending with lunch on October 5. \nTravel: Participants are responsible for their transportation from their homes to the training location. Global Ministries will provide transportation between the hotel and training location\, and for the field trip\, will be provided. \nField Trip: Participants will take a Washington State Ferry to Vashon Island to visit Vashon Island UMC and learn about the church’s resilience hub. \nQuestions? Email environment@umcmission.org \nApplication \nConnection Form \nMore information at http://umcmission.org/earthkeepers
URL:https://www.pnwumc.org/event/earthkeepers-training/
LOCATION:Des Moines United Methodist Church\, 22225 9th Ave S\, Des Moines\, WA\, 98198\, United States
CATEGORIES:Creation Care,Greater NW Area,Networks,Training
ATTACH;FMTTYPE=image/jpeg:https://www.pnwumc.org/wp-content/uploads/2025/04/gbgm-ek-gn-dates.jpg
ORGANIZER;CN="Rev. Jenny Phillips":MAILTO:environment@umcmission.org
GEO:47.402228;-122.322559
X-APPLE-STRUCTURED-LOCATION;VALUE=URI;X-ADDRESS=Des Moines United Methodist Church 22225 9th Ave S Des Moines WA 98198 United States;X-APPLE-RADIUS=500;X-TITLE=22225 9th Ave S:geo:-122.322559,47.402228
END:VEVENT
END:VCALENDAR