BEGIN:VCALENDAR
VERSION:2.0
PRODID:-//The Pacific Northwest Conference of The United Methodist Church - ECPv6.15.20//NONSGML v1.0//EN
CALSCALE:GREGORIAN
METHOD:PUBLISH
X-WR-CALNAME:The Pacific Northwest Conference of The United Methodist Church
X-ORIGINAL-URL:https://www.pnwumc.org
X-WR-CALDESC:Events for The Pacific Northwest Conference of The United Methodist Church
REFRESH-INTERVAL;VALUE=DURATION:PT1H
X-Robots-Tag:noindex
X-PUBLISHED-TTL:PT1H
BEGIN:VTIMEZONE
TZID:America/Los_Angeles
BEGIN:DAYLIGHT
TZOFFSETFROM:-0800
TZOFFSETTO:-0700
TZNAME:PDT
DTSTART:20240310T100000
END:DAYLIGHT
BEGIN:STANDARD
TZOFFSETFROM:-0700
TZOFFSETTO:-0800
TZNAME:PST
DTSTART:20241103T090000
END:STANDARD
BEGIN:DAYLIGHT
TZOFFSETFROM:-0800
TZOFFSETTO:-0700
TZNAME:PDT
DTSTART:20250309T100000
END:DAYLIGHT
BEGIN:STANDARD
TZOFFSETFROM:-0700
TZOFFSETTO:-0800
TZNAME:PST
DTSTART:20251102T090000
END:STANDARD
BEGIN:DAYLIGHT
TZOFFSETFROM:-0800
TZOFFSETTO:-0700
TZNAME:PDT
DTSTART:20260308T100000
END:DAYLIGHT
BEGIN:STANDARD
TZOFFSETFROM:-0700
TZOFFSETTO:-0800
TZNAME:PST
DTSTART:20261101T090000
END:STANDARD
END:VTIMEZONE
BEGIN:VEVENT
DTSTART;VALUE=DATE:20250724
DTEND;VALUE=DATE:20250728
DTSTAMP:20260420T230927
CREATED:20250327T172218Z
LAST-MODIFIED:20250327T172218Z
UID:10001160-1753315200-1753660799@www.pnwumc.org
SUMMARY:Convocation 2025: UNCHARTED
DESCRIPTION:Sponsored by the Reconciling Ministries Network \nChurch – we’ve set off from the shores of the last General Conference hopeful for progress and inclusion. But between then and now\, we’ve also been buffeted by polycrisis: heightened cruelty\, exclusion\, and a shaky future of justice for LGBTQ+ people of all intersecting identities. \nIn the swirling chaos: who do we say God is? And who do we say we are? \nThe Spirit is calling us into Uncharted waters. \nThis July\, come to beautiful Madison\, WI\, to refresh your soul\, enlarge your capacity\, and find your travelers on this justice journey. Just in time\, RMN is poised to create a different\, stronger movement in this era of our Church and our world. \nClick here to learn more and register.
URL:https://www.pnwumc.org/event/convocation-2025-uncharted/
LOCATION:First United Methodist of Madison\, 203 Wisconsin Avenue\, Madison\, WI\, 53703\, United States
CATEGORIES:Networks
ATTACH;FMTTYPE=image/png:https://www.pnwumc.org/wp-content/uploads/2025/03/convocation.png
END:VEVENT
END:VCALENDAR