BEGIN:VCALENDAR
VERSION:2.0
PRODID:-//The Pacific Northwest Conference of The United Methodist Church - ECPv6.15.20//NONSGML v1.0//EN
CALSCALE:GREGORIAN
METHOD:PUBLISH
X-WR-CALNAME:The Pacific Northwest Conference of The United Methodist Church
X-ORIGINAL-URL:https://www.pnwumc.org
X-WR-CALDESC:Events for The Pacific Northwest Conference of The United Methodist Church
REFRESH-INTERVAL;VALUE=DURATION:PT1H
X-Robots-Tag:noindex
X-PUBLISHED-TTL:PT1H
BEGIN:VTIMEZONE
TZID:America/Los_Angeles
BEGIN:DAYLIGHT
TZOFFSETFROM:-0800
TZOFFSETTO:-0700
TZNAME:PDT
DTSTART:20240310T100000
END:DAYLIGHT
BEGIN:STANDARD
TZOFFSETFROM:-0700
TZOFFSETTO:-0800
TZNAME:PST
DTSTART:20241103T090000
END:STANDARD
BEGIN:DAYLIGHT
TZOFFSETFROM:-0800
TZOFFSETTO:-0700
TZNAME:PDT
DTSTART:20250309T100000
END:DAYLIGHT
BEGIN:STANDARD
TZOFFSETFROM:-0700
TZOFFSETTO:-0800
TZNAME:PST
DTSTART:20251102T090000
END:STANDARD
BEGIN:DAYLIGHT
TZOFFSETFROM:-0800
TZOFFSETTO:-0700
TZNAME:PDT
DTSTART:20260308T100000
END:DAYLIGHT
BEGIN:STANDARD
TZOFFSETFROM:-0700
TZOFFSETTO:-0800
TZNAME:PST
DTSTART:20261101T090000
END:STANDARD
END:VTIMEZONE
BEGIN:VEVENT
DTSTART;VALUE=DATE:20250825
DTEND;VALUE=DATE:20250830
DTSTAMP:20260420T211429
CREATED:20250124T002250Z
LAST-MODIFIED:20250124T002250Z
UID:10001142-1756080000-1756511999@www.pnwumc.org
SUMMARY:Soul Revival - Rest & Renewal for Women Leaders
DESCRIPTION:Attention—Women leaders who are serving in faith-based and other non-profit organizations. \n\nAre you feeling overwhelmed and exhausted by the demands on you and your time in the midst of a decaying institution?\nHave you tried every possible technique to help you manage the stress and anxiety that comes with leading in these challenging times?\nDo you feel alone and like no one else really understands the impact that following your call has upon your health\, your wellness\, your family?\n\nYou are invited to join a community of like-minded women for a five day retreat being held August 25-29 at Alton-Collins Retreat Center in Eagle Creek\, OR. Click here for more information about the retreat and presenters including Elaine Heath\, Beth Estock\, Rebecca Przybylski and Angela Wolle. The event is eligible for clergy continuing education funding. \nLearn more and register today on the Spring Forest website!
URL:https://www.pnwumc.org/event/soul-revival-rest-renewal-for-women-leaders/
LOCATION:Alton L Collins Retreat Center\, 32867 Oregon 211\, Eagle Creek\, OR\, 97022\, United States
CATEGORIES:Clergy,Networks
ATTACH;FMTTYPE=image/jpeg:https://www.pnwumc.org/wp-content/uploads/2025/01/Soul-Revival-Info_short.jpg
GEO:45.3727307;-122.3284034
X-APPLE-STRUCTURED-LOCATION;VALUE=URI;X-ADDRESS=Alton L Collins Retreat Center 32867 Oregon 211 Eagle Creek OR 97022 United States;X-APPLE-RADIUS=500;X-TITLE=32867 Oregon 211:geo:-122.3284034,45.3727307
END:VEVENT
END:VCALENDAR