BEGIN:VCALENDAR
VERSION:2.0
PRODID:-//The Pacific Northwest Conference of The United Methodist Church - ECPv6.15.20//NONSGML v1.0//EN
CALSCALE:GREGORIAN
METHOD:PUBLISH
X-WR-CALNAME:The Pacific Northwest Conference of The United Methodist Church
X-ORIGINAL-URL:https://www.pnwumc.org
X-WR-CALDESC:Events for The Pacific Northwest Conference of The United Methodist Church
REFRESH-INTERVAL;VALUE=DURATION:PT1H
X-Robots-Tag:noindex
X-PUBLISHED-TTL:PT1H
BEGIN:VTIMEZONE
TZID:America/Los_Angeles
BEGIN:DAYLIGHT
TZOFFSETFROM:-0800
TZOFFSETTO:-0700
TZNAME:PDT
DTSTART:20240310T100000
END:DAYLIGHT
BEGIN:STANDARD
TZOFFSETFROM:-0700
TZOFFSETTO:-0800
TZNAME:PST
DTSTART:20241103T090000
END:STANDARD
BEGIN:DAYLIGHT
TZOFFSETFROM:-0800
TZOFFSETTO:-0700
TZNAME:PDT
DTSTART:20250309T100000
END:DAYLIGHT
BEGIN:STANDARD
TZOFFSETFROM:-0700
TZOFFSETTO:-0800
TZNAME:PST
DTSTART:20251102T090000
END:STANDARD
BEGIN:DAYLIGHT
TZOFFSETFROM:-0800
TZOFFSETTO:-0700
TZNAME:PDT
DTSTART:20260308T100000
END:DAYLIGHT
BEGIN:STANDARD
TZOFFSETFROM:-0700
TZOFFSETTO:-0800
TZNAME:PST
DTSTART:20261101T090000
END:STANDARD
END:VTIMEZONE
BEGIN:VEVENT
DTSTART;VALUE=DATE:20250725
DTEND;VALUE=DATE:20250727
DTSTAMP:20260421T044223
CREATED:20250430T041723Z
LAST-MODIFIED:20250702T181941Z
UID:10001178-1753401600-1753574399@www.pnwumc.org
SUMMARY:Empowered by Grace: Disability Justice and Theology 35 years after the ADA
DESCRIPTION:The Americans with Disabilities Act (ADA) –the historic civil rights law which protects the rights of disabled people –was signed into law on July 26\, 1990. This landmark legislation improved access\, made discrimination against disabled people illegal\, and transformed our systems to become more inclusive. Churches\, however\, fought hard and successfully for exemption from the ADA. \nIn celebration of the 35th anniversary\, in recognition of July as Disability Pride month\, and in an effort to lament and repent of religious ableism\, Bothell UMC and the PNW Disability Ministries Committee are hosting this multi-day conference. You are invited to join us for practical\, justice-oriented workshops; for worship\, fellowship\, and a documentary screening; and for a keynote talk on Becoming Accomplices for Disability Justice. \nWebsite: https://www.bothellumc.org/empowered-by-grace-2025  \nRegistration: https://bothellumc.breezechms.com/form/303550 \nFB Event: https://www.facebook.com/share/1HQHWSf6EZ/
URL:https://www.pnwumc.org/event/empowered-by-grace-disability-justice-and-theology-35-years-after-the-ada/
LOCATION:Bothell United Methodist Church\, 18515 92nd Ave NE\, Bothell\, 98011\, United States
CATEGORIES:Annual Conference,Local Church
ATTACH;FMTTYPE=image/jpeg:https://www.pnwumc.org/wp-content/uploads/2025/04/EMpowered-by-grace-16-9.jpg
GEO:47.7624306;-122.2189218
X-APPLE-STRUCTURED-LOCATION;VALUE=URI;X-ADDRESS=Bothell United Methodist Church 18515 92nd Ave NE Bothell 98011 United States;X-APPLE-RADIUS=500;X-TITLE=18515 92nd Ave NE:geo:-122.2189218,47.7624306
END:VEVENT
END:VCALENDAR