BEGIN:VCALENDAR
VERSION:2.0
PRODID:-//The Pacific Northwest Conference of The United Methodist Church - ECPv6.15.20//NONSGML v1.0//EN
CALSCALE:GREGORIAN
METHOD:PUBLISH
X-WR-CALNAME:The Pacific Northwest Conference of The United Methodist Church
X-ORIGINAL-URL:https://www.pnwumc.org
X-WR-CALDESC:Events for The Pacific Northwest Conference of The United Methodist Church
REFRESH-INTERVAL;VALUE=DURATION:PT1H
X-Robots-Tag:noindex
X-PUBLISHED-TTL:PT1H
BEGIN:VTIMEZONE
TZID:America/Los_Angeles
BEGIN:DAYLIGHT
TZOFFSETFROM:-0800
TZOFFSETTO:-0700
TZNAME:PDT
DTSTART:20220313T100000
END:DAYLIGHT
BEGIN:STANDARD
TZOFFSETFROM:-0700
TZOFFSETTO:-0800
TZNAME:PST
DTSTART:20221106T090000
END:STANDARD
BEGIN:DAYLIGHT
TZOFFSETFROM:-0800
TZOFFSETTO:-0700
TZNAME:PDT
DTSTART:20230312T100000
END:DAYLIGHT
BEGIN:STANDARD
TZOFFSETFROM:-0700
TZOFFSETTO:-0800
TZNAME:PST
DTSTART:20231105T090000
END:STANDARD
BEGIN:DAYLIGHT
TZOFFSETFROM:-0800
TZOFFSETTO:-0700
TZNAME:PDT
DTSTART:20240310T100000
END:DAYLIGHT
BEGIN:STANDARD
TZOFFSETFROM:-0700
TZOFFSETTO:-0800
TZNAME:PST
DTSTART:20241103T090000
END:STANDARD
END:VTIMEZONE
BEGIN:VEVENT
DTSTART;TZID=America/Los_Angeles:20230604T140000
DTEND;TZID=America/Los_Angeles:20230604T154500
DTSTAMP:20260423T101958
CREATED:20230508T233152Z
LAST-MODIFIED:20230508T233152Z
UID:10000608-1685887200-1685893500@www.pnwumc.org
SUMMARY:Inside out Faith: Conversations with Jennifer Knapp
DESCRIPTION:As part of Stanwood Camano Pride\, Stanwood United Methodist Church is hosting Grammy-nominated singer-songwriter Jennifer Knapp on Sunday\, June 4\, in worship and for a concert and conversation in conjunction with Stanwood and Camaro Island Pride at 2 p.m. This is a free event! ALL are WELCOME! Everyone belongs! \nFor questions\, please email sumc@stanwoodumc.org or call 360 629-9555.
URL:https://www.pnwumc.org/event/inside-out-faith-conversations-with-jennifer-knapp/
LOCATION:Stanwood UMC\, 27128 102nd Dr\, Stanwood\, WA\, 98292\, United States
CATEGORIES:Local Church
ATTACH;FMTTYPE=image/jpeg:https://www.pnwumc.org/wp-content/uploads/2023/05/Unknown-1.jpeg
GEO:48.2426767;-122.3723045
X-APPLE-STRUCTURED-LOCATION;VALUE=URI;X-ADDRESS=Stanwood UMC 27128 102nd Dr Stanwood WA 98292 United States;X-APPLE-RADIUS=500;X-TITLE=27128 102nd Dr:geo:-122.3723045,48.2426767
END:VEVENT
END:VCALENDAR