BEGIN:VCALENDAR
VERSION:2.0
PRODID:-//The Pacific Northwest Conference of The United Methodist Church - ECPv6.15.20//NONSGML v1.0//EN
CALSCALE:GREGORIAN
METHOD:PUBLISH
X-WR-CALNAME:The Pacific Northwest Conference of The United Methodist Church
X-ORIGINAL-URL:https://www.pnwumc.org
X-WR-CALDESC:Events for The Pacific Northwest Conference of The United Methodist Church
REFRESH-INTERVAL;VALUE=DURATION:PT1H
X-Robots-Tag:noindex
X-PUBLISHED-TTL:PT1H
BEGIN:VTIMEZONE
TZID:America/Los_Angeles
BEGIN:DAYLIGHT
TZOFFSETFROM:-0800
TZOFFSETTO:-0700
TZNAME:PDT
DTSTART:20230312T100000
END:DAYLIGHT
BEGIN:STANDARD
TZOFFSETFROM:-0700
TZOFFSETTO:-0800
TZNAME:PST
DTSTART:20231105T090000
END:STANDARD
BEGIN:DAYLIGHT
TZOFFSETFROM:-0800
TZOFFSETTO:-0700
TZNAME:PDT
DTSTART:20240310T100000
END:DAYLIGHT
BEGIN:STANDARD
TZOFFSETFROM:-0700
TZOFFSETTO:-0800
TZNAME:PST
DTSTART:20241103T090000
END:STANDARD
BEGIN:DAYLIGHT
TZOFFSETFROM:-0800
TZOFFSETTO:-0700
TZNAME:PDT
DTSTART:20250309T100000
END:DAYLIGHT
BEGIN:STANDARD
TZOFFSETFROM:-0700
TZOFFSETTO:-0800
TZNAME:PST
DTSTART:20251102T090000
END:STANDARD
END:VTIMEZONE
BEGIN:VEVENT
DTSTART;VALUE=DATE:20241006
DTEND;VALUE=DATE:20241007
DTSTAMP:20260421T172230
CREATED:20241002T170026Z
LAST-MODIFIED:20241010T201625Z
UID:10000957-1728172800-1728259199@www.pnwumc.org
SUMMARY:"St. Sebastian" Climate Justice Art Exhibit
DESCRIPTION:Throughout October\, First Church is grateful to display Arlington-based artist Joseph Gregory Rossano’s sculpture “St. Sebastian”. His sculpture is part of his exhibit\, “Portraits of the Divine”\, which depicts a menagerie of endangered and extinct animals as encounters with the divine. Rossano’s St. Sebastian will be on loan through November\, courtesy of the artist and Traver Gallery. \n\nThe St. Sebastian sculpture exhibit is free and open to the public for viewing on Sundays in October after worship until 3pm. (And after the Hispanic Heritage Month Recital on Oct 13th).\nThe artist will speak about his “Portraits of the Divine” exhibit at our October 13th Blessing of the Animals service. Click here for a link to a flier with more information.\nParking is available in our garage for attendees on Sundays until 3 pm.\nFind us at 2nd & Denny\, downtown Seattle\, next to the Pacific Science Center. Enter from the North Sanctuary entrance.\n\nRegistration is not required\, but we appreciate knowing in advance what day you may be interested in coming. Or let us know if you would like to arrange a different time. \n 
URL:https://www.pnwumc.org/event/st-sebastian-climate-justice-art-exhibit/2024-10-06/
LOCATION:Seattle First United Methodist Church\, 180 Denny Way\, Seattle\, WA\, 98109\, United States
CATEGORIES:Creation Care,Local Church
ATTACH;FMTTYPE=image/jpeg:https://www.pnwumc.org/wp-content/uploads/2024/10/OCTOBER_FLYER.jpg
ORGANIZER;CN="Jackie Celin":MAILTO:jackie@firstchurchseattle.org
GEO:47.618846;-122.353213
X-APPLE-STRUCTURED-LOCATION;VALUE=URI;X-ADDRESS=Seattle First United Methodist Church 180 Denny Way Seattle WA 98109 United States;X-APPLE-RADIUS=500;X-TITLE=180 Denny Way:geo:-122.353213,47.618846
END:VEVENT
BEGIN:VEVENT
DTSTART;VALUE=DATE:20241013
DTEND;VALUE=DATE:20241014
DTSTAMP:20260421T172230
CREATED:20241002T170026Z
LAST-MODIFIED:20241010T201625Z
UID:10000958-1728777600-1728863999@www.pnwumc.org
SUMMARY:"St. Sebastian" Climate Justice Art Exhibit
DESCRIPTION:Throughout October\, First Church is grateful to display Arlington-based artist Joseph Gregory Rossano’s sculpture “St. Sebastian”. His sculpture is part of his exhibit\, “Portraits of the Divine”\, which depicts a menagerie of endangered and extinct animals as encounters with the divine. Rossano’s St. Sebastian will be on loan through November\, courtesy of the artist and Traver Gallery. \n\nThe St. Sebastian sculpture exhibit is free and open to the public for viewing on Sundays in October after worship until 3pm. (And after the Hispanic Heritage Month Recital on Oct 13th).\nThe artist will speak about his “Portraits of the Divine” exhibit at our October 13th Blessing of the Animals service. Click here for a link to a flier with more information.\nParking is available in our garage for attendees on Sundays until 3 pm.\nFind us at 2nd & Denny\, downtown Seattle\, next to the Pacific Science Center. Enter from the North Sanctuary entrance.\n\nRegistration is not required\, but we appreciate knowing in advance what day you may be interested in coming. Or let us know if you would like to arrange a different time. \n 
URL:https://www.pnwumc.org/event/st-sebastian-climate-justice-art-exhibit/2024-10-13/
LOCATION:Seattle First United Methodist Church\, 180 Denny Way\, Seattle\, WA\, 98109\, United States
CATEGORIES:Creation Care,Local Church
ATTACH;FMTTYPE=image/jpeg:https://www.pnwumc.org/wp-content/uploads/2024/10/OCTOBER_FLYER.jpg
ORGANIZER;CN="Jackie Celin":MAILTO:jackie@firstchurchseattle.org
GEO:47.618846;-122.353213
X-APPLE-STRUCTURED-LOCATION;VALUE=URI;X-ADDRESS=Seattle First United Methodist Church 180 Denny Way Seattle WA 98109 United States;X-APPLE-RADIUS=500;X-TITLE=180 Denny Way:geo:-122.353213,47.618846
END:VEVENT
BEGIN:VEVENT
DTSTART;TZID=America/Los_Angeles:20241017T180000
DTEND;TZID=America/Los_Angeles:20241017T193000
DTSTAMP:20260421T172230
CREATED:20240814T215107Z
LAST-MODIFIED:20241004T005016Z
UID:10000887-1729188000-1729193400@www.pnwumc.org
SUMMARY:Christian Nationalism\, the Religious Right and Modern American Politics
DESCRIPTION:In a conversation hosted by Wesley United Methodist Church in Yakima\, WA\, on October 17\, Washington State University historian Matthew Avery Sutton examines the history of how American evangelicals have interpreted societal changes as signs of biblical prophecy\, shaping the formation of the Religious Right and their support for modern political figures. \nThe event is free and will last approximately 90 minutes. United Methodists across the conference are invited. The event will be livestreamed on the church’s YouTube Channel for those who cannot attend in person. Please direct any questions about the event to the local church. \nClick here for an event flier to share with your local church.
URL:https://www.pnwumc.org/event/christian-nationalism-the-religious-right-and-modern-american-politics/
LOCATION:Yakima: Wesley UMC\, 14 North 48th Avenue\, Yakima\, WA\, 98908\, United States
CATEGORIES:Education,Local Church
ATTACH;FMTTYPE=image/jpeg:https://www.pnwumc.org/wp-content/uploads/2024/08/Oct-17-Event-Facebook.jpg
ORGANIZER;CN="Shane Moore":MAILTO:shane.moore@wesleyofyakima.org
GEO:46.5971846;-120.5733166
X-APPLE-STRUCTURED-LOCATION;VALUE=URI;X-ADDRESS=Yakima: Wesley UMC 14 North 48th Avenue Yakima WA 98908 United States;X-APPLE-RADIUS=500;X-TITLE=14 North 48th Avenue:geo:-120.5733166,46.5971846
END:VEVENT
BEGIN:VEVENT
DTSTART;TZID=America/Los_Angeles:20241018T180000
DTEND;TZID=America/Los_Angeles:20241019T100000
DTSTAMP:20260421T172230
CREATED:20240814T202709Z
LAST-MODIFIED:20240911T211933Z
UID:10000886-1729274400-1729332000@www.pnwumc.org
SUMMARY:Escape Room Youth Overnighter
DESCRIPTION:Are you looking for a fun event for your youth that will connect them with other youth in the area? Join the Crest 2 Coast youth for an escape room overnighter at Puyallup UMC! Your church does not have to be in the C2C district in order to participate. \nPlease use this form to register your youth group. Youth leaders should register their youth groups\, fill out a roster\, and prepare all medical and photo release documents. \nEach youth group should plan to provide background-checked and trained adults. Let us know if that’s an issue and we can work with you. \nIf you are a youth leader interested in helping to plan the event\, there will be a Zoom meeting at 10 a.m. on Oct. 3. Another Zoom meeting from 6-7 p.m. on Oct. 10 will be help for all adult leaders to ensure everyone is on the same page. Please reach out to Pastor Kellen or Crystal to receive those links. \nQuestions? \nRev. Kellen Corliss: kellencorliss@gmail.com\nCrystal Goetz: crystal@puyallupumc.org
URL:https://www.pnwumc.org/event/escape-room-youth-overnighter/
LOCATION:Puyallup United Methodist Church\, 1919 W Pioneer Ave\, Puyallup\, WA\, 98371\, United States
CATEGORIES:Crest to Coast,Local Church,Young People's Ministry,Youth
ATTACH;FMTTYPE=image/jpeg:https://www.pnwumc.org/wp-content/uploads/2024/08/Escape-Room-Overnighter.jpg
ORGANIZER;CN="Crystal Goetz":MAILTO:crystal@puyallupumc.org
GEO:47.191117;-122.321943
X-APPLE-STRUCTURED-LOCATION;VALUE=URI;X-ADDRESS=Puyallup United Methodist Church 1919 W Pioneer Ave Puyallup WA 98371 United States;X-APPLE-RADIUS=500;X-TITLE=1919 W Pioneer Ave:geo:-122.321943,47.191117
END:VEVENT
BEGIN:VEVENT
DTSTART;VALUE=DATE:20241020
DTEND;VALUE=DATE:20241021
DTSTAMP:20260421T172230
CREATED:20241002T170026Z
LAST-MODIFIED:20241010T201625Z
UID:10000959-1729382400-1729468799@www.pnwumc.org
SUMMARY:"St. Sebastian" Climate Justice Art Exhibit
DESCRIPTION:Throughout October\, First Church is grateful to display Arlington-based artist Joseph Gregory Rossano’s sculpture “St. Sebastian”. His sculpture is part of his exhibit\, “Portraits of the Divine”\, which depicts a menagerie of endangered and extinct animals as encounters with the divine. Rossano’s St. Sebastian will be on loan through November\, courtesy of the artist and Traver Gallery. \n\nThe St. Sebastian sculpture exhibit is free and open to the public for viewing on Sundays in October after worship until 3pm. (And after the Hispanic Heritage Month Recital on Oct 13th).\nThe artist will speak about his “Portraits of the Divine” exhibit at our October 13th Blessing of the Animals service. Click here for a link to a flier with more information.\nParking is available in our garage for attendees on Sundays until 3 pm.\nFind us at 2nd & Denny\, downtown Seattle\, next to the Pacific Science Center. Enter from the North Sanctuary entrance.\n\nRegistration is not required\, but we appreciate knowing in advance what day you may be interested in coming. Or let us know if you would like to arrange a different time. \n 
URL:https://www.pnwumc.org/event/st-sebastian-climate-justice-art-exhibit/2024-10-20/
LOCATION:Seattle First United Methodist Church\, 180 Denny Way\, Seattle\, WA\, 98109\, United States
CATEGORIES:Creation Care,Local Church
ATTACH;FMTTYPE=image/jpeg:https://www.pnwumc.org/wp-content/uploads/2024/10/OCTOBER_FLYER.jpg
ORGANIZER;CN="Jackie Celin":MAILTO:jackie@firstchurchseattle.org
GEO:47.618846;-122.353213
X-APPLE-STRUCTURED-LOCATION;VALUE=URI;X-ADDRESS=Seattle First United Methodist Church 180 Denny Way Seattle WA 98109 United States;X-APPLE-RADIUS=500;X-TITLE=180 Denny Way:geo:-122.353213,47.618846
END:VEVENT
BEGIN:VEVENT
DTSTART;VALUE=DATE:20241027
DTEND;VALUE=DATE:20241028
DTSTAMP:20260421T172230
CREATED:20241002T170026Z
LAST-MODIFIED:20241010T201625Z
UID:10000960-1729987200-1730073599@www.pnwumc.org
SUMMARY:"St. Sebastian" Climate Justice Art Exhibit
DESCRIPTION:Throughout October\, First Church is grateful to display Arlington-based artist Joseph Gregory Rossano’s sculpture “St. Sebastian”. His sculpture is part of his exhibit\, “Portraits of the Divine”\, which depicts a menagerie of endangered and extinct animals as encounters with the divine. Rossano’s St. Sebastian will be on loan through November\, courtesy of the artist and Traver Gallery. \n\nThe St. Sebastian sculpture exhibit is free and open to the public for viewing on Sundays in October after worship until 3pm. (And after the Hispanic Heritage Month Recital on Oct 13th).\nThe artist will speak about his “Portraits of the Divine” exhibit at our October 13th Blessing of the Animals service. Click here for a link to a flier with more information.\nParking is available in our garage for attendees on Sundays until 3 pm.\nFind us at 2nd & Denny\, downtown Seattle\, next to the Pacific Science Center. Enter from the North Sanctuary entrance.\n\nRegistration is not required\, but we appreciate knowing in advance what day you may be interested in coming. Or let us know if you would like to arrange a different time. \n 
URL:https://www.pnwumc.org/event/st-sebastian-climate-justice-art-exhibit/2024-10-27/
LOCATION:Seattle First United Methodist Church\, 180 Denny Way\, Seattle\, WA\, 98109\, United States
CATEGORIES:Creation Care,Local Church
ATTACH;FMTTYPE=image/jpeg:https://www.pnwumc.org/wp-content/uploads/2024/10/OCTOBER_FLYER.jpg
ORGANIZER;CN="Jackie Celin":MAILTO:jackie@firstchurchseattle.org
GEO:47.618846;-122.353213
X-APPLE-STRUCTURED-LOCATION;VALUE=URI;X-ADDRESS=Seattle First United Methodist Church 180 Denny Way Seattle WA 98109 United States;X-APPLE-RADIUS=500;X-TITLE=180 Denny Way:geo:-122.353213,47.618846
END:VEVENT
END:VCALENDAR