BEGIN:VCALENDAR
VERSION:2.0
PRODID:-//The Pacific Northwest Conference of The United Methodist Church - ECPv6.15.20//NONSGML v1.0//EN
CALSCALE:GREGORIAN
METHOD:PUBLISH
X-WR-CALNAME:The Pacific Northwest Conference of The United Methodist Church
X-ORIGINAL-URL:https://www.pnwumc.org
X-WR-CALDESC:Events for The Pacific Northwest Conference of The United Methodist Church
REFRESH-INTERVAL;VALUE=DURATION:PT1H
X-Robots-Tag:noindex
X-PUBLISHED-TTL:PT1H
BEGIN:VTIMEZONE
TZID:America/Los_Angeles
BEGIN:DAYLIGHT
TZOFFSETFROM:-0800
TZOFFSETTO:-0700
TZNAME:PDT
DTSTART:20240310T100000
END:DAYLIGHT
BEGIN:STANDARD
TZOFFSETFROM:-0700
TZOFFSETTO:-0800
TZNAME:PST
DTSTART:20241103T090000
END:STANDARD
BEGIN:DAYLIGHT
TZOFFSETFROM:-0800
TZOFFSETTO:-0700
TZNAME:PDT
DTSTART:20250309T100000
END:DAYLIGHT
BEGIN:STANDARD
TZOFFSETFROM:-0700
TZOFFSETTO:-0800
TZNAME:PST
DTSTART:20251102T090000
END:STANDARD
BEGIN:DAYLIGHT
TZOFFSETFROM:-0800
TZOFFSETTO:-0700
TZNAME:PDT
DTSTART:20260308T100000
END:DAYLIGHT
BEGIN:STANDARD
TZOFFSETFROM:-0700
TZOFFSETTO:-0800
TZNAME:PST
DTSTART:20261101T090000
END:STANDARD
END:VTIMEZONE
BEGIN:VEVENT
DTSTART;TZID=America/Los_Angeles:20250923T183000
DTEND;TZID=America/Los_Angeles:20250923T203000
DTSTAMP:20260422T154711
CREATED:20250701T165142Z
LAST-MODIFIED:20250701T170526Z
UID:10001552-1758652200-1758659400@www.pnwumc.org
SUMMARY:Lay Servant Ministries: The Basic Course
DESCRIPTION:The “Introduction to Lay Ministry: The BASIC Course” is the foundational course for Lay Servant Ministries. This is the gateway course for those who are called to be Certified Lay Servants\, Lay Speakers\, and Lay Ministers. And can also be part of a person’s discipleship plan to acquaint you with your gifts\, calling\, and responsibilities as a follower of Christ. The course is being offered this Fall (Tuesdays\, 6:30 to 8:30 PM PDT\, September 9 – October 14 online for those interested in taking this next step in exploration. \nWhile the course is offered for those who register at no cost\, participants must secure a copy of the Lay Servant Ministries Participant’s Book (DR626 • 978-0-88177-626-3 • $11.00) by Sandy Zeigler Jackson and Brian Jackson. The participants’ book is available at Cokesbury and on Amazon in paperback and Kindle formats. \nParticipant Requirements: Have the book named above\, read the 1st session before the first course meeting\, and fully engage in all sessions with audio and video active. Additional assignments will be provided in your welcome letter. \nRegister Here: https://gnw-reg.brtapp.com/LayServantMinistriesBasicCourseSept
URL:https://www.pnwumc.org/event/lay-servant-ministries-the-basic-course/2025-09-23/
CATEGORIES:Certified Lay Minister,Education,Greater NW Area,Laity,Online Training,Training
ATTACH;FMTTYPE=image/jpeg:https://www.pnwumc.org/wp-content/uploads/2014/10/layservantmin.jpg
ORGANIZER;CN="Laura Velonza":MAILTO:lvelonza@pnwumc.org
LOCATION:https://www.pnwumc.org/event/lay-servant-ministries-the-basic-course/2025-09-23/
END:VEVENT
BEGIN:VEVENT
DTSTART;TZID=America/Los_Angeles:20250924T180000
DTEND;TZID=America/Los_Angeles:20250924T190000
DTSTAMP:20260422T154711
CREATED:20250904T001430Z
LAST-MODIFIED:20250904T001430Z
UID:10001600-1758736800-1758740400@www.pnwumc.org
SUMMARY:GNW Hispanic/Latinx Leaders Meeting
DESCRIPTION:The Greater Northwest (GNW) Hispanic/Latinx Leaders Meeting is a monthly gathering open to all Hispanic/Latinx pastors and leaders serving in local churches across the GNW Episcopal Area.\nWe meet by Zoom on the last Wednesday of each month from 6:00–7:00 PM (PST) under the leadership of our chairperson\, Aurora Pavón. \nThese meetings provide a space to: \n\n\n\nCheck in with one another and share updates\nDiscuss upcoming events\, workshops\, and activities\nPlan collaborative initiatives\nLift up community needs and concerns\n\n\n\nThis is a valuable opportunity to connect\, learn\, and support one another in ministry.\nFor more information\, please contact: cesantos@pnwumc.org
URL:https://www.pnwumc.org/event/gnw-hispanic-latinx-leaders-meeting/2025-09-24/
LOCATION:Zoom Meeting
CATEGORIES:Annual Conference,Greater NW Area,Hispanic Ministries
ORGANIZER;CN="Rev. Cruz Edwin Santos":MAILTO:cesantos@pnwumc.org
END:VEVENT
END:VCALENDAR