BEGIN:VCALENDAR
VERSION:2.0
PRODID:-//The Pacific Northwest Conference of The United Methodist Church - ECPv6.15.20//NONSGML v1.0//EN
CALSCALE:GREGORIAN
METHOD:PUBLISH
X-WR-CALNAME:The Pacific Northwest Conference of The United Methodist Church
X-ORIGINAL-URL:https://www.pnwumc.org
X-WR-CALDESC:Events for The Pacific Northwest Conference of The United Methodist Church
REFRESH-INTERVAL;VALUE=DURATION:PT1H
X-Robots-Tag:noindex
X-PUBLISHED-TTL:PT1H
BEGIN:VTIMEZONE
TZID:America/Los_Angeles
BEGIN:DAYLIGHT
TZOFFSETFROM:-0800
TZOFFSETTO:-0700
TZNAME:PDT
DTSTART:20210314T100000
END:DAYLIGHT
BEGIN:STANDARD
TZOFFSETFROM:-0700
TZOFFSETTO:-0800
TZNAME:PST
DTSTART:20211107T090000
END:STANDARD
BEGIN:DAYLIGHT
TZOFFSETFROM:-0800
TZOFFSETTO:-0700
TZNAME:PDT
DTSTART:20220313T100000
END:DAYLIGHT
BEGIN:STANDARD
TZOFFSETFROM:-0700
TZOFFSETTO:-0800
TZNAME:PST
DTSTART:20221106T090000
END:STANDARD
BEGIN:DAYLIGHT
TZOFFSETFROM:-0800
TZOFFSETTO:-0700
TZNAME:PDT
DTSTART:20230312T100000
END:DAYLIGHT
BEGIN:STANDARD
TZOFFSETFROM:-0700
TZOFFSETTO:-0800
TZNAME:PST
DTSTART:20231105T090000
END:STANDARD
END:VTIMEZONE
BEGIN:VEVENT
DTSTART;TZID=America/Los_Angeles:20220810T183000
DTEND;TZID=America/Los_Angeles:20220810T200000
DTSTAMP:20260425T093557
CREATED:20220801T222633Z
LAST-MODIFIED:20220801T222633Z
UID:10000546-1660156200-1660161600@www.pnwumc.org
SUMMARY:BSA & UMC Informational Webinar
DESCRIPTION:The Greater Northwest Area treasurers will be hosting an informational webinar on August 10th at 6:30 p.m. PT. Any church that has or is considering hosting a Boy Scout Troop or unit should plan to have at least one church leader attend the webinar. Brant Henshaw (PNW and Alaska Conference Treasurer) and Candace Clarke (OR-ID Conference Treasurer) will be available to answer questions. \nDuring the webinar\, the treasurers will be covering updates on the Boy Scouts of America (BSA) settlement\, the new Affiliation Agreement and the new Facility Use Agreement\, and will attempt to answer questions you may have on moving forward with this area of ministry in your community. They anticipate the webinar to last about an hour and would appreciate questions in advance so we can have the best possible information available for you. \nRegistration is required.
URL:https://www.pnwumc.org/event/bsa-umc-informational-webinar/
LOCATION:The Pacific Northwest Conference of the United Methodist Church\, 816 S 216th St\, Des Moines\, WA\, 98198\, United States
CATEGORIES:Greater NW Area
GEO:47.4095109;-122.3211638
X-APPLE-STRUCTURED-LOCATION;VALUE=URI;X-ADDRESS=The Pacific Northwest Conference of the United Methodist Church 816 S 216th St Des Moines WA 98198 United States;X-APPLE-RADIUS=500;X-TITLE=816 S 216th St:geo:-122.3211638,47.4095109
END:VEVENT
END:VCALENDAR