BEGIN:VCALENDAR
VERSION:2.0
PRODID:-//The Pacific Northwest Conference of The United Methodist Church - ECPv6.15.20//NONSGML v1.0//EN
CALSCALE:GREGORIAN
METHOD:PUBLISH
X-ORIGINAL-URL:https://www.pnwumc.org
X-WR-CALDESC:Events for The Pacific Northwest Conference of The United Methodist Church
REFRESH-INTERVAL;VALUE=DURATION:PT1H
X-Robots-Tag:noindex
X-PUBLISHED-TTL:PT1H
BEGIN:VTIMEZONE
TZID:America/Los_Angeles
BEGIN:DAYLIGHT
TZOFFSETFROM:-0800
TZOFFSETTO:-0700
TZNAME:PDT
DTSTART:20160313T100000
END:DAYLIGHT
BEGIN:STANDARD
TZOFFSETFROM:-0700
TZOFFSETTO:-0800
TZNAME:PST
DTSTART:20161106T090000
END:STANDARD
BEGIN:DAYLIGHT
TZOFFSETFROM:-0800
TZOFFSETTO:-0700
TZNAME:PDT
DTSTART:20170312T100000
END:DAYLIGHT
BEGIN:STANDARD
TZOFFSETFROM:-0700
TZOFFSETTO:-0800
TZNAME:PST
DTSTART:20171105T090000
END:STANDARD
BEGIN:DAYLIGHT
TZOFFSETFROM:-0800
TZOFFSETTO:-0700
TZNAME:PDT
DTSTART:20180311T100000
END:DAYLIGHT
BEGIN:STANDARD
TZOFFSETFROM:-0700
TZOFFSETTO:-0800
TZNAME:PST
DTSTART:20181104T090000
END:STANDARD
END:VTIMEZONE
BEGIN:VEVENT
DTSTART;TZID=America/Los_Angeles:20170522T100000
DTEND;TZID=America/Los_Angeles:20170525T140000
DTSTAMP:20260422T162512
CREATED:20160928T025112Z
LAST-MODIFIED:20161220T220656Z
UID:10000010-1495447200-1495720800@www.pnwumc.org
SUMMARY:Greater NW Area Cabinet
DESCRIPTION:Conference Rooms 1 \,2\, 3
URL:https://www.pnwumc.org/event/greater-nw-area-cabinet-4/
LOCATION:Alton Collins Retreat Center\, 32867 OR-211\, Eagle Creek\, OR\, 97022\, United States
CATEGORIES:Annual Conference,Greater NW Area,Meetings
ORGANIZER;CN="Gretchen Engle":MAILTO:acregistrar@pnwumc.org
GEO:45.3727696;-122.3287986
X-APPLE-STRUCTURED-LOCATION;VALUE=URI;X-ADDRESS=Alton Collins Retreat Center 32867 OR-211 Eagle Creek OR 97022 United States;X-APPLE-RADIUS=500;X-TITLE=32867 OR-211:geo:-122.3287986,45.3727696
END:VEVENT
BEGIN:VEVENT
DTSTART;TZID=America/Los_Angeles:20170421T090000
DTEND;TZID=America/Los_Angeles:20170421T170000
DTSTAMP:20260422T162512
CREATED:20170330T165451Z
LAST-MODIFIED:20170330T165451Z
UID:10000068-1492765200-1492794000@www.pnwumc.org
SUMMARY:Commission on Ethnic Ministries
DESCRIPTION:Conference Room #1
URL:https://www.pnwumc.org/event/commission-on-ethnic-ministries-4/
LOCATION:Alton Collins Retreat Center\, 32867 OR-211\, Eagle Creek\, OR\, 97022\, United States
CATEGORIES:Annual Conference,Ethnic Ministries,Meetings
ORGANIZER;CN="Patrick Ferguson":MAILTO:pferguson@greaternw.org
GEO:45.3727696;-122.3287986
X-APPLE-STRUCTURED-LOCATION;VALUE=URI;X-ADDRESS=Alton Collins Retreat Center 32867 OR-211 Eagle Creek OR 97022 United States;X-APPLE-RADIUS=500;X-TITLE=32867 OR-211:geo:-122.3287986,45.3727696
END:VEVENT
BEGIN:VEVENT
DTSTART;TZID=America/Los_Angeles:20170418T100000
DTEND;TZID=America/Los_Angeles:20170420T140000
DTSTAMP:20260422T162512
CREATED:20160908T235944Z
LAST-MODIFIED:20170228T024203Z
UID:10000001-1492509600-1492696800@www.pnwumc.org
SUMMARY:Greater NW Area Cabinet
DESCRIPTION:
URL:https://www.pnwumc.org/event/greater-nw-area-cabinet-3/
LOCATION:OR-ID Conference Office\, 1505 SW 18th Avenue\, Portland\, OR\, 97201-2524\, United States
CATEGORIES:Annual Conference,Greater NW Area
ORGANIZER;CN="Gretchen Engle":MAILTO:acregistrar@pnwumc.org
GEO:45.516724;-122.693355
X-APPLE-STRUCTURED-LOCATION;VALUE=URI;X-ADDRESS=OR-ID Conference Office 1505 SW 18th Avenue Portland OR 97201-2524 United States;X-APPLE-RADIUS=500;X-TITLE=1505 SW 18th Avenue:geo:-122.693355,45.516724
END:VEVENT
BEGIN:VEVENT
DTSTART;TZID=America/Los_Angeles:20170408T140000
DTEND;TZID=America/Los_Angeles:20170408T160000
DTSTAMP:20260422T162512
CREATED:20161003T232440Z
LAST-MODIFIED:20170404T181511Z
UID:10000017-1491660000-1491667200@www.pnwumc.org
SUMMARY:Threshold Event: Meet Bishop Stanovsky
DESCRIPTION:These Threshold Events are an opportunity to meet with our new Greater Northwest Area Bishop\, Elaine JW Stanovsky. Click here to read her thoughts on this opportunity. \nThreshold Events for Bishop Stanovsky\nFriday\, October 14 – Alaska UMC Office (1660 Patterson St) Anchorage at 7:00 p.m. \nSunday\, November 13 – Montavilla UMC in SE Portland\, 2:00 – 4:00 p.m. \nSunday\, January 8 – Olympia First UMC\, 2:00 – 4:00 p.m. \nSaturday\, January 21 – Eugene First UMC\, 2:00 – 4:00 p.m. \nSunday\, February 26 – Spokane Valley UMC\, 2:00 – 4:00 p.m. \nSunday\, March 5 – Edmonds UMC\, 2:00 – 4:00 p.m. \nSaturday\, March 11 – Meridian UMC\, Meridian\, ID\, 2:00 – 4:00 p.m. \nSaturday\, April 8 – Moses Lake UMC\, 2:00 – 4:00 p.m.
URL:https://www.pnwumc.org/event/threshold-event-meet-bishop-stanovsky-8/
LOCATION:Moses Lake United Methodist Church\, 746 S Ironwood Drive\, Moses Lake\, WA\, 98837\, United States
CATEGORIES:Annual Conference,Greater NW Area
ATTACH;FMTTYPE=image/png:https://www.pnwumc.org/wp-content/uploads/2016/10/FLIER_Threshold_Banner.png
ORGANIZER;CN="Gretchen Engle":MAILTO:acregistrar@pnwumc.org
GEO:47.1267938;-119.2627205
X-APPLE-STRUCTURED-LOCATION;VALUE=URI;X-ADDRESS=Moses Lake United Methodist Church 746 S Ironwood Drive Moses Lake WA 98837 United States;X-APPLE-RADIUS=500;X-TITLE=746 S Ironwood Drive:geo:-119.2627205,47.1267938
END:VEVENT
BEGIN:VEVENT
DTSTART;TZID=America/Los_Angeles:20170408T100000
DTEND;TZID=America/Los_Angeles:20170408T160000
DTSTAMP:20260422T162512
CREATED:20170104T201210Z
LAST-MODIFIED:20170104T201210Z
UID:10000029-1491645600-1491667200@www.pnwumc.org
SUMMARY:Joint PNW & OR-ID Extension Ministers Gathering
DESCRIPTION:On Saturday\, April 8\, 2017\, from 10 am to 4 pm\, those serving in Extension Ministry will gather for a day retreat at First United Methodist Church in Vancouver\, WA. This will be a joint event with Oregon and Idaho like last year. \nDr. Terrill Gibson will be our speaker helping us to take a look at our “Call” to our various ministries.  We will open with our usual sharing\, have lunch ($10 donation to cover costs)\, speaker\, and closing with communion with a representative of the Greater Northwest Area Cabinet.
URL:https://www.pnwumc.org/event/joint-pnw-or-id-extension-ministers-gathering/
LOCATION:Vancouver: First UMC\, 401 E 33rd St\, Vancouver\, WA\, 98663\, United States
CATEGORIES:Annual Conference,Clergy,Greater NW Area
ORGANIZER;CN="Carol Johnson":MAILTO:cjsppcs@comcast.net
GEO:45.644877;-122.667931
X-APPLE-STRUCTURED-LOCATION;VALUE=URI;X-ADDRESS=Vancouver: First UMC 401 E 33rd St Vancouver WA 98663 United States;X-APPLE-RADIUS=500;X-TITLE=401 E 33rd St:geo:-122.667931,45.644877
END:VEVENT
BEGIN:VEVENT
DTSTART;TZID=America/Los_Angeles:20170311T080000
DTEND;TZID=America/Los_Angeles:20170311T170000
DTSTAMP:20260422T162512
CREATED:20161003T232146Z
LAST-MODIFIED:20161027T192537Z
UID:10000016-1489219200-1489251600@www.pnwumc.org
SUMMARY:Threshold Event: Meet Bishop Stanovsky
DESCRIPTION:These Threshold Events are an opportunity to meet with our new Greater Northwest Area Bishop\, Elaine JW Stanovsky. Click here to read her thoughts on this opportunity. \nSave the date(s). More information will be shared as it is available. \nThreshold Events for Bishop Stanovsky\nFriday\, October 14 – Alaska UMC Office (1660 Patterson St) Anchorage at 7:00 p.m. \nSunday\, November 13 – Montavilla UMC in SE Portland\, 2:00 – 4:00 p.m. \nSunday\, January 8 – Olympia First UMC\, 2:00 – 4:00 p.m. \nSaturday\, January 21 – Eugene First UMC\, 2:00 – 4:00 p.m. \nSunday\, February 26 – Spokane Valley UMC\, 2:00 – 4:00 p.m. \nSunday\, March 5 – Edmonds UMC\, 2:00 – 4:00 p.m. \nSaturday\, March 11 – Meridian UMC\, Meridian\, ID\, 2:00 – 4:00 p.m. \nSaturday\, April 8 – Moses Lake UMC\, 2:00 – 4:00 p.m.
URL:https://www.pnwumc.org/event/threshold-event-meet-bishop-stanovsky-7/
LOCATION:Meridian United Methodist Church\, 240 E. Idaho St.\, Meridian\, OR\, 83642\, United States
CATEGORIES:Annual Conference,Greater NW Area
ATTACH;FMTTYPE=image/png:https://www.pnwumc.org/wp-content/uploads/2016/10/FLIER_Threshold_Banner.png
ORGANIZER;CN="Gretchen Engle":MAILTO:acregistrar@pnwumc.org
GEO:43.6121087;-116.3915131
X-APPLE-STRUCTURED-LOCATION;VALUE=URI;X-ADDRESS=Meridian United Methodist Church 240 E. Idaho St. Meridian OR 83642 United States;X-APPLE-RADIUS=500;X-TITLE=240 E. Idaho St.:geo:-116.3915131,43.6121087
END:VEVENT
BEGIN:VEVENT
DTSTART;VALUE=DATE:20170309
DTEND;VALUE=DATE:20170311
DTSTAMP:20260422T162512
CREATED:20161101T211650Z
LAST-MODIFIED:20161216T024436Z
UID:10000045-1489017600-1489190399@www.pnwumc.org
SUMMARY:Northwest Leadership Institute
DESCRIPTION:Registration is now open!\nSign-up today and enjoy early bird pricing  – available through January 31st.
URL:https://www.pnwumc.org/event/northwest-leadership-institute-2/
LOCATION:Cathedral of the Rockies\, 717 N. 11th St.\, Boise\, ID\, 83702\, United States
CATEGORIES:Greater NW Area,Local Church,Training
GEO:43.6226137;-116.2026794
X-APPLE-STRUCTURED-LOCATION;VALUE=URI;X-ADDRESS=Cathedral of the Rockies 717 N. 11th St. Boise ID 83702 United States;X-APPLE-RADIUS=500;X-TITLE=717 N. 11th St.:geo:-116.2026794,43.6226137
END:VEVENT
BEGIN:VEVENT
DTSTART;TZID=America/Los_Angeles:20170305T140000
DTEND;TZID=America/Los_Angeles:20170305T160000
DTSTAMP:20260422T162512
CREATED:20161003T231933Z
LAST-MODIFIED:20161027T192631Z
UID:10000015-1488722400-1488729600@www.pnwumc.org
SUMMARY:Threshold Event: Meet Bishop Stanovsky
DESCRIPTION:These Threshold Events are an opportunity to meet with our new Greater Northwest Area Bishop\, Elaine JW Stanovsky. Click here to read her thoughts on this opportunity. \nSave the date(s). More information will be shared as it is available. \nThreshold Events for Bishop Stanovsky\nFriday\, October 14 – Alaska UMC Office (1660 Patterson St) Anchorage at 7:00 p.m. \nSunday\, November 13 – Montavilla UMC in SE Portland\, 2:00 – 4:00 p.m. \nSunday\, January 8 – Olympia First UMC\, 2:00 – 4:00 p.m. \nSaturday\, January 21 – Eugene First UMC\, 2:00 – 4:00 p.m. \nSunday\, February 26 – Spokane Valley UMC\, 2:00 – 4:00 p.m. \nSunday\, March 5 – Edmonds UMC\, 2:00 – 4:00 p.m. \nSaturday\, March 11 – Meridian UMC\, Meridian\, ID\, 2:00 – 4:00 p.m. \nSaturday\, April 8 – Moses Lake UMC\, 2:00 – 4:00 p.m.
URL:https://www.pnwumc.org/event/threshold-event-meet-bishop-stanovsky-6/
LOCATION:Edmonds United Methodist Church\, 828 Caspers Street\, Edmonds\, WA\, 98020\, United States
CATEGORIES:Annual Conference,Greater NW Area
ATTACH;FMTTYPE=image/png:https://www.pnwumc.org/wp-content/uploads/2016/10/FLIER_Threshold_Banner.png
ORGANIZER;CN="Gretchen Engle":MAILTO:acregistrar@pnwumc.org
GEO:47.8176703;-122.3690318
X-APPLE-STRUCTURED-LOCATION;VALUE=URI;X-ADDRESS=Edmonds United Methodist Church 828 Caspers Street Edmonds WA 98020 United States;X-APPLE-RADIUS=500;X-TITLE=828 Caspers Street:geo:-122.3690318,47.8176703
END:VEVENT
BEGIN:VEVENT
DTSTART;TZID=America/Los_Angeles:20170228T100000
DTEND;TZID=America/Los_Angeles:20170303T140000
DTSTAMP:20260422T162512
CREATED:20160908T235134Z
LAST-MODIFIED:20161027T201937Z
UID:10000007-1488276000-1488549600@www.pnwumc.org
SUMMARY:Greater NW Area Cabinet
DESCRIPTION:Conference Rooms #1\, 2\, 3
URL:https://www.pnwumc.org/event/greater-nw-area-cabinet/
LOCATION:Alton Collins Retreat Center\, 32867 OR-211\, Eagle Creek\, OR\, 97022\, United States
CATEGORIES:Annual Conference,Greater NW Area,Meetings
ORGANIZER;CN="Gretchen Engle":MAILTO:acregistrar@pnwumc.org
GEO:45.3727696;-122.3287986
X-APPLE-STRUCTURED-LOCATION;VALUE=URI;X-ADDRESS=Alton Collins Retreat Center 32867 OR-211 Eagle Creek OR 97022 United States;X-APPLE-RADIUS=500;X-TITLE=32867 OR-211:geo:-122.3287986,45.3727696
END:VEVENT
BEGIN:VEVENT
DTSTART;TZID=America/Los_Angeles:20170226T140000
DTEND;TZID=America/Los_Angeles:20170226T160000
DTSTAMP:20260422T162512
CREATED:20161003T231824Z
LAST-MODIFIED:20161027T192752Z
UID:10000014-1488117600-1488124800@www.pnwumc.org
SUMMARY:Threshold Event: Meet Bishop Stanovsky
DESCRIPTION:These Threshold Events are an opportunity to meet with our new Greater Northwest Area Bishop\, Elaine JW Stanovsky. Click here to read her thoughts on this opportunity. \nSave the date(s). More information will be shared as it is available. \nThreshold Events for Bishop Stanovsky\nFriday\, October 14 – Alaska UMC Office (1660 Patterson St) Anchorage at 7:00 p.m. \nSunday\, November 13 – Montavilla UMC in SE Portland\, 2:00 – 4:00 p.m. \nSunday\, January 8 – Olympia First UMC\, 2:00 – 4:00 p.m. \nSaturday\, January 21 – Eugene First UMC\, 2:00 – 4:00 p.m. \nSunday\, February 26 – Spokane Valley UMC\, 2:00 – 4:00 p.m. \nSunday\, March 5 – Edmonds UMC\, 2:00 – 4:00 p.m. \nSaturday\, March 11 – Meridian UMC\, Meridian\, ID\, 2:00 – 4:00 p.m. \nSaturday\, April 8 – Moses Lake UMC\, 2:00 – 4:00 p.m.
URL:https://www.pnwumc.org/event/threshold-event-meet-bishop-stanovsky-5/
LOCATION:Spokane Valley United Methodist Church\, 115 N Raymond Rd\, Spokane Valley\, WA\, 99206\, United States
CATEGORIES:Annual Conference,Greater NW Area
ATTACH;FMTTYPE=image/png:https://www.pnwumc.org/wp-content/uploads/2016/10/FLIER_Threshold_Banner.png
ORGANIZER;CN="Gretchen Engle":MAILTO:acregistrar@pnwumc.org
GEO:47.658477;-117.264698
X-APPLE-STRUCTURED-LOCATION;VALUE=URI;X-ADDRESS=Spokane Valley United Methodist Church 115 N Raymond Rd Spokane Valley WA 99206 United States;X-APPLE-RADIUS=500;X-TITLE=115 N Raymond Rd:geo:-117.264698,47.658477
END:VEVENT
END:VCALENDAR