BEGIN:VCALENDAR
VERSION:2.0
PRODID:-//The Pacific Northwest Conference of The United Methodist Church - ECPv6.15.20//NONSGML v1.0//EN
CALSCALE:GREGORIAN
METHOD:PUBLISH
X-WR-CALNAME:The Pacific Northwest Conference of The United Methodist Church
X-ORIGINAL-URL:https://www.pnwumc.org
X-WR-CALDESC:Events for The Pacific Northwest Conference of The United Methodist Church
REFRESH-INTERVAL;VALUE=DURATION:PT1H
X-Robots-Tag:noindex
X-PUBLISHED-TTL:PT1H
BEGIN:VTIMEZONE
TZID:America/Los_Angeles
BEGIN:DAYLIGHT
TZOFFSETFROM:-0800
TZOFFSETTO:-0700
TZNAME:PDT
DTSTART:20250309T100000
END:DAYLIGHT
BEGIN:STANDARD
TZOFFSETFROM:-0700
TZOFFSETTO:-0800
TZNAME:PST
DTSTART:20251102T090000
END:STANDARD
BEGIN:DAYLIGHT
TZOFFSETFROM:-0800
TZOFFSETTO:-0700
TZNAME:PDT
DTSTART:20260308T100000
END:DAYLIGHT
BEGIN:STANDARD
TZOFFSETFROM:-0700
TZOFFSETTO:-0800
TZNAME:PST
DTSTART:20261101T090000
END:STANDARD
BEGIN:DAYLIGHT
TZOFFSETFROM:-0800
TZOFFSETTO:-0700
TZNAME:PDT
DTSTART:20270314T100000
END:DAYLIGHT
BEGIN:STANDARD
TZOFFSETFROM:-0700
TZOFFSETTO:-0800
TZNAME:PST
DTSTART:20271107T090000
END:STANDARD
END:VTIMEZONE
BEGIN:VEVENT
DTSTART;VALUE=DATE:20260520
DTEND;VALUE=DATE:20260521
DTSTAMP:20260420T002650
CREATED:20260127T184336Z
LAST-MODIFIED:20260127T184927Z
UID:10001706-1779235200-1779321599@www.pnwumc.org
SUMMARY:GNW Opening Session
DESCRIPTION:The shared Greater Northwest Area Opening Session will allow members across the three conferences (Alaska\, Oregon-Idaho\, Pacific Northwest) to reconnect through shared storytelling and visioning shaped around area priorities and ministry achievements. Members will also receive the Episcopal Address from Bishop Cedrick Bridgeforth. \nFor more information\, visit the PNWAC 2026 website.
URL:https://www.pnwumc.org/event/gnw-opening-session/
CATEGORIES:Annual Conference,Greater NW Area
LOCATION:https://www.pnwumc.org/event/gnw-opening-session/
END:VEVENT
BEGIN:VEVENT
DTSTART;TZID=America/Los_Angeles:20260527T180000
DTEND;TZID=America/Los_Angeles:20260527T190000
DTSTAMP:20260420T002650
CREATED:20250904T001430Z
LAST-MODIFIED:20250904T001430Z
UID:10001608-1779904800-1779908400@www.pnwumc.org
SUMMARY:GNW Hispanic/Latinx Leaders Meeting
DESCRIPTION:The Greater Northwest (GNW) Hispanic/Latinx Leaders Meeting is a monthly gathering open to all Hispanic/Latinx pastors and leaders serving in local churches across the GNW Episcopal Area.\nWe meet by Zoom on the last Wednesday of each month from 6:00–7:00 PM (PST) under the leadership of our chairperson\, Aurora Pavón. \nThese meetings provide a space to: \n\n\n\nCheck in with one another and share updates\nDiscuss upcoming events\, workshops\, and activities\nPlan collaborative initiatives\nLift up community needs and concerns\n\n\n\nThis is a valuable opportunity to connect\, learn\, and support one another in ministry.\nFor more information\, please contact: cesantos@pnwumc.org
URL:https://www.pnwumc.org/event/gnw-hispanic-latinx-leaders-meeting/2026-05-27/
LOCATION:Zoom Meeting
CATEGORIES:Annual Conference,Greater NW Area,Hispanic Ministries
ORGANIZER;CN="Rev. Cruz Edwin Santos":MAILTO:cesantos@pnwumc.org
END:VEVENT
END:VCALENDAR