BEGIN:VCALENDAR
VERSION:2.0
PRODID:-//The Pacific Northwest Conference of The United Methodist Church - ECPv6.15.20//NONSGML v1.0//EN
CALSCALE:GREGORIAN
METHOD:PUBLISH
X-ORIGINAL-URL:https://www.pnwumc.org
X-WR-CALDESC:Events for The Pacific Northwest Conference of The United Methodist Church
REFRESH-INTERVAL;VALUE=DURATION:PT1H
X-Robots-Tag:noindex
X-PUBLISHED-TTL:PT1H
BEGIN:VTIMEZONE
TZID:America/Los_Angeles
BEGIN:DAYLIGHT
TZOFFSETFROM:-0800
TZOFFSETTO:-0700
TZNAME:PDT
DTSTART:20220313T100000
END:DAYLIGHT
BEGIN:STANDARD
TZOFFSETFROM:-0700
TZOFFSETTO:-0800
TZNAME:PST
DTSTART:20221106T090000
END:STANDARD
BEGIN:DAYLIGHT
TZOFFSETFROM:-0800
TZOFFSETTO:-0700
TZNAME:PDT
DTSTART:20230312T100000
END:DAYLIGHT
BEGIN:STANDARD
TZOFFSETFROM:-0700
TZOFFSETTO:-0800
TZNAME:PST
DTSTART:20231105T090000
END:STANDARD
BEGIN:DAYLIGHT
TZOFFSETFROM:-0800
TZOFFSETTO:-0700
TZNAME:PDT
DTSTART:20240310T100000
END:DAYLIGHT
BEGIN:STANDARD
TZOFFSETFROM:-0700
TZOFFSETTO:-0800
TZNAME:PST
DTSTART:20241103T090000
END:STANDARD
END:VTIMEZONE
BEGIN:VEVENT
DTSTART;TZID=America/Los_Angeles:20230907T190000
DTEND;TZID=America/Los_Angeles:20230907T210000
DTSTAMP:20260424T070434
CREATED:20230816T234036Z
LAST-MODIFIED:20230910T213035Z
UID:10000642-1694113200-1694120400@www.pnwumc.org
SUMMARY:Lay Servant Ministries Basic Course
DESCRIPTION:The “Introduction to Lay Servant Ministry: The BASIC Course” is the foundational course for Lay Servant Ministries. This is the gateway course for those who are called to be Certified Lay Servants\, Lay Speakers\, and Lay Ministers. And can also be part of a person’s discipleship plan to acquaint you with their gifts\, calling\, and responsibilities as followers of Christ. \nThis course will be offered over five two-hour sessions on Sept 7\, 12\, 14\, 19\, and 21\, from 7-9 p.m. PT. \nTo register\, email Emilie Kroen at ekroen@yahoo.com by Aug 31\, providing your name\, address\, phone #\, and your local church setting. Courses fill quickly\, so register as soon as you can commit to the schedule and course participation expectations. Each participant must have a book\, and attend all five sessions with audio and video functions active throughout each session\, but there is no other cost. \nBOOK: Lay Servant Ministries by Sandy Zeigler Jackson and Brian Jackson\nParticipant’s Book • DR626 • 978-0-88177-626-3 • Participants’ books are available in paperback at Cokesbury for $9.29\, Upper Room for $12\, and Amazon for $11. ebooks are also available.
URL:https://www.pnwumc.org/event/lay-servant-ministries-basic-course/2023-09-07/
CATEGORIES:Certified Lay Minister,Greater NW Area,Laity,Online Training,Training
ATTACH;FMTTYPE=image/png:https://www.pnwumc.org/wp-content/uploads/2023/08/LayServantMinistries16-9.png
ORGANIZER;CN="Emilie Kroen":MAILTO:ekroen@yahoo.com
LOCATION:https://www.pnwumc.org/event/lay-servant-ministries-basic-course/2023-09-07/
END:VEVENT
BEGIN:VEVENT
DTSTART;TZID=America/Los_Angeles:20230912T190000
DTEND;TZID=America/Los_Angeles:20230912T210000
DTSTAMP:20260424T070434
CREATED:20230816T234036Z
LAST-MODIFIED:20230910T213035Z
UID:10000643-1694545200-1694552400@www.pnwumc.org
SUMMARY:Lay Servant Ministries Basic Course
DESCRIPTION:The “Introduction to Lay Servant Ministry: The BASIC Course” is the foundational course for Lay Servant Ministries. This is the gateway course for those who are called to be Certified Lay Servants\, Lay Speakers\, and Lay Ministers. And can also be part of a person’s discipleship plan to acquaint you with their gifts\, calling\, and responsibilities as followers of Christ. \nThis course will be offered over five two-hour sessions on Sept 7\, 12\, 14\, 19\, and 21\, from 7-9 p.m. PT. \nTo register\, email Emilie Kroen at ekroen@yahoo.com by Aug 31\, providing your name\, address\, phone #\, and your local church setting. Courses fill quickly\, so register as soon as you can commit to the schedule and course participation expectations. Each participant must have a book\, and attend all five sessions with audio and video functions active throughout each session\, but there is no other cost. \nBOOK: Lay Servant Ministries by Sandy Zeigler Jackson and Brian Jackson\nParticipant’s Book • DR626 • 978-0-88177-626-3 • Participants’ books are available in paperback at Cokesbury for $9.29\, Upper Room for $12\, and Amazon for $11. ebooks are also available.
URL:https://www.pnwumc.org/event/lay-servant-ministries-basic-course/2023-09-12/
CATEGORIES:Certified Lay Minister,Greater NW Area,Laity,Online Training,Training
ATTACH;FMTTYPE=image/png:https://www.pnwumc.org/wp-content/uploads/2023/08/LayServantMinistries16-9.png
ORGANIZER;CN="Emilie Kroen":MAILTO:ekroen@yahoo.com
LOCATION:https://www.pnwumc.org/event/lay-servant-ministries-basic-course/2023-09-12/
END:VEVENT
BEGIN:VEVENT
DTSTART;TZID=America/Los_Angeles:20230914T190000
DTEND;TZID=America/Los_Angeles:20230914T210000
DTSTAMP:20260424T070434
CREATED:20230816T234036Z
LAST-MODIFIED:20230910T213035Z
UID:10000644-1694718000-1694725200@www.pnwumc.org
SUMMARY:Lay Servant Ministries Basic Course
DESCRIPTION:The “Introduction to Lay Servant Ministry: The BASIC Course” is the foundational course for Lay Servant Ministries. This is the gateway course for those who are called to be Certified Lay Servants\, Lay Speakers\, and Lay Ministers. And can also be part of a person’s discipleship plan to acquaint you with their gifts\, calling\, and responsibilities as followers of Christ. \nThis course will be offered over five two-hour sessions on Sept 7\, 12\, 14\, 19\, and 21\, from 7-9 p.m. PT. \nTo register\, email Emilie Kroen at ekroen@yahoo.com by Aug 31\, providing your name\, address\, phone #\, and your local church setting. Courses fill quickly\, so register as soon as you can commit to the schedule and course participation expectations. Each participant must have a book\, and attend all five sessions with audio and video functions active throughout each session\, but there is no other cost. \nBOOK: Lay Servant Ministries by Sandy Zeigler Jackson and Brian Jackson\nParticipant’s Book • DR626 • 978-0-88177-626-3 • Participants’ books are available in paperback at Cokesbury for $9.29\, Upper Room for $12\, and Amazon for $11. ebooks are also available.
URL:https://www.pnwumc.org/event/lay-servant-ministries-basic-course/2023-09-14/
CATEGORIES:Certified Lay Minister,Greater NW Area,Laity,Online Training,Training
ATTACH;FMTTYPE=image/png:https://www.pnwumc.org/wp-content/uploads/2023/08/LayServantMinistries16-9.png
ORGANIZER;CN="Emilie Kroen":MAILTO:ekroen@yahoo.com
LOCATION:https://www.pnwumc.org/event/lay-servant-ministries-basic-course/2023-09-14/
END:VEVENT
BEGIN:VEVENT
DTSTART;TZID=America/Los_Angeles:20230919T190000
DTEND;TZID=America/Los_Angeles:20230919T210000
DTSTAMP:20260424T070434
CREATED:20230816T234036Z
LAST-MODIFIED:20230910T213035Z
UID:10000645-1695150000-1695157200@www.pnwumc.org
SUMMARY:Lay Servant Ministries Basic Course
DESCRIPTION:The “Introduction to Lay Servant Ministry: The BASIC Course” is the foundational course for Lay Servant Ministries. This is the gateway course for those who are called to be Certified Lay Servants\, Lay Speakers\, and Lay Ministers. And can also be part of a person’s discipleship plan to acquaint you with their gifts\, calling\, and responsibilities as followers of Christ. \nThis course will be offered over five two-hour sessions on Sept 7\, 12\, 14\, 19\, and 21\, from 7-9 p.m. PT. \nTo register\, email Emilie Kroen at ekroen@yahoo.com by Aug 31\, providing your name\, address\, phone #\, and your local church setting. Courses fill quickly\, so register as soon as you can commit to the schedule and course participation expectations. Each participant must have a book\, and attend all five sessions with audio and video functions active throughout each session\, but there is no other cost. \nBOOK: Lay Servant Ministries by Sandy Zeigler Jackson and Brian Jackson\nParticipant’s Book • DR626 • 978-0-88177-626-3 • Participants’ books are available in paperback at Cokesbury for $9.29\, Upper Room for $12\, and Amazon for $11. ebooks are also available.
URL:https://www.pnwumc.org/event/lay-servant-ministries-basic-course/2023-09-19/
CATEGORIES:Certified Lay Minister,Greater NW Area,Laity,Online Training,Training
ATTACH;FMTTYPE=image/png:https://www.pnwumc.org/wp-content/uploads/2023/08/LayServantMinistries16-9.png
ORGANIZER;CN="Emilie Kroen":MAILTO:ekroen@yahoo.com
LOCATION:https://www.pnwumc.org/event/lay-servant-ministries-basic-course/2023-09-19/
END:VEVENT
BEGIN:VEVENT
DTSTART;TZID=America/Los_Angeles:20230921T190000
DTEND;TZID=America/Los_Angeles:20230921T210000
DTSTAMP:20260424T070434
CREATED:20230816T234036Z
LAST-MODIFIED:20230910T213035Z
UID:10000646-1695322800-1695330000@www.pnwumc.org
SUMMARY:Lay Servant Ministries Basic Course
DESCRIPTION:The “Introduction to Lay Servant Ministry: The BASIC Course” is the foundational course for Lay Servant Ministries. This is the gateway course for those who are called to be Certified Lay Servants\, Lay Speakers\, and Lay Ministers. And can also be part of a person’s discipleship plan to acquaint you with their gifts\, calling\, and responsibilities as followers of Christ. \nThis course will be offered over five two-hour sessions on Sept 7\, 12\, 14\, 19\, and 21\, from 7-9 p.m. PT. \nTo register\, email Emilie Kroen at ekroen@yahoo.com by Aug 31\, providing your name\, address\, phone #\, and your local church setting. Courses fill quickly\, so register as soon as you can commit to the schedule and course participation expectations. Each participant must have a book\, and attend all five sessions with audio and video functions active throughout each session\, but there is no other cost. \nBOOK: Lay Servant Ministries by Sandy Zeigler Jackson and Brian Jackson\nParticipant’s Book • DR626 • 978-0-88177-626-3 • Participants’ books are available in paperback at Cokesbury for $9.29\, Upper Room for $12\, and Amazon for $11. ebooks are also available.
URL:https://www.pnwumc.org/event/lay-servant-ministries-basic-course/2023-09-21/
CATEGORIES:Certified Lay Minister,Greater NW Area,Laity,Online Training,Training
ATTACH;FMTTYPE=image/png:https://www.pnwumc.org/wp-content/uploads/2023/08/LayServantMinistries16-9.png
ORGANIZER;CN="Emilie Kroen":MAILTO:ekroen@yahoo.com
LOCATION:https://www.pnwumc.org/event/lay-servant-ministries-basic-course/2023-09-21/
END:VEVENT
END:VCALENDAR