BEGIN:VCALENDAR
VERSION:2.0
PRODID:-//The Pacific Northwest Conference of The United Methodist Church - ECPv6.15.20//NONSGML v1.0//EN
CALSCALE:GREGORIAN
METHOD:PUBLISH
X-ORIGINAL-URL:https://www.pnwumc.org
X-WR-CALDESC:Events for The Pacific Northwest Conference of The United Methodist Church
REFRESH-INTERVAL;VALUE=DURATION:PT1H
X-Robots-Tag:noindex
X-PUBLISHED-TTL:PT1H
BEGIN:VTIMEZONE
TZID:America/Los_Angeles
BEGIN:DAYLIGHT
TZOFFSETFROM:-0800
TZOFFSETTO:-0700
TZNAME:PDT
DTSTART:20240310T100000
END:DAYLIGHT
BEGIN:STANDARD
TZOFFSETFROM:-0700
TZOFFSETTO:-0800
TZNAME:PST
DTSTART:20241103T090000
END:STANDARD
BEGIN:DAYLIGHT
TZOFFSETFROM:-0800
TZOFFSETTO:-0700
TZNAME:PDT
DTSTART:20250309T100000
END:DAYLIGHT
BEGIN:STANDARD
TZOFFSETFROM:-0700
TZOFFSETTO:-0800
TZNAME:PST
DTSTART:20251102T090000
END:STANDARD
BEGIN:DAYLIGHT
TZOFFSETFROM:-0800
TZOFFSETTO:-0700
TZNAME:PDT
DTSTART:20260308T100000
END:DAYLIGHT
BEGIN:STANDARD
TZOFFSETFROM:-0700
TZOFFSETTO:-0800
TZNAME:PST
DTSTART:20261101T090000
END:STANDARD
END:VTIMEZONE
BEGIN:VEVENT
DTSTART;TZID=America/Los_Angeles:20250519T183000
DTEND;TZID=America/Los_Angeles:20250519T183000
DTSTAMP:20260421T185613
CREATED:20250329T001026Z
LAST-MODIFIED:20250329T001026Z
UID:10001161-1747679400-1747679400@www.pnwumc.org
SUMMARY:Understanding the Constitutional Amendments
DESCRIPTION:In May\, the Western Jurisdiction is providing a webinar to prepare members to learn about the four proposed amendments to our United Methodist Constitution. \nThis year’s Annual Conference gatherings require votes that impact our worldwide connection\, and we want you to be informed and involved. Your participation matters! \nAt the General Conference 2020/2024 meeting\, four pieces of legislation passed that would change the denomination’s constitution. In order for these changes to go into effect\, the legislation must be ratified by the collective votes of annual and central conferences of the UMC. Throughout 2025\, all central and annual conferences will be asked to vote on these important topics at their Annual Conference meetings. \nThe four pieces for ratification are: \n\nBallot #1: Regionalization: Changing the structure of the UMC to create equity across the worldwide church.\nBallot #2: Expand inclusiveness in church membership\, especially as it relates to gender and ability.\nBallot #3: Stand against racism and colonialism.\nBallot #4: Clarify local pastor status regarding who can vote for clergy delegates.\n\nUnderstanding these amendments is crucial as we move forward together\, as each will impact how we operate as a global church. The Western Jurisdiction has prepared information on each to help you cast your vote. Lay and clergy members of the annual conference are invited to learn more and prepare for this critical vote by joining us on May 19 at 6:30 pm PDT for an information webinar where you can learn more from your ratification conference teams\, and ask any questions you may have. \nREGISTER NOW AT THIS LINK
URL:https://www.pnwumc.org/event/understanding-the-constitutional-amendments/
CATEGORIES:Online Training,Western Jurisdiction
ATTACH;FMTTYPE=image/jpeg:https://www.pnwumc.org/wp-content/uploads/2025/03/WJ-Ratification-Webinar-Feature-1.jpg
LOCATION:https://www.pnwumc.org/event/understanding-the-constitutional-amendments/
END:VEVENT
END:VCALENDAR