BEGIN:VCALENDAR
VERSION:2.0
PRODID:-//The Pacific Northwest Conference of The United Methodist Church - ECPv6.15.20//NONSGML v1.0//EN
CALSCALE:GREGORIAN
METHOD:PUBLISH
X-WR-CALNAME:The Pacific Northwest Conference of The United Methodist Church
X-ORIGINAL-URL:https://www.pnwumc.org
X-WR-CALDESC:Events for The Pacific Northwest Conference of The United Methodist Church
REFRESH-INTERVAL;VALUE=DURATION:PT1H
X-Robots-Tag:noindex
X-PUBLISHED-TTL:PT1H
BEGIN:VTIMEZONE
TZID:America/Los_Angeles
BEGIN:DAYLIGHT
TZOFFSETFROM:-0800
TZOFFSETTO:-0700
TZNAME:PDT
DTSTART:20250309T100000
END:DAYLIGHT
BEGIN:STANDARD
TZOFFSETFROM:-0700
TZOFFSETTO:-0800
TZNAME:PST
DTSTART:20251102T090000
END:STANDARD
BEGIN:DAYLIGHT
TZOFFSETFROM:-0800
TZOFFSETTO:-0700
TZNAME:PDT
DTSTART:20260308T100000
END:DAYLIGHT
BEGIN:STANDARD
TZOFFSETFROM:-0700
TZOFFSETTO:-0800
TZNAME:PST
DTSTART:20261101T090000
END:STANDARD
BEGIN:DAYLIGHT
TZOFFSETFROM:-0800
TZOFFSETTO:-0700
TZNAME:PDT
DTSTART:20270314T100000
END:DAYLIGHT
BEGIN:STANDARD
TZOFFSETFROM:-0700
TZOFFSETTO:-0800
TZNAME:PST
DTSTART:20271107T090000
END:STANDARD
END:VTIMEZONE
BEGIN:VEVENT
DTSTART;TZID=America/Los_Angeles:20260223T183000
DTEND;TZID=America/Los_Angeles:20260223T203000
DTSTAMP:20260424T070817
CREATED:20251126T030420Z
LAST-MODIFIED:20251126T033805Z
UID:10001637-1771871400-1771878600@www.pnwumc.org
SUMMARY:Lay Servant Ministries Foundations (Basic) Course
DESCRIPTION:This is a foundational course designed to equip church leaders in the United Methodist Church. It explores: personal spiritual gifts; servant leadership; each leader’s role in developing future leaders; the importance of consistent spiritual practices; “God’s call to a life of servanthood” as a disciple of Jesus Christ; and the core ministries of Leading\, Caring\, and Communicating. \nCOURSE DATES: February 9\, 16\, 23\, March 2 & 9.  \nTIME: Mondays  6:30 – 8:30 pm  PST     \nZoom Course: Save your registration; the Zoom link is at the top of your confirmation. \n*COST:  $13.00 for the cost of the book “Lay Servant Ministries: The Basic Course\,” Participant’s Book by Sandy Zeigler Jackson and Brian Jackson  • DR626 • 978-0-88177-626-3 •  Available at Cokesbury and Upper Room. Ebooks are also available.  \nParticipant Requirements: Have the book named above\, read the 1st session before the first meeting\, and fully engage in all five sessions with audio and video active. Additional assignments will be provided in your welcome letter. \nINSTRUCTOR: Sheila Miranda\, PNW Lay Servant Ministries. Any questions about this class or Lay Servant Ministries in the PNW Annual Conference should be directed to Sheila Miranda\, smiranda@pnwumc.org \nRegister here by January 26\, 2026.
URL:https://www.pnwumc.org/event/lay-servant-ministries-foundations-basic-course/2026-02-23/
CATEGORIES:Certified Lay Minister,Education,Greater NW Area,Laity,Local Church,Online Training,Training
ATTACH;FMTTYPE=image/jpeg:https://www.pnwumc.org/wp-content/uploads/2025/11/Lay-Servant-Ministries-Basic-Course-e1764128230745.jpg
ORGANIZER;CN="Sheila Miranda":MAILTO:SMiranda@pnwumc.org
LOCATION:https://www.pnwumc.org/event/lay-servant-ministries-foundations-basic-course/2026-02-23/
END:VEVENT
BEGIN:VEVENT
DTSTART;TZID=America/Los_Angeles:20260302T183000
DTEND;TZID=America/Los_Angeles:20260302T203000
DTSTAMP:20260424T070817
CREATED:20251126T030420Z
LAST-MODIFIED:20251126T033805Z
UID:10001638-1772476200-1772483400@www.pnwumc.org
SUMMARY:Lay Servant Ministries Foundations (Basic) Course
DESCRIPTION:This is a foundational course designed to equip church leaders in the United Methodist Church. It explores: personal spiritual gifts; servant leadership; each leader’s role in developing future leaders; the importance of consistent spiritual practices; “God’s call to a life of servanthood” as a disciple of Jesus Christ; and the core ministries of Leading\, Caring\, and Communicating. \nCOURSE DATES: February 9\, 16\, 23\, March 2 & 9.  \nTIME: Mondays  6:30 – 8:30 pm  PST     \nZoom Course: Save your registration; the Zoom link is at the top of your confirmation. \n*COST:  $13.00 for the cost of the book “Lay Servant Ministries: The Basic Course\,” Participant’s Book by Sandy Zeigler Jackson and Brian Jackson  • DR626 • 978-0-88177-626-3 •  Available at Cokesbury and Upper Room. Ebooks are also available.  \nParticipant Requirements: Have the book named above\, read the 1st session before the first meeting\, and fully engage in all five sessions with audio and video active. Additional assignments will be provided in your welcome letter. \nINSTRUCTOR: Sheila Miranda\, PNW Lay Servant Ministries. Any questions about this class or Lay Servant Ministries in the PNW Annual Conference should be directed to Sheila Miranda\, smiranda@pnwumc.org \nRegister here by January 26\, 2026.
URL:https://www.pnwumc.org/event/lay-servant-ministries-foundations-basic-course/2026-03-02/
CATEGORIES:Certified Lay Minister,Education,Greater NW Area,Laity,Local Church,Online Training,Training
ATTACH;FMTTYPE=image/jpeg:https://www.pnwumc.org/wp-content/uploads/2025/11/Lay-Servant-Ministries-Basic-Course-e1764128230745.jpg
ORGANIZER;CN="Sheila Miranda":MAILTO:SMiranda@pnwumc.org
LOCATION:https://www.pnwumc.org/event/lay-servant-ministries-foundations-basic-course/2026-03-02/
END:VEVENT
BEGIN:VEVENT
DTSTART;TZID=America/Los_Angeles:20260309T183000
DTEND;TZID=America/Los_Angeles:20260309T203000
DTSTAMP:20260424T070817
CREATED:20251126T030420Z
LAST-MODIFIED:20251126T033805Z
UID:10001639-1773081000-1773088200@www.pnwumc.org
SUMMARY:Lay Servant Ministries Foundations (Basic) Course
DESCRIPTION:This is a foundational course designed to equip church leaders in the United Methodist Church. It explores: personal spiritual gifts; servant leadership; each leader’s role in developing future leaders; the importance of consistent spiritual practices; “God’s call to a life of servanthood” as a disciple of Jesus Christ; and the core ministries of Leading\, Caring\, and Communicating. \nCOURSE DATES: February 9\, 16\, 23\, March 2 & 9.  \nTIME: Mondays  6:30 – 8:30 pm  PST     \nZoom Course: Save your registration; the Zoom link is at the top of your confirmation. \n*COST:  $13.00 for the cost of the book “Lay Servant Ministries: The Basic Course\,” Participant’s Book by Sandy Zeigler Jackson and Brian Jackson  • DR626 • 978-0-88177-626-3 •  Available at Cokesbury and Upper Room. Ebooks are also available.  \nParticipant Requirements: Have the book named above\, read the 1st session before the first meeting\, and fully engage in all five sessions with audio and video active. Additional assignments will be provided in your welcome letter. \nINSTRUCTOR: Sheila Miranda\, PNW Lay Servant Ministries. Any questions about this class or Lay Servant Ministries in the PNW Annual Conference should be directed to Sheila Miranda\, smiranda@pnwumc.org \nRegister here by January 26\, 2026.
URL:https://www.pnwumc.org/event/lay-servant-ministries-foundations-basic-course/2026-03-09/
CATEGORIES:Certified Lay Minister,Education,Greater NW Area,Laity,Local Church,Online Training,Training
ATTACH;FMTTYPE=image/jpeg:https://www.pnwumc.org/wp-content/uploads/2025/11/Lay-Servant-Ministries-Basic-Course-e1764128230745.jpg
ORGANIZER;CN="Sheila Miranda":MAILTO:SMiranda@pnwumc.org
LOCATION:https://www.pnwumc.org/event/lay-servant-ministries-foundations-basic-course/2026-03-09/
END:VEVENT
BEGIN:VEVENT
DTSTART;TZID=America/Los_Angeles:20260407T183000
DTEND;TZID=America/Los_Angeles:20260407T203000
DTSTAMP:20260424T070817
CREATED:20260318T175717Z
LAST-MODIFIED:20260325T001019Z
UID:10002094-1775586600-1775593800@www.pnwumc.org
SUMMARY:LSM Advanced Course: Life Together in the UM Connection (UM Polity)
DESCRIPTION:This course\, instructed by Rev. David Velera\, PNW Director of Connectional Ministries\,  gives participants an overview of the structure and organization of the United Methodist Church\, including its mission structure. \nClasses held on Tuesday and Thursday evenings\, April 7 – 21\, from 6:30 pm to 8:30 pm (PST).  \nRequired Book: Polity\, Practice\, and the Mission of the United Methodist Church: 2026 Edition\, by Thomas Edward Frank. A copy of The Book of Discipline is recommended for the course. \nParticipants: Must have the required book and attend all 5 sessions\, with audio and video capabilities active at all times.  Completing the foundations (Basic) course is recommended first. \nAny questions about this class or Lay Servant Ministries in the PNW Annual Conference should be directed to Sheila Miranda\, smiranda@pnwumc.org \nRegister at: https://gnw-reg.brtapp.com/LayServantMinistriesAdvancedPolity. Registration closes March 31\, 2026.
URL:https://www.pnwumc.org/event/lsm-advanced-course-life-together-in-the-um-connection-um-polity/2026-04-07/
LOCATION:Zoom
CATEGORIES:Education,Laity,Online Training,Training
ATTACH;FMTTYPE=image/png:https://www.pnwumc.org/wp-content/uploads/2026/03/Screenshot-2026-03-18-105542.png
END:VEVENT
BEGIN:VEVENT
DTSTART;TZID=America/Los_Angeles:20260409T183000
DTEND;TZID=America/Los_Angeles:20260409T203000
DTSTAMP:20260424T070817
CREATED:20260318T175717Z
LAST-MODIFIED:20260325T001019Z
UID:10002095-1775759400-1775766600@www.pnwumc.org
SUMMARY:LSM Advanced Course: Life Together in the UM Connection (UM Polity)
DESCRIPTION:This course\, instructed by Rev. David Velera\, PNW Director of Connectional Ministries\,  gives participants an overview of the structure and organization of the United Methodist Church\, including its mission structure. \nClasses held on Tuesday and Thursday evenings\, April 7 – 21\, from 6:30 pm to 8:30 pm (PST).  \nRequired Book: Polity\, Practice\, and the Mission of the United Methodist Church: 2026 Edition\, by Thomas Edward Frank. A copy of The Book of Discipline is recommended for the course. \nParticipants: Must have the required book and attend all 5 sessions\, with audio and video capabilities active at all times.  Completing the foundations (Basic) course is recommended first. \nAny questions about this class or Lay Servant Ministries in the PNW Annual Conference should be directed to Sheila Miranda\, smiranda@pnwumc.org \nRegister at: https://gnw-reg.brtapp.com/LayServantMinistriesAdvancedPolity. Registration closes March 31\, 2026.
URL:https://www.pnwumc.org/event/lsm-advanced-course-life-together-in-the-um-connection-um-polity/2026-04-09/
LOCATION:Zoom
CATEGORIES:Education,Laity,Online Training,Training
ATTACH;FMTTYPE=image/png:https://www.pnwumc.org/wp-content/uploads/2026/03/Screenshot-2026-03-18-105542.png
END:VEVENT
BEGIN:VEVENT
DTSTART;TZID=America/Los_Angeles:20260414T183000
DTEND;TZID=America/Los_Angeles:20260414T203000
DTSTAMP:20260424T070817
CREATED:20260318T175717Z
LAST-MODIFIED:20260325T001019Z
UID:10002096-1776191400-1776198600@www.pnwumc.org
SUMMARY:LSM Advanced Course: Life Together in the UM Connection (UM Polity)
DESCRIPTION:This course\, instructed by Rev. David Velera\, PNW Director of Connectional Ministries\,  gives participants an overview of the structure and organization of the United Methodist Church\, including its mission structure. \nClasses held on Tuesday and Thursday evenings\, April 7 – 21\, from 6:30 pm to 8:30 pm (PST).  \nRequired Book: Polity\, Practice\, and the Mission of the United Methodist Church: 2026 Edition\, by Thomas Edward Frank. A copy of The Book of Discipline is recommended for the course. \nParticipants: Must have the required book and attend all 5 sessions\, with audio and video capabilities active at all times.  Completing the foundations (Basic) course is recommended first. \nAny questions about this class or Lay Servant Ministries in the PNW Annual Conference should be directed to Sheila Miranda\, smiranda@pnwumc.org \nRegister at: https://gnw-reg.brtapp.com/LayServantMinistriesAdvancedPolity. Registration closes March 31\, 2026.
URL:https://www.pnwumc.org/event/lsm-advanced-course-life-together-in-the-um-connection-um-polity/2026-04-14/
LOCATION:Zoom
CATEGORIES:Education,Laity,Online Training,Training
ATTACH;FMTTYPE=image/png:https://www.pnwumc.org/wp-content/uploads/2026/03/Screenshot-2026-03-18-105542.png
END:VEVENT
BEGIN:VEVENT
DTSTART;TZID=America/Los_Angeles:20260416T183000
DTEND;TZID=America/Los_Angeles:20260416T203000
DTSTAMP:20260424T070817
CREATED:20260318T175717Z
LAST-MODIFIED:20260325T001019Z
UID:10002097-1776364200-1776371400@www.pnwumc.org
SUMMARY:LSM Advanced Course: Life Together in the UM Connection (UM Polity)
DESCRIPTION:This course\, instructed by Rev. David Velera\, PNW Director of Connectional Ministries\,  gives participants an overview of the structure and organization of the United Methodist Church\, including its mission structure. \nClasses held on Tuesday and Thursday evenings\, April 7 – 21\, from 6:30 pm to 8:30 pm (PST).  \nRequired Book: Polity\, Practice\, and the Mission of the United Methodist Church: 2026 Edition\, by Thomas Edward Frank. A copy of The Book of Discipline is recommended for the course. \nParticipants: Must have the required book and attend all 5 sessions\, with audio and video capabilities active at all times.  Completing the foundations (Basic) course is recommended first. \nAny questions about this class or Lay Servant Ministries in the PNW Annual Conference should be directed to Sheila Miranda\, smiranda@pnwumc.org \nRegister at: https://gnw-reg.brtapp.com/LayServantMinistriesAdvancedPolity. Registration closes March 31\, 2026.
URL:https://www.pnwumc.org/event/lsm-advanced-course-life-together-in-the-um-connection-um-polity/2026-04-16/
LOCATION:Zoom
CATEGORIES:Education,Laity,Online Training,Training
ATTACH;FMTTYPE=image/png:https://www.pnwumc.org/wp-content/uploads/2026/03/Screenshot-2026-03-18-105542.png
END:VEVENT
BEGIN:VEVENT
DTSTART;TZID=America/Los_Angeles:20260421T183000
DTEND;TZID=America/Los_Angeles:20260421T203000
DTSTAMP:20260424T070817
CREATED:20260318T175717Z
LAST-MODIFIED:20260325T001019Z
UID:10002098-1776796200-1776803400@www.pnwumc.org
SUMMARY:LSM Advanced Course: Life Together in the UM Connection (UM Polity)
DESCRIPTION:This course\, instructed by Rev. David Velera\, PNW Director of Connectional Ministries\,  gives participants an overview of the structure and organization of the United Methodist Church\, including its mission structure. \nClasses held on Tuesday and Thursday evenings\, April 7 – 21\, from 6:30 pm to 8:30 pm (PST).  \nRequired Book: Polity\, Practice\, and the Mission of the United Methodist Church: 2026 Edition\, by Thomas Edward Frank. A copy of The Book of Discipline is recommended for the course. \nParticipants: Must have the required book and attend all 5 sessions\, with audio and video capabilities active at all times.  Completing the foundations (Basic) course is recommended first. \nAny questions about this class or Lay Servant Ministries in the PNW Annual Conference should be directed to Sheila Miranda\, smiranda@pnwumc.org \nRegister at: https://gnw-reg.brtapp.com/LayServantMinistriesAdvancedPolity. Registration closes March 31\, 2026.
URL:https://www.pnwumc.org/event/lsm-advanced-course-life-together-in-the-um-connection-um-polity/2026-04-21/
LOCATION:Zoom
CATEGORIES:Education,Laity,Online Training,Training
ATTACH;FMTTYPE=image/png:https://www.pnwumc.org/wp-content/uploads/2026/03/Screenshot-2026-03-18-105542.png
END:VEVENT
END:VCALENDAR