BEGIN:VCALENDAR
VERSION:2.0
PRODID:-//The Pacific Northwest Conference of The United Methodist Church - ECPv6.15.20//NONSGML v1.0//EN
CALSCALE:GREGORIAN
METHOD:PUBLISH
X-WR-CALNAME:The Pacific Northwest Conference of The United Methodist Church
X-ORIGINAL-URL:https://www.pnwumc.org
X-WR-CALDESC:Events for The Pacific Northwest Conference of The United Methodist Church
REFRESH-INTERVAL;VALUE=DURATION:PT1H
X-Robots-Tag:noindex
X-PUBLISHED-TTL:PT1H
BEGIN:VTIMEZONE
TZID:America/Los_Angeles
BEGIN:DAYLIGHT
TZOFFSETFROM:-0800
TZOFFSETTO:-0700
TZNAME:PDT
DTSTART:20240310T100000
END:DAYLIGHT
BEGIN:STANDARD
TZOFFSETFROM:-0700
TZOFFSETTO:-0800
TZNAME:PST
DTSTART:20241103T090000
END:STANDARD
BEGIN:DAYLIGHT
TZOFFSETFROM:-0800
TZOFFSETTO:-0700
TZNAME:PDT
DTSTART:20250309T100000
END:DAYLIGHT
BEGIN:STANDARD
TZOFFSETFROM:-0700
TZOFFSETTO:-0800
TZNAME:PST
DTSTART:20251102T090000
END:STANDARD
BEGIN:DAYLIGHT
TZOFFSETFROM:-0800
TZOFFSETTO:-0700
TZNAME:PDT
DTSTART:20260308T100000
END:DAYLIGHT
BEGIN:STANDARD
TZOFFSETFROM:-0700
TZOFFSETTO:-0800
TZNAME:PST
DTSTART:20261101T090000
END:STANDARD
END:VTIMEZONE
BEGIN:VEVENT
DTSTART;TZID=America/Los_Angeles:20250407T120000
DTEND;TZID=America/Los_Angeles:20250407T130000
DTSTAMP:20260422T212544
CREATED:20250227T043616Z
LAST-MODIFIED:20250227T043616Z
UID:10001157-1744027200-1744030800@www.pnwumc.org
SUMMARY:Wisdom from the Past\, Hope for the Future - "Lunch & Learn" on Methodist Heritage
DESCRIPTION:Join in and learn more about our Methodist Legacy with David Worthington\, Global Ambassador for Methodist Heritage Sites for The United Methodist Church. This one-hour event at Noon on Monday\, April 7 will focus on “Wisdom from the Past\, Hope for the Future.” Register below and join in the Zoom gathering hosted by Pastor Craig Brown from First Free Methodist Church in Seattle. \nClick here to register for this Zoom Webinar today.
URL:https://www.pnwumc.org/event/wisdom-from-the-past-hope-for-the-future-lunch-learn-on-methodist-heritage/
CATEGORIES:Clergy,Education,Laity
ATTACH;FMTTYPE=image/jpeg:https://www.pnwumc.org/wp-content/uploads/2025/02/image.jpg
LOCATION:https://www.pnwumc.org/event/wisdom-from-the-past-hope-for-the-future-lunch-learn-on-methodist-heritage/
END:VEVENT
END:VCALENDAR