BEGIN:VCALENDAR
VERSION:2.0
PRODID:-//The Pacific Northwest Conference of The United Methodist Church - ECPv6.15.20//NONSGML v1.0//EN
CALSCALE:GREGORIAN
METHOD:PUBLISH
X-ORIGINAL-URL:https://www.pnwumc.org
X-WR-CALDESC:Events for The Pacific Northwest Conference of The United Methodist Church
REFRESH-INTERVAL;VALUE=DURATION:PT1H
X-Robots-Tag:noindex
X-PUBLISHED-TTL:PT1H
BEGIN:VTIMEZONE
TZID:America/Los_Angeles
BEGIN:DAYLIGHT
TZOFFSETFROM:-0800
TZOFFSETTO:-0700
TZNAME:PDT
DTSTART:20220313T100000
END:DAYLIGHT
BEGIN:STANDARD
TZOFFSETFROM:-0700
TZOFFSETTO:-0800
TZNAME:PST
DTSTART:20221106T090000
END:STANDARD
BEGIN:DAYLIGHT
TZOFFSETFROM:-0800
TZOFFSETTO:-0700
TZNAME:PDT
DTSTART:20230312T100000
END:DAYLIGHT
BEGIN:STANDARD
TZOFFSETFROM:-0700
TZOFFSETTO:-0800
TZNAME:PST
DTSTART:20231105T090000
END:STANDARD
BEGIN:DAYLIGHT
TZOFFSETFROM:-0800
TZOFFSETTO:-0700
TZNAME:PDT
DTSTART:20240310T100000
END:DAYLIGHT
BEGIN:STANDARD
TZOFFSETFROM:-0700
TZOFFSETTO:-0800
TZNAME:PST
DTSTART:20241103T090000
END:STANDARD
END:VTIMEZONE
BEGIN:VEVENT
DTSTART;TZID=America/Los_Angeles:20231028T130000
DTEND;TZID=America/Los_Angeles:20231028T160000
DTSTAMP:20260423T152519
CREATED:20230929T171041Z
LAST-MODIFIED:20230929T171121Z
UID:10000672-1698498000-1698508800@www.pnwumc.org
SUMMARY:Fall Family Fun Fest
DESCRIPTION:Visit the Twinlow Camp website for more information.
URL:https://www.pnwumc.org/event/fall-family-fun-fest/2023-10-28/
LOCATION:Twinlow Camp\, 22787 N Twinlow Rd\, Rathdrum\, ID\, 83858\, United States
CATEGORIES:Camp and Retreat Ministries,Children's Ministry,Young People's Ministry,Youth
ATTACH;FMTTYPE=image/jpeg:https://www.pnwumc.org/wp-content/uploads/2023/09/fall-fam-fun-980x766-1.jpg
GEO:47.877512;-116.856824
X-APPLE-STRUCTURED-LOCATION;VALUE=URI;X-ADDRESS=Twinlow Camp 22787 N Twinlow Rd Rathdrum ID 83858 United States;X-APPLE-RADIUS=500;X-TITLE=22787 N Twinlow Rd:geo:-116.856824,47.877512
END:VEVENT
END:VCALENDAR