BEGIN:VCALENDAR
VERSION:2.0
PRODID:-//The Pacific Northwest Conference of The United Methodist Church - ECPv6.15.20//NONSGML v1.0//EN
CALSCALE:GREGORIAN
METHOD:PUBLISH
X-WR-CALNAME:The Pacific Northwest Conference of The United Methodist Church
X-ORIGINAL-URL:https://www.pnwumc.org
X-WR-CALDESC:Events for The Pacific Northwest Conference of The United Methodist Church
REFRESH-INTERVAL;VALUE=DURATION:PT1H
X-Robots-Tag:noindex
X-PUBLISHED-TTL:PT1H
BEGIN:VTIMEZONE
TZID:America/Los_Angeles
BEGIN:DAYLIGHT
TZOFFSETFROM:-0800
TZOFFSETTO:-0700
TZNAME:PDT
DTSTART:20160313T100000
END:DAYLIGHT
BEGIN:STANDARD
TZOFFSETFROM:-0700
TZOFFSETTO:-0800
TZNAME:PST
DTSTART:20161106T090000
END:STANDARD
BEGIN:DAYLIGHT
TZOFFSETFROM:-0800
TZOFFSETTO:-0700
TZNAME:PDT
DTSTART:20170312T100000
END:DAYLIGHT
BEGIN:STANDARD
TZOFFSETFROM:-0700
TZOFFSETTO:-0800
TZNAME:PST
DTSTART:20171105T090000
END:STANDARD
BEGIN:DAYLIGHT
TZOFFSETFROM:-0800
TZOFFSETTO:-0700
TZNAME:PDT
DTSTART:20180311T100000
END:DAYLIGHT
BEGIN:STANDARD
TZOFFSETFROM:-0700
TZOFFSETTO:-0800
TZNAME:PST
DTSTART:20181104T090000
END:STANDARD
BEGIN:DAYLIGHT
TZOFFSETFROM:-0800
TZOFFSETTO:-0700
TZNAME:PDT
DTSTART:20190310T100000
END:DAYLIGHT
BEGIN:STANDARD
TZOFFSETFROM:-0700
TZOFFSETTO:-0800
TZNAME:PST
DTSTART:20191103T090000
END:STANDARD
BEGIN:DAYLIGHT
TZOFFSETFROM:-0800
TZOFFSETTO:-0700
TZNAME:PDT
DTSTART:20200308T100000
END:DAYLIGHT
BEGIN:STANDARD
TZOFFSETFROM:-0700
TZOFFSETTO:-0800
TZNAME:PST
DTSTART:20201101T090000
END:STANDARD
BEGIN:DAYLIGHT
TZOFFSETFROM:-0800
TZOFFSETTO:-0700
TZNAME:PDT
DTSTART:20210314T100000
END:DAYLIGHT
BEGIN:STANDARD
TZOFFSETFROM:-0700
TZOFFSETTO:-0800
TZNAME:PST
DTSTART:20211107T090000
END:STANDARD
BEGIN:DAYLIGHT
TZOFFSETFROM:-0800
TZOFFSETTO:-0700
TZNAME:PDT
DTSTART:20220313T100000
END:DAYLIGHT
BEGIN:STANDARD
TZOFFSETFROM:-0700
TZOFFSETTO:-0800
TZNAME:PST
DTSTART:20221106T090000
END:STANDARD
BEGIN:DAYLIGHT
TZOFFSETFROM:-0800
TZOFFSETTO:-0700
TZNAME:PDT
DTSTART:20230312T100000
END:DAYLIGHT
BEGIN:STANDARD
TZOFFSETFROM:-0700
TZOFFSETTO:-0800
TZNAME:PST
DTSTART:20231105T090000
END:STANDARD
BEGIN:DAYLIGHT
TZOFFSETFROM:-0800
TZOFFSETTO:-0700
TZNAME:PDT
DTSTART:20240310T100000
END:DAYLIGHT
BEGIN:STANDARD
TZOFFSETFROM:-0700
TZOFFSETTO:-0800
TZNAME:PST
DTSTART:20241103T090000
END:STANDARD
BEGIN:DAYLIGHT
TZOFFSETFROM:-0800
TZOFFSETTO:-0700
TZNAME:PDT
DTSTART:20250309T100000
END:DAYLIGHT
BEGIN:STANDARD
TZOFFSETFROM:-0700
TZOFFSETTO:-0800
TZNAME:PST
DTSTART:20251102T090000
END:STANDARD
BEGIN:DAYLIGHT
TZOFFSETFROM:-0800
TZOFFSETTO:-0700
TZNAME:PDT
DTSTART:20260308T100000
END:DAYLIGHT
BEGIN:STANDARD
TZOFFSETFROM:-0700
TZOFFSETTO:-0800
TZNAME:PST
DTSTART:20261101T090000
END:STANDARD
END:VTIMEZONE
BEGIN:VEVENT
DTSTART;TZID=America/Los_Angeles:20250214T160000
DTEND;TZID=America/Los_Angeles:20250217T180000
DTSTAMP:20260421T201737
CREATED:20250104T074635Z
LAST-MODIFIED:20250104T074635Z
UID:10001111-1739548800-1739815200@www.pnwumc.org
SUMMARY:Young Adult Retreat
DESCRIPTION:Twinlow United Methodist Camp outside Rathdrum\, Idaho\, is hosting a retreat for young adults February 14-17\, 2025. For more information and to register\, visit their website.
URL:https://www.pnwumc.org/event/young-adult-retreat-2/
LOCATION:Twinlow Camp\, 22787 N Twinlow Rd\, Rathdrum\, ID\, 83858\, United States
CATEGORIES:Camp and Retreat Ministries,Young Adult,Young People's Ministry
ATTACH;FMTTYPE=image/jpeg:https://www.pnwumc.org/wp-content/uploads/2025/01/YAR25TL.jpg
GEO:47.877512;-116.856824
X-APPLE-STRUCTURED-LOCATION;VALUE=URI;X-ADDRESS=Twinlow Camp 22787 N Twinlow Rd Rathdrum ID 83858 United States;X-APPLE-RADIUS=500;X-TITLE=22787 N Twinlow Rd:geo:-116.856824,47.877512
END:VEVENT
BEGIN:VEVENT
DTSTART;VALUE=DATE:20240216
DTEND;VALUE=DATE:20240219
DTSTAMP:20260421T201737
CREATED:20240123T052939Z
LAST-MODIFIED:20240123T053022Z
UID:10000781-1708041600-1708300799@www.pnwumc.org
SUMMARY:Exploration 2024
DESCRIPTION:Exploration creates sacred space for young adults\, ages 18-26\, to be in meaningful fellowship\, passionate worship\, theological reflection\, and practical workshops as they discern whether God’s call on their life is to ministry in The United Methodist Church\, and what faithful steps they can take in response. \nClick here to learn more and to register for this event.
URL:https://www.pnwumc.org/event/exploration-2024/
LOCATION:DoubleTree by Hilton Hotel at the Entrance to Universal Orlando\, 5780 Major Blvd\, Orlando\, FL\, 32819\, United States
CATEGORIES:Board of Ordained Ministry,General Church,Young Adult
ATTACH;FMTTYPE=image/jpeg:https://www.pnwumc.org/wp-content/uploads/2024/01/bexplorecallinggraphic3.jpg
END:VEVENT
BEGIN:VEVENT
DTSTART;TZID=America/Los_Angeles:20201214T120000
DTEND;TZID=America/Los_Angeles:20201214T130000
DTSTAMP:20260421T201737
CREATED:20201009T205359Z
LAST-MODIFIED:20201013T162921Z
UID:10000464-1607947200-1607950800@www.pnwumc.org
SUMMARY:Safety Advocate Webinar December
DESCRIPTION:Conference staff will be offering an updated version of the Safety Advocate webinars for individuals who are interested in becoming a Safety Advocate for their church\, or in getting re-certified for this important role. Safety Advocates are responsible for promoting and maintaining Safe Church policies and for providing an avenue for vulnerable persons to voice a concern or problem. \nTo keep our webinar time together to about an hour we do ask that several prerequisites be completed prior to attending the webinar. To serve as a Safety Advocate\, you must first pass a national background check\, complete the basic abuse “Awareness Training” and “Skillful Screenings” Trainings offered through your church’s Ministry Safe dashboard. (please share the church you’ve done this with or will be doing it with when you RSVP). \nParticipants will need to review the Conference Safe Sanctuaries Guidelines (Click here for the Guidelines) and also take this short quiz before participating in the webinar. (Click here for the Quiz) Only participants who have completed all of the prerequisites and have RSVP’d will be sent the webinar link. \nIf you are interested in participating in this webinar\, please RSVP prior to December 10th  to Teri Tobey (ttobey@pnwumc.org; (253) 732-7479).
URL:https://www.pnwumc.org/event/safety-advocate-webinar-december/
LOCATION:Zoom Webinar\, United States
CATEGORIES:Annual Conference,Children's Ministry,Online Training,Training,Young Adult,Young People's Ministry,Youth
ORGANIZER;CN="Teri Tobey":MAILTO:teri@pnwumc.org
GEO:37.09024;-95.712891
END:VEVENT
BEGIN:VEVENT
DTSTART;TZID=America/Los_Angeles:20201119T150000
DTEND;TZID=America/Los_Angeles:20201119T160000
DTSTAMP:20260421T201737
CREATED:20201009T205200Z
LAST-MODIFIED:20201009T205227Z
UID:10000463-1605798000-1605801600@www.pnwumc.org
SUMMARY:Safety Advocate Webinar November
DESCRIPTION:Conference staff will be offering an updated version of the Safety Advocate webinars for individuals who are interested in becoming a Safety Advocate for their church\, or in getting re-certified for this important role. Safety Advocates are responsible for promoting and maintaining Safe Church policies and for providing an avenue for vulnerable persons to voice a concern or problem. \nTo keep our webinar time together to about an hour we do ask that several prerequisites be completed prior to attending the webinar. To serve as a Safety Advocate\, you must first pass a national background check\, complete the basic abuse “Awareness Training” and “Skillful Screenings” Trainings offered through your church’s Ministry Safe dashboard. (please share the church you’ve done this with or will be doing it with when you RSVP). \nParticipants will need to review the Conference Safe Sanctuaries Guidelines (Click here for the Guidelines) and also take this short quiz before participating in the webinar. (Click here for the Quiz) Only participants who have completed all of the prerequisites and have RSVP’d will be sent the webinar link. \nIf you are interested in participating in this webinar\, please RSVP prior to November 16th  to Teri Tobey (ttobey@pnwumc.org; (253) 732-7479).
URL:https://www.pnwumc.org/event/safety-advocate-webinar-17/
LOCATION:Zoom Webinar\, United States
CATEGORIES:Annual Conference,Children's Ministry,Online Training,Training,Young Adult,Young People's Ministry,Youth
ORGANIZER;CN="Teri Tobey":MAILTO:teri@pnwumc.org
GEO:37.09024;-95.712891
END:VEVENT
BEGIN:VEVENT
DTSTART;TZID=America/Los_Angeles:20201030T120000
DTEND;TZID=America/Los_Angeles:20201030T130000
DTSTAMP:20260421T201737
CREATED:20201009T205010Z
LAST-MODIFIED:20201013T184842Z
UID:10000462-1604059200-1604062800@www.pnwumc.org
SUMMARY:Safety Advocate Webinar October
DESCRIPTION:Conference staff will be offering an updated version of the Safety Advocate webinars for individuals who are interested in becoming a Safety Advocate for their church\, or in getting re-certified for this important role. Safety Advocates are responsible for promoting and maintaining Safe Church policies and for providing an avenue for vulnerable persons to voice a concern or problem. \nTo keep our webinar time together to about an hour we do ask that several prerequisites be completed prior to attending the webinar. To serve as a Safety Advocate\, you must first pass a national background check\, complete the basic abuse “Awareness Training” and “Skillful Screenings” Trainings offered through your church’s Ministry Safe dashboard. (please share the church you’ve done this with or will be doing it with when you RSVP). \nParticipants will need to review the Conference Safe Sanctuaries Guidelines (Click here for the Guidelines) and also take this short quiz before participating in the webinar. (Click here for the Quiz) Only participants who have completed all of the prerequisites and have RSVP’d will be sent the webinar link. \nIf you are interested in participating in this webinar\, please RSVP prior to October 28 to Teri Tobey (ttobey@pnwumc.org; (253) 732-7479).
URL:https://www.pnwumc.org/event/safety-advocate-webinar-october-2/
LOCATION:Zoom Webinar\, United States
CATEGORIES:Annual Conference,Children's Ministry,Online Training,Training,Young Adult,Young People's Ministry,Youth
ORGANIZER;CN="Teri Tobey":MAILTO:teri@pnwumc.org
GEO:37.09024;-95.712891
END:VEVENT
BEGIN:VEVENT
DTSTART;VALUE=DATE:20191226
DTEND;VALUE=DATE:20191231
DTSTAMP:20260421T201737
CREATED:20191127T211213Z
LAST-MODIFIED:20191127T211213Z
UID:10000416-1577318400-1577750399@www.pnwumc.org
SUMMARY:Christmas Institute 2019
DESCRIPTION:Christmas Institute (CI) is an ethnically relevant ministry supported through The United Methodist Church\, designed to nurture our youth and young adults in their spiritual faith and call to ministry\, inspiring great leaders within the church and community. \nThe youth and young adult retreat\, a tradition brought from the Philippines where they have occurred since 1921\, takes place annually in December. The PNW first hosted CI in 1999 after several years of sending people down to California! \nVisit the Christmas Institute website for more details about this year’s retreat!
URL:https://www.pnwumc.org/event/christmas-institute-2019/
LOCATION:Lazy F Camp and Retreat Center\, 16170 Manastash Road\, Ellensburg\, WA\, 98926\, United States
CATEGORIES:Camp and Retreat Ministries,Ethnic Ministries,Young Adult,Young People's Ministry,Youth
ATTACH;FMTTYPE=image/jpeg:https://www.pnwumc.org/wp-content/uploads/2019/11/CI2019rooted.jpg
GEO:46.961686;-120.775124
X-APPLE-STRUCTURED-LOCATION;VALUE=URI;X-ADDRESS=Lazy F Camp and Retreat Center 16170 Manastash Road Ellensburg WA 98926 United States;X-APPLE-RADIUS=500;X-TITLE=16170 Manastash Road:geo:-120.775124,46.961686
END:VEVENT
BEGIN:VEVENT
DTSTART;VALUE=DATE:20190816
DTEND;VALUE=DATE:20190819
DTSTAMP:20260421T201737
CREATED:20190417T054451Z
LAST-MODIFIED:20190417T054626Z
UID:10000386-1565913600-1566172799@www.pnwumc.org
SUMMARY:United Methodist Young Adult Queer Pride Camp!
DESCRIPTION:Click image to view/download PDF.\nWhat: Young Adult Queer Pride Camp is a welcoming place for LGBTQIA young adult United Methodists. Here\, you will be affirmed for being exactly whom God created you to be. Here\, you will be able to enjoy God’s creation at the beautiful Camp Sky Meadows. Here\, you will find healing. Here\, you will be empowered to be the leaders our Church needs. Here\, you are invited to be your full\, authentic self. Here\, we will be the Church together. Come join us this summer for an unforgettable camp experience! \nCost: $150 (inclusive of program registration\, room\, and food) \nLocation: Camp Sky Meadows 3191 Radford Camp Road Angelus Oaks\, CA 92305 • campskymeadows.com \nTransportation: Bus provided from Ontario International Airport (free) \nDriving time: 7 hrs from Phoenix\, 5.5 hrs from Las Vegas\, 9.5 hrs from San Francisco\, 10.5 hrs from Salt Lake City\, 96 miles from Los Angeles and 141 miles from San Diego \nRegistration: This is a Young Adult event\, open to those 18-35. Web-based registration: LINK \nCheck Facebook Event: “Young Adult Queer Pride Camp” – LINK
URL:https://www.pnwumc.org/event/united-methodist-young-adult-queer-pride-camp/
LOCATION:Camp Sky Meadows\, 3191 Radford Camp Road\, Angelus Oaks\, CA\, 92305\, United States
CATEGORIES:Camp and Retreat Ministries,Western Jurisdiction,Young Adult
GEO:34.19304;-116.909366
X-APPLE-STRUCTURED-LOCATION;VALUE=URI;X-ADDRESS=Camp Sky Meadows 3191 Radford Camp Road Angelus Oaks CA 92305 United States;X-APPLE-RADIUS=500;X-TITLE=3191 Radford Camp Road:geo:-116.909366,34.19304
END:VEVENT
BEGIN:VEVENT
DTSTART;TZID=America/Los_Angeles:20190216T110000
DTEND;TZID=America/Los_Angeles:20190218T110000
DTSTAMP:20260421T201737
CREATED:20190108T192805Z
LAST-MODIFIED:20190108T195620Z
UID:10000345-1550314800-1550487600@www.pnwumc.org
SUMMARY:Crest to Coast District Youth Retreat
DESCRIPTION:Registration at the camp will begin at 11 AM on Saturday morning and we will wrap up Monday morning also at 11 AM. \nCrest to Coast District is supporting this retreat & brings the costs down to $75 per youth\, $40 per adult chaperone for the whole weekend. Scholarships available. If you have any questions\, please contact Hollie Swanson at c2c@pnwumc.org \nClick here to register
URL:https://www.pnwumc.org/event/cresttocoast-district-youth-retreat-4/
LOCATION:Ocean Park Camp & Retreat Center\, 28511 Vernon Ave.\, Ocean Park\, WA\, 98640\, United States
CATEGORIES:Camp and Retreat Ministries,Crest to Coast,Local Church,Young Adult,Young People's Ministry,Youth
ORGANIZER;CN="Hollie Swanson":MAILTO:HSwanson@pnwumc.org
GEO:46.5082656;-124.0491785
X-APPLE-STRUCTURED-LOCATION;VALUE=URI;X-ADDRESS=Ocean Park Camp & Retreat Center 28511 Vernon Ave. Ocean Park WA 98640 United States;X-APPLE-RADIUS=500;X-TITLE=28511 Vernon Ave.:geo:-124.0491785,46.5082656
END:VEVENT
BEGIN:VEVENT
DTSTART;VALUE=DATE:20190215
DTEND;VALUE=DATE:20190219
DTSTAMP:20260421T201737
CREATED:20180824T213347Z
LAST-MODIFIED:20190117T234426Z
UID:10000285-1550188800-1550534399@www.pnwumc.org
SUMMARY:Twinlow Young Adult Retreat
DESCRIPTION:(for young folks 18-35ish) \nCost: $100 per person *if registered by January 31\, 2019* $110 at the door or late registration \nFor the fifth year in a row Twinlow will be the destination for your winter getaway! If you are a young adult between the ages of 18-35(ish) come enjoy a long weekend of wintery fun. Activities may include: sking/snow boarding\, broomball\, snowshoeing\, card games\, crafts\, and more. Oh\, and the best part\, worshiping with friends. \nCheck in starts at 4:00 pm on Saturday. First meal is Dinner on Saturday at 6:00 pm and the last meal is Breakfast Monday Morning. \n**Skiers and Snowboarders can check in Friday night. We will head to the slopes Saturday morning. Please indicate your interest to ski/board. If we get a large enough group we can get a group discount.** Lift tickets are $79 for full day (college students get a 10% discount) \nClick here for more information.
URL:https://www.pnwumc.org/event/young-adult-retreat/
LOCATION:Twinlow Camp\, 22787 N Twinlow Rd\, Rathdrum\, ID\, 83858\, United States
CATEGORIES:Camp and Retreat Ministries,Young Adult,Young People's Ministry
GEO:47.877512;-116.856824
X-APPLE-STRUCTURED-LOCATION;VALUE=URI;X-ADDRESS=Twinlow Camp 22787 N Twinlow Rd Rathdrum ID 83858 United States;X-APPLE-RADIUS=500;X-TITLE=22787 N Twinlow Rd:geo:-116.856824,47.877512
END:VEVENT
BEGIN:VEVENT
DTSTART;TZID=America/Los_Angeles:20190119T140000
DTEND;TZID=America/Los_Angeles:20190121T110000
DTSTAMP:20260421T201737
CREATED:20181116T161912Z
LAST-MODIFIED:20190117T234528Z
UID:10000322-1547906400-1548068400@www.pnwumc.org
SUMMARY:CANCELLED: Indianola Young Adult Social Justice Retreat
DESCRIPTION:“What does the Lord require of you but to do justice\, to love kindness\, and to walk humbly with your God.”\n-Micah 6:8\n\nWhat is your part in changing the world?\nDo you feel overwhelmed by injustice you see in the news? Ever feel helpless and lost when looking for ways to make a difference in the world? \nWe all have our part to play\, and as followers of Christ\, we feel the burden of pain and hardship in the world around us. Our communities\, country\, and world should be places of peace\, justice\, and thriving for everyone. Sometimes the challenges can feel so big and our abilities so small. But you can be a part of addressing major social challenges and moving the Gospel forward in the lives of those around you. \nJoin us Saturday\, Jan 19\, 2pm – Monday\, Jan 21\, 11am\nWe’ll be joined by Lyda Pierce\, Director of Hispanic & Latino Ministries for the Pacific Northwest United Methodist Conference\, as we explore social justice through the lens of Christian faith. Break-out sessions will help you get involved in your own community and apply Lyda’s wisdom. \nCost: $80 \n\n\n\n\n\n\n\n\n“The United Methodist Church believes God’s love for the world is an active and engaged love\, a love seeking justice and liberty. We cannot just be observers. So we care enough about people’s lives to risk interpreting God’s love\, to take a stand\, to call each of us into a response\, no matter how controversial or complex. The church helps us think and act out a faith perspective\, not just responding to all the other ‘mind-makers-up’ that exist in our society.”\n-The Book of Resolutions of The United Methodist Church 2016\n\n 
URL:https://www.pnwumc.org/event/indianola-young-adult-social-justice-retreat/
LOCATION:Camp Indianola\, 10635 NE Shore Dr. PO Box 1150\, Indianola\, WA\, 98342\, United States
CATEGORIES:Annual Conference,Young Adult,Young People's Ministry
GEO:47.7445794;-122.5017643
X-APPLE-STRUCTURED-LOCATION;VALUE=URI;X-ADDRESS=Camp Indianola 10635 NE Shore Dr. PO Box 1150 Indianola WA 98342 United States;X-APPLE-RADIUS=500;X-TITLE=10635 NE Shore Dr. PO Box 1150:geo:-122.5017643,47.7445794
END:VEVENT
BEGIN:VEVENT
DTSTART;VALUE=DATE:20181226
DTEND;VALUE=DATE:20181231
DTSTAMP:20260421T201737
CREATED:20181024T220706Z
LAST-MODIFIED:20181024T223347Z
UID:10000316-1545782400-1546214399@www.pnwumc.org
SUMMARY:Christmas Institute 2018
DESCRIPTION:Christmas Institute (CI) is an ethnically relevant ministry supported through The United Methodist Church\, designed to nurture our youth and young adults in their spiritual faith and call to ministry\, inspiring great leaders within the church and community. \nThe youth and young adult retreat\, a tradition brought from the Philippines where they have occurred since 1921\, takes place annually in December. The PNW first hosted CI in 1999 after several years of sending people down to California! \nVisit the Christmas Institute website for more details about this year’s retreat! \nOnline Registration
URL:https://www.pnwumc.org/event/christmas-institute/
LOCATION:The Firs\, 4605 Cable Street\, Bellingham\, WA\, 98229\, United States
CATEGORIES:Ethnic Ministries,Young Adult,Young People's Ministry,Youth
ATTACH;FMTTYPE=image/jpeg:https://www.pnwumc.org/wp-content/uploads/2018/10/CI2018register.jpg
GEO:48.7466007;-122.4001569
X-APPLE-STRUCTURED-LOCATION;VALUE=URI;X-ADDRESS=The Firs 4605 Cable Street Bellingham WA 98229 United States;X-APPLE-RADIUS=500;X-TITLE=4605 Cable Street:geo:-122.4001569,48.7466007
END:VEVENT
BEGIN:VEVENT
DTSTART;VALUE=DATE:20180718
DTEND;VALUE=DATE:20180719
DTSTAMP:20260421T201737
CREATED:20170207T210751Z
LAST-MODIFIED:20180712T223914Z
UID:10000033-1531872000-1531904400@www.pnwumc.org
SUMMARY:Global Young People's Convocation (GYPC) 2018
DESCRIPTION:In July 2018\, young people from different social\, economic\, cultural\, political\, and even theological backgrounds will come together in Johannesburg\, South Africa to share their stories with one another at the Global Young People’s Convocation (GYPC). \nThe GYPC is the global event for United Methodist young people. Applications to be a part of the Western Jurisdiction Delegation have been extended to October 6th. Scholarships\, based on need\, will be available for voting members. \nEach Jurisdiction or Central Conference is entitled to send voting members to the GYPC: five Youth\, five Young Adults\, and two Adult Workers. Youth should be 12-18 years old (at the time of the GYPC)\, and the young adults should be 19-30 years old (at the time of the GYPC). \nINFORMATION ON GYPC 2018
URL:https://www.pnwumc.org/event/global-young-peoples-convocation-gypc-2018/
LOCATION:Indaba Hotel and Conference Centre\, William Nicol Dr & Pieter Wenning Road\, Johannesburg City\, \, South Africa
CATEGORIES:General Church,Young Adult,Young People's Ministry,Youth
GEO:-26.0027992;28.0130265
X-APPLE-STRUCTURED-LOCATION;VALUE=URI;X-ADDRESS=Indaba Hotel and Conference Centre William Nicol Dr & Pieter Wenning Road Johannesburg City  South Africa;X-APPLE-RADIUS=500;X-TITLE=William Nicol Dr & Pieter Wenning Road:geo:28.0130265,-26.0027992
END:VEVENT
BEGIN:VEVENT
DTSTART;VALUE=DATE:20180216
DTEND;VALUE=DATE:20180220
DTSTAMP:20260421T201737
CREATED:20170601T225016Z
LAST-MODIFIED:20180103T003157Z
UID:10000096-1518739200-1519084799@www.pnwumc.org
SUMMARY:Twinlow Young Adult Retreat
DESCRIPTION:For the fourth year in a row Twinlow will be the destination for your winter getaway! If you are a young adult between the ages of 18-35(ish) come enjoy a long weekend of wintery fun. Activities may include\, skiing/snow boarding\, broomball\, snowshoeing\, card games\, crafts\, and more. Oh\, and the best part\, worshiping with friends. \nCheck in starts at 4:00 pm on Saturday. First meal is Dinner on Saturday at 6:00 pm and the last meal is Breakfast Monday Morning. \nClick here for more details.
URL:https://www.pnwumc.org/event/twinlow-young-adult-retreat/
LOCATION:Twinlow Camp\, 22787 N. Twinlow Road\, Rathdrum\, ID\, 83858\, United States
CATEGORIES:Adult Retreats,Camp and Retreat Ministries,Young Adult,Young People's Ministry
ORGANIZER;CN="Kristen Moon":MAILTO:kristen@twinlowcamp.org
GEO:47.877512;-116.856824
X-APPLE-STRUCTURED-LOCATION;VALUE=URI;X-ADDRESS=Twinlow Camp 22787 N. Twinlow Road Rathdrum ID 83858 United States;X-APPLE-RADIUS=500;X-TITLE=22787 N. Twinlow Road:geo:-116.856824,47.877512
END:VEVENT
BEGIN:VEVENT
DTSTART;VALUE=DATE:20171103
DTEND;VALUE=DATE:20171106
DTSTAMP:20260421T201737
CREATED:20170824T214529Z
LAST-MODIFIED:20170824T222804Z
UID:10000139-1509667200-1509926399@www.pnwumc.org
SUMMARY:Exploration 2017
DESCRIPTION:EXPLORATION is a three-day event for young adults age 18-26 to listen\, discern\, and respond to God’s call to ordained ministry and to explore their gifts for service as a deacon or elder in The United Methodist Church. This year it takes place November 3-5 in Portland\, Oregon! \nIf you have sensed God might be calling you to ordained ministry\, wondered what ministry in The United Methodist Church is all about\, would like help sifting through issues involved in an ordained vocation\, or want to learn more about The United Methodist seminaries and theological schools\, this gathering is for you. \nExploration seeks to respond faithfully and effectively to The United Methodist Church’s focus on increasing the number of young adult clergy in our denomination by creating sacred space to challenge the most gifted and promising young people of our denomination to hear God’s call to the ordained ministry. \nExploration creates sacred space for young adults to be in meaningful fellowship\, passionate worship\, theological reflection\, and practical workshops as they discern whether God’s call on their life is to ordained ministry in The United Methodist Church and what faithful steps they can take in response. \nClick here to learn more and to register for this event!\n \n 
URL:https://www.pnwumc.org/event/exploration-2017/
LOCATION:Marriott Portland Downtown Waterfront\, 1401 SW Naito Pkwy\, Portland\, OR\, 97201\, United States
CATEGORIES:General Church,Young Adult,Young People's Ministry
ATTACH;FMTTYPE=image/jpeg:https://www.pnwumc.org/wp-content/uploads/2017/08/Explo17-banner.jpg
GEO:45.5126092;-122.6758167
X-APPLE-STRUCTURED-LOCATION;VALUE=URI;X-ADDRESS=Marriott Portland Downtown Waterfront 1401 SW Naito Pkwy Portland OR 97201 United States;X-APPLE-RADIUS=500;X-TITLE=1401 SW Naito Pkwy:geo:-122.6758167,45.5126092
END:VEVENT
BEGIN:VEVENT
DTSTART;TZID=America/Los_Angeles:20170520T100000
DTEND;TZID=America/Los_Angeles:20170520T130000
DTSTAMP:20260421T201737
CREATED:20160908T233328Z
LAST-MODIFIED:20160908T233328Z
UID:10000006-1495274400-1495285200@www.pnwumc.org
SUMMARY:Conference Council on Young Adult Ministries
DESCRIPTION:Conference Room #1
URL:https://www.pnwumc.org/event/conference-council-on-young-adult-ministries-7/
LOCATION:Alton Collins Retreat Center\, 32867 OR-211\, Eagle Creek\, OR\, 97022\, United States
CATEGORIES:Annual Conference,Meetings,Young Adult,Young People's Ministry
ORGANIZER;CN="Teri Tobey":MAILTO:teri@pnwumc.org
GEO:45.3727696;-122.3287986
X-APPLE-STRUCTURED-LOCATION;VALUE=URI;X-ADDRESS=Alton Collins Retreat Center 32867 OR-211 Eagle Creek OR 97022 United States;X-APPLE-RADIUS=500;X-TITLE=32867 OR-211:geo:-122.3287986,45.3727696
END:VEVENT
BEGIN:VEVENT
DTSTART;TZID=America/Los_Angeles:20170331T180000
DTEND;TZID=America/Los_Angeles:20170402T130000
DTSTAMP:20260421T201737
CREATED:20161027T230252Z
LAST-MODIFIED:20170128T014705Z
UID:10000043-1490983200-1491138000@www.pnwumc.org
SUMMARY:The Call Young Adult Retreat
DESCRIPTION:In what ways does God call you to serve in the world?\nSome are called to be teachers\, social workers\, or instruments of social justice and political change. Some are called to serve their churches as lay leaders or youth directors. Others are called to research diseases and find cures. \nWhat are your gifts and how can you use these in service to others?\nThis retreat is a weekend workshop in spiritual exploration for adults ages 18-35. In fellowship\, we learn new things about ourselves\, and in reflection\, we discover tools for hearing God in new ways. \nTo register\, go online https://pnwretreats.campbrainregistration.com/\nRev. Juli Reinholz and Paul Bland are organizers for this event. \n  \n 
URL:https://www.pnwumc.org/event/the-call-young-adult-retreat-2/
LOCATION:Lazy F Camp and Retreat Center\, 16170 Manastash Road\, Ellensburg\, WA\, 98926\, United States
CATEGORIES:Annual Conference,Camp and Retreat Ministries,Young Adult,Young People's Ministry
ATTACH;FMTTYPE=image/jpeg:https://www.pnwumc.org/wp-content/uploads/2016/10/Call-2017-image-revised.jpg
ORGANIZER;CN="Katie Rau":MAILTO:lazyfprogram54@gmail.com
GEO:46.961686;-120.775124
X-APPLE-STRUCTURED-LOCATION;VALUE=URI;X-ADDRESS=Lazy F Camp and Retreat Center 16170 Manastash Road Ellensburg WA 98926 United States;X-APPLE-RADIUS=500;X-TITLE=16170 Manastash Road:geo:-120.775124,46.961686
END:VEVENT
BEGIN:VEVENT
DTSTART;TZID=America/Los_Angeles:20170325T100000
DTEND;TZID=America/Los_Angeles:20170325T130000
DTSTAMP:20260421T201737
CREATED:20160908T235604Z
LAST-MODIFIED:20160908T235604Z
UID:10000008-1490436000-1490446800@www.pnwumc.org
SUMMARY:Conference Council on Young Adult Ministries
DESCRIPTION:Conference Room #1
URL:https://www.pnwumc.org/event/conference-council-on-young-adult-ministries-9/
LOCATION:Alton Collins Retreat Center\, 32867 OR-211\, Eagle Creek\, OR\, 97022\, United States
CATEGORIES:Annual Conference,Meetings,Young Adult,Young People's Ministry
ORGANIZER;CN="Teri Tobey":MAILTO:teri@pnwumc.org
GEO:45.3727696;-122.3287986
X-APPLE-STRUCTURED-LOCATION;VALUE=URI;X-ADDRESS=Alton Collins Retreat Center 32867 OR-211 Eagle Creek OR 97022 United States;X-APPLE-RADIUS=500;X-TITLE=32867 OR-211:geo:-122.3287986,45.3727696
END:VEVENT
END:VCALENDAR