BEGIN:VCALENDAR
VERSION:2.0
PRODID:-//The Pacific Northwest Conference of The United Methodist Church - ECPv6.15.20//NONSGML v1.0//EN
CALSCALE:GREGORIAN
METHOD:PUBLISH
X-WR-CALNAME:The Pacific Northwest Conference of The United Methodist Church
X-ORIGINAL-URL:https://www.pnwumc.org
X-WR-CALDESC:Events for The Pacific Northwest Conference of The United Methodist Church
REFRESH-INTERVAL;VALUE=DURATION:PT1H
X-Robots-Tag:noindex
X-PUBLISHED-TTL:PT1H
BEGIN:VTIMEZONE
TZID:America/Los_Angeles
BEGIN:DAYLIGHT
TZOFFSETFROM:-0800
TZOFFSETTO:-0700
TZNAME:PDT
DTSTART:20240310T100000
END:DAYLIGHT
BEGIN:STANDARD
TZOFFSETFROM:-0700
TZOFFSETTO:-0800
TZNAME:PST
DTSTART:20241103T090000
END:STANDARD
BEGIN:DAYLIGHT
TZOFFSETFROM:-0800
TZOFFSETTO:-0700
TZNAME:PDT
DTSTART:20250309T100000
END:DAYLIGHT
BEGIN:STANDARD
TZOFFSETFROM:-0700
TZOFFSETTO:-0800
TZNAME:PST
DTSTART:20251102T090000
END:STANDARD
BEGIN:DAYLIGHT
TZOFFSETFROM:-0800
TZOFFSETTO:-0700
TZNAME:PDT
DTSTART:20260308T100000
END:DAYLIGHT
BEGIN:STANDARD
TZOFFSETFROM:-0700
TZOFFSETTO:-0800
TZNAME:PST
DTSTART:20261101T090000
END:STANDARD
END:VTIMEZONE
BEGIN:VEVENT
DTSTART;VALUE=DATE:20250706
DTEND;VALUE=DATE:20250711
DTSTAMP:20260421T102236
CREATED:20250212T222414Z
LAST-MODIFIED:20250212T222414Z
UID:10001152-1751760000-1752191999@www.pnwumc.org
SUMMARY:S.L.A.M. Trip - Week One
DESCRIPTION:Looking for a summer service experience for your youth? The Greater Northwest Area has a collaborative trip for youth groups that partners with SLAM Trips (Students Learning About Mission) on the Yakama Reservation in Central Washington. This de-colonized mission trip is native-led and focuses on a balance of relationship growing\, learning\, and service with Yakama elders and community members. \nThe Greater Northwest Area has coordinators to assist groups with pre-trip work\, collaborating and growing as an area\, and assisting with extra funding throughout this process. Their goal is to equip students and leaders in the GNW through cultural learning\, telling the truth of the Methodist Church’s impact as missionaries in the Greater Northwest Area\, and growing in relationship with our native siblings. \nFor more information or signup to go with the Greater Northwest Area groups on July 6-10 or July 20-25\, go to the Greater Northwest Area’s Page or reach out to any of the GNW Coordinators: \n\n\n\nRev. Drew Hogan (OR-ID Representative – PastorDrewHogan@gmail.com )\nRev. Sheila Miranda (PNW Representative – SMiranda@pnwumc.org)\nRev. Murray Crookes (AK Representative – Munrahcito@gmail.com)
URL:https://www.pnwumc.org/event/s-l-a-m-trip-week-one/
LOCATION:WA
CATEGORIES:Ethnic Ministries,Networks,Young People's Ministry,Youth
ATTACH;FMTTYPE=image/jpeg:https://www.pnwumc.org/wp-content/uploads/2025/02/GNW-SLAM-2025-1-16x9-1.jpg
END:VEVENT
BEGIN:VEVENT
DTSTART;VALUE=DATE:20250720
DTEND;VALUE=DATE:20250726
DTSTAMP:20260421T102236
CREATED:20250212T222532Z
LAST-MODIFIED:20250212T222532Z
UID:10001153-1752969600-1753487999@www.pnwumc.org
SUMMARY:S.L.A.M. Trip - Week Two
DESCRIPTION:Looking for a summer service experience for your youth? The Greater Northwest Area has a collaborative trip for youth groups that partners with SLAM Trips (Students Learning About Mission) on the Yakama Reservation in Central Washington. This de-colonized mission trip is native-led and focuses on a balance of relationship growing\, learning\, and service with Yakama elders and community members. \nThe Greater Northwest Area has coordinators to assist groups with pre-trip work\, collaborating and growing as an area\, and assisting with extra funding throughout this process. Their goal is to equip students and leaders in the GNW through cultural learning\, telling the truth of the Methodist Church’s impact as missionaries in the Greater Northwest Area\, and growing in relationship with our native siblings. \nFor more information or signup to go with the Greater Northwest Area groups on July 6-10 or July 20-25\, go to the Greater Northwest Area’s Page or reach out to any of the GNW Coordinators: \n\n\n\nRev. Drew Hogan (OR-ID Representative – PastorDrewHogan@gmail.com )\nRev. Sheila Miranda (PNW Representative – SMiranda@pnwumc.org)\nRev. Murray Crookes (AK Representative – Munrahcito@gmail.com)
URL:https://www.pnwumc.org/event/s-l-a-m-trip-week-two/
LOCATION:WA
CATEGORIES:Ethnic Ministries,Networks,Young People's Ministry,Youth
ATTACH;FMTTYPE=image/jpeg:https://www.pnwumc.org/wp-content/uploads/2025/02/GNW-SLAM-2025-1-16x9-1.jpg
END:VEVENT
END:VCALENDAR