BEGIN:VCALENDAR
VERSION:2.0
PRODID:-//The Pacific Northwest Conference of The United Methodist Church - ECPv6.15.20//NONSGML v1.0//EN
CALSCALE:GREGORIAN
METHOD:PUBLISH
X-ORIGINAL-URL:https://www.pnwumc.org
X-WR-CALDESC:Events for The Pacific Northwest Conference of The United Methodist Church
REFRESH-INTERVAL;VALUE=DURATION:PT1H
X-Robots-Tag:noindex
X-PUBLISHED-TTL:PT1H
BEGIN:VTIMEZONE
TZID:America/Los_Angeles
BEGIN:DAYLIGHT
TZOFFSETFROM:-0800
TZOFFSETTO:-0700
TZNAME:PDT
DTSTART:20230312T100000
END:DAYLIGHT
BEGIN:STANDARD
TZOFFSETFROM:-0700
TZOFFSETTO:-0800
TZNAME:PST
DTSTART:20231105T090000
END:STANDARD
BEGIN:DAYLIGHT
TZOFFSETFROM:-0800
TZOFFSETTO:-0700
TZNAME:PDT
DTSTART:20240310T100000
END:DAYLIGHT
BEGIN:STANDARD
TZOFFSETFROM:-0700
TZOFFSETTO:-0800
TZNAME:PST
DTSTART:20241103T090000
END:STANDARD
BEGIN:DAYLIGHT
TZOFFSETFROM:-0800
TZOFFSETTO:-0700
TZNAME:PDT
DTSTART:20250309T100000
END:DAYLIGHT
BEGIN:STANDARD
TZOFFSETFROM:-0700
TZOFFSETTO:-0800
TZNAME:PST
DTSTART:20251102T090000
END:STANDARD
END:VTIMEZONE
BEGIN:VEVENT
DTSTART;TZID=America/Los_Angeles:20240917T120000
DTEND;TZID=America/Los_Angeles:20240917T130000
DTSTAMP:20260423T183508
CREATED:20240912T010649Z
LAST-MODIFIED:20240912T010649Z
UID:10000894-1726574400-1726578000@www.pnwumc.org
SUMMARY:Understanding Charge Conference Forms
DESCRIPTION:Charge Conferences: Do you know what paperwork is due? Do you know what a People Portal is? If you don’t\, you’re not alone. This meeting was designed for church admins\, clergy\, laity\, and anyone who helps complete your fall charge conference paperwork. \nJoin District Administrators Laura Velonza and Erin Tombaugh as they answer questions and discuss the paperwork and processes of this year’s fall charge conference. \nMeetings will be held via Zoom on Tuesday\, September 17th\, from Noon to 1 p.m. and Wednesday\, September 25th\, from 7 to 8 p.m. Register Here!
URL:https://www.pnwumc.org/event/understanding-charge-conference-forms/2024-09-17/
LOCATION:Zoom
CATEGORIES:Crest to Coast,District,Inland,Meetings,Puget Sound,SeaTac,Seven Rivers
END:VEVENT
BEGIN:VEVENT
DTSTART;TZID=America/Los_Angeles:20240918T183000
DTEND;TZID=America/Los_Angeles:20240918T193000
DTSTAMP:20260423T183508
CREATED:20240809T194335Z
LAST-MODIFIED:20240809T194335Z
UID:10000885-1726684200-1726687800@www.pnwumc.org
SUMMARY:Webinar: Pledge Campaign Best Practices
DESCRIPTION:What do successful pledge campaigns have in common? Cesie Delve Scheuermann of Inspiring Generosity and Julia Frisbie of Faith Foundation Northwest will team up to teach an interactive class rich with real-world examples from our own episcopal area. Whether you’re preparing for your first pledge campaign or your thirtieth\, Cesie and Julia invite you to bring your own stories and questions to the discussion. Attendees will receive a free e-book that contains five different appeal letter templates. \nClick here to register for this webinar.
URL:https://www.pnwumc.org/event/webinar-pledge-campaign-best-practices/
LOCATION:https://www.pnwumc.org/event/webinar-pledge-campaign-best-practices/
CATEGORIES:Greater NW Area,Training
ATTACH;FMTTYPE=image/jpeg:https://www.pnwumc.org/wp-content/uploads/2024/08/Pledge-Campaign.jpg
END:VEVENT
END:VCALENDAR