BEGIN:VCALENDAR
VERSION:2.0
PRODID:-//The Pacific Northwest Conference of The United Methodist Church - ECPv6.15.20//NONSGML v1.0//EN
CALSCALE:GREGORIAN
METHOD:PUBLISH
X-ORIGINAL-URL:https://www.pnwumc.org
X-WR-CALDESC:Events for The Pacific Northwest Conference of The United Methodist Church
REFRESH-INTERVAL;VALUE=DURATION:PT1H
X-Robots-Tag:noindex
X-PUBLISHED-TTL:PT1H
BEGIN:VTIMEZONE
TZID:America/Los_Angeles
BEGIN:DAYLIGHT
TZOFFSETFROM:-0800
TZOFFSETTO:-0700
TZNAME:PDT
DTSTART:20230312T100000
END:DAYLIGHT
BEGIN:STANDARD
TZOFFSETFROM:-0700
TZOFFSETTO:-0800
TZNAME:PST
DTSTART:20231105T090000
END:STANDARD
BEGIN:DAYLIGHT
TZOFFSETFROM:-0800
TZOFFSETTO:-0700
TZNAME:PDT
DTSTART:20240310T100000
END:DAYLIGHT
BEGIN:STANDARD
TZOFFSETFROM:-0700
TZOFFSETTO:-0800
TZNAME:PST
DTSTART:20241103T090000
END:STANDARD
BEGIN:DAYLIGHT
TZOFFSETFROM:-0800
TZOFFSETTO:-0700
TZNAME:PDT
DTSTART:20250309T100000
END:DAYLIGHT
BEGIN:STANDARD
TZOFFSETFROM:-0700
TZOFFSETTO:-0800
TZNAME:PST
DTSTART:20251102T090000
END:STANDARD
END:VTIMEZONE
BEGIN:VEVENT
DTSTART;VALUE=DATE:20240725
DTEND;VALUE=DATE:20240728
DTSTAMP:20260423T200713
CREATED:20230817T174547Z
LAST-MODIFIED:20240521T205303Z
UID:10000648-1721865600-1722124799@www.pnwumc.org
SUMMARY:Mission u 2024
DESCRIPTION:Each year\, United Women in Faith members prepare for faithful living and action by engaging in transformative educational experiences at Mission u events. These events are centered around Mission u curricula that are designed to motivate\, inform\, and enrich our commitment to global ministry. \nJoin us at Mission u as we explore the good news and what it means for our lives! Questions? Email Jan Catrell\, Mission u Assistant Dean: jcatrell@yahoo.com. \nTo register for Mission u 2024\, please complete this form and submit it to the address noted in the form.
URL:https://www.pnwumc.org/event/mission-u-2024/
LOCATION:Yakima: Wesley UMC\, 14 North 48th Avenue\, Yakima\, WA\, 98908\, United States
CATEGORIES:Annual Conference,United Women in Faith
ORGANIZER;CN="United Women in Faith":MAILTO:jcatrell@yahoo.com
GEO:46.5971846;-120.5733166
X-APPLE-STRUCTURED-LOCATION;VALUE=URI;X-ADDRESS=Yakima: Wesley UMC 14 North 48th Avenue Yakima WA 98908 United States;X-APPLE-RADIUS=500;X-TITLE=14 North 48th Avenue:geo:-120.5733166,46.5971846
END:VEVENT
BEGIN:VEVENT
DTSTART;TZID=America/Los_Angeles:20240726T100000
DTEND;TZID=America/Los_Angeles:20240726T140000
DTSTAMP:20260423T200713
CREATED:20240703T012838Z
LAST-MODIFIED:20240703T012912Z
UID:10000876-1721988000-1722002400@www.pnwumc.org
SUMMARY:"Fun Day at the Park" for Ethnic Clergies/Leaders and Families
DESCRIPTION:English: \nYou’re Invited to a Fun Day at the Park! \nJoin us for a day of fun and fellowship at Seward Park. We invite Ethnic Clergies/Leaders and families to come together on July 26\, 2024\, at 10 AM. We’ll be at Seward Park\, located at 5900 Lake Washington Blvd S\, Seattle WA 98118. \nWe will provide Hamburgers\, Hotdogs\, and drinks. Please consider bringing Chips\, Fruits\, Desserts\, and Salads to share. \nTo confirm your attendance or for more information\, please contact Lourdes Tifre at loutifre@hotmail.com or Cruz Edwin Santos at cesantos@pnwumc.org \nThis event is sponsored by the PNW Commission on Ethnic Ministries and the PNW Hispanic/Latinx Committee. \nSpanish: \n¡Están invitados a un Día de Diversión en el Parque! \nÚnete a nosotros para un día de diversión y compañerismo en Seward Park. Invitamos a los Líderes y Clérigos Étnicos y sus familias a reunirse el 26 de julio de 2024 a las 10 AM. Estaremos en Seward Park\, ubicado en 5900 Lake Washington Blvd S\, Seattle WA 98118. \nNosotros proporcionaremos hamburguesas\, Hot Dogs y bebidas. Les pedimos su colaboración trayendo Chips\, Frutas\, Postres y Ensaladas para compartir. \nPara confirmar su asistencia o para más información\, por favor contacte a Lourdes Tifre en loutifre@hotmail.com o Cruz Edwin Santos at cesantos@pnwumc.org \nEste evento es patrocinado por la Comisión de Ministerios Étnicos y el Comité Hispano/Latino del Noroeste del Pacífico.
URL:https://www.pnwumc.org/event/fun-day-at-the-park-for-ethnic-clergies-leaders-and-families/
LOCATION:Seward Park\, 5900 Lake Washington Blvd S\, Seattle\, 98118\, United States
CATEGORIES:Hispanic Ministries
ORGANIZER;CN="Rev. Cruz Edwin Santos":MAILTO:cesantos@pnwumc.org
END:VEVENT
END:VCALENDAR