BEGIN:VCALENDAR
VERSION:2.0
PRODID:-//The Pacific Northwest Conference of The United Methodist Church - ECPv6.15.20//NONSGML v1.0//EN
CALSCALE:GREGORIAN
METHOD:PUBLISH
X-ORIGINAL-URL:https://www.pnwumc.org
X-WR-CALDESC:Events for The Pacific Northwest Conference of The United Methodist Church
REFRESH-INTERVAL;VALUE=DURATION:PT1H
X-Robots-Tag:noindex
X-PUBLISHED-TTL:PT1H
BEGIN:VTIMEZONE
TZID:America/Los_Angeles
BEGIN:DAYLIGHT
TZOFFSETFROM:-0800
TZOFFSETTO:-0700
TZNAME:PDT
DTSTART:20210314T100000
END:DAYLIGHT
BEGIN:STANDARD
TZOFFSETFROM:-0700
TZOFFSETTO:-0800
TZNAME:PST
DTSTART:20211107T090000
END:STANDARD
BEGIN:DAYLIGHT
TZOFFSETFROM:-0800
TZOFFSETTO:-0700
TZNAME:PDT
DTSTART:20220313T100000
END:DAYLIGHT
BEGIN:STANDARD
TZOFFSETFROM:-0700
TZOFFSETTO:-0800
TZNAME:PST
DTSTART:20221106T090000
END:STANDARD
BEGIN:DAYLIGHT
TZOFFSETFROM:-0800
TZOFFSETTO:-0700
TZNAME:PDT
DTSTART:20230312T100000
END:DAYLIGHT
BEGIN:STANDARD
TZOFFSETFROM:-0700
TZOFFSETTO:-0800
TZNAME:PST
DTSTART:20231105T090000
END:STANDARD
END:VTIMEZONE
BEGIN:VEVENT
DTSTART;VALUE=DATE:20221108
DTEND;VALUE=DATE:20221111
DTSTAMP:20260425T115037
CREATED:20220901T202405Z
LAST-MODIFIED:20221101T143032Z
UID:10000548-1667865600-1668124799@www.pnwumc.org
SUMMARY:Fall BOM Meeting
DESCRIPTION:
URL:https://www.pnwumc.org/event/fall-bom-meeting-2/
LOCATION:Federal Way UMC\, 29645 51st Ave S\, Auburn\, WA\, 98001\, United States
CATEGORIES:Board of Ordained Ministry,Meetings
ORGANIZER;CN="Stephanie Franklin":MAILTO:sfranklin@pnwumc.org
GEO:47.3360487;-122.271471
X-APPLE-STRUCTURED-LOCATION;VALUE=URI;X-ADDRESS=Federal Way UMC 29645 51st Ave S Auburn WA 98001 United States;X-APPLE-RADIUS=500;X-TITLE=29645 51st Ave S:geo:-122.271471,47.3360487
END:VEVENT
END:VCALENDAR