BEGIN:VCALENDAR
VERSION:2.0
PRODID:-//The Pacific Northwest Conference of The United Methodist Church - ECPv6.15.20//NONSGML v1.0//EN
CALSCALE:GREGORIAN
METHOD:PUBLISH
X-ORIGINAL-URL:https://www.pnwumc.org
X-WR-CALDESC:Events for The Pacific Northwest Conference of The United Methodist Church
REFRESH-INTERVAL;VALUE=DURATION:PT1H
X-Robots-Tag:noindex
X-PUBLISHED-TTL:PT1H
BEGIN:VTIMEZONE
TZID:America/Los_Angeles
BEGIN:DAYLIGHT
TZOFFSETFROM:-0800
TZOFFSETTO:-0700
TZNAME:PDT
DTSTART:20210314T100000
END:DAYLIGHT
BEGIN:STANDARD
TZOFFSETFROM:-0700
TZOFFSETTO:-0800
TZNAME:PST
DTSTART:20211107T090000
END:STANDARD
BEGIN:DAYLIGHT
TZOFFSETFROM:-0800
TZOFFSETTO:-0700
TZNAME:PDT
DTSTART:20220313T100000
END:DAYLIGHT
BEGIN:STANDARD
TZOFFSETFROM:-0700
TZOFFSETTO:-0800
TZNAME:PST
DTSTART:20221106T090000
END:STANDARD
BEGIN:DAYLIGHT
TZOFFSETFROM:-0800
TZOFFSETTO:-0700
TZNAME:PDT
DTSTART:20230312T100000
END:DAYLIGHT
BEGIN:STANDARD
TZOFFSETFROM:-0700
TZOFFSETTO:-0800
TZNAME:PST
DTSTART:20231105T090000
END:STANDARD
END:VTIMEZONE
BEGIN:VEVENT
DTSTART;VALUE=DATE:20220917
DTEND;VALUE=DATE:20220918
DTSTAMP:20260425T152009
CREATED:20211223T220352Z
LAST-MODIFIED:20211223T220835Z
UID:10000529-1663372800-1663459199@www.pnwumc.org
SUMMARY:Inland Missional District Annual Mtg - UMW
DESCRIPTION:
URL:https://www.pnwumc.org/event/inland-missional-district-annual-mtg-umw/
LOCATION:TBD
CATEGORIES:United Methodist Women
ORGANIZER;CN="Ja net' Crouse":MAILTO:crousejw@crouses.com
END:VEVENT
BEGIN:VEVENT
DTSTART;VALUE=DATE:20220917
DTEND;VALUE=DATE:20220918
DTSTAMP:20260425T152009
CREATED:20211223T220455Z
LAST-MODIFIED:20211223T220455Z
UID:10000530-1663372800-1663459199@www.pnwumc.org
SUMMARY:Seven Rivers Missional District Annual Mtg - UMW
DESCRIPTION:
URL:https://www.pnwumc.org/event/seven-rivers-missional-district-annual-mtg-umw/
LOCATION:TBD
CATEGORIES:United Methodist Women
ORGANIZER;CN="Ja net' Crouse":MAILTO:crousejw@crouses.com
END:VEVENT
END:VCALENDAR