BEGIN:VCALENDAR
VERSION:2.0
PRODID:-//The Pacific Northwest Conference of The United Methodist Church - ECPv6.15.20//NONSGML v1.0//EN
CALSCALE:GREGORIAN
METHOD:PUBLISH
X-ORIGINAL-URL:https://www.pnwumc.org
X-WR-CALDESC:Events for The Pacific Northwest Conference of The United Methodist Church
REFRESH-INTERVAL;VALUE=DURATION:PT1H
X-Robots-Tag:noindex
X-PUBLISHED-TTL:PT1H
BEGIN:VTIMEZONE
TZID:America/Los_Angeles
BEGIN:DAYLIGHT
TZOFFSETFROM:-0800
TZOFFSETTO:-0700
TZNAME:PDT
DTSTART:20220313T100000
END:DAYLIGHT
BEGIN:STANDARD
TZOFFSETFROM:-0700
TZOFFSETTO:-0800
TZNAME:PST
DTSTART:20221106T090000
END:STANDARD
BEGIN:DAYLIGHT
TZOFFSETFROM:-0800
TZOFFSETTO:-0700
TZNAME:PDT
DTSTART:20230312T100000
END:DAYLIGHT
BEGIN:STANDARD
TZOFFSETFROM:-0700
TZOFFSETTO:-0800
TZNAME:PST
DTSTART:20231105T090000
END:STANDARD
BEGIN:DAYLIGHT
TZOFFSETFROM:-0800
TZOFFSETTO:-0700
TZNAME:PDT
DTSTART:20240310T100000
END:DAYLIGHT
BEGIN:STANDARD
TZOFFSETFROM:-0700
TZOFFSETTO:-0800
TZNAME:PST
DTSTART:20241103T090000
END:STANDARD
END:VTIMEZONE
BEGIN:VEVENT
DTSTART;VALUE=DATE:20230428
DTEND;VALUE=DATE:20230501
DTSTAMP:20260425T070200
CREATED:20221023T055052Z
LAST-MODIFIED:20230102T223715Z
UID:10000551-1682640000-1682899199@www.pnwumc.org
SUMMARY:United Women in Faith Spiritual Retreat
DESCRIPTION:Join the Pacific Northwest Conference United Women in Faith as they look at the characteristics of women as thinkers\, problem solvers\, caregivers\, feisty\, strong\, loving\, made in the image of God. Rev. Shalom R. Agtarap\, pastor and developer serving at First UMC Tacoma\, will offer spiritual leadership for the retreat. Visit the United Women in Faith – Pacific Northwest website for the latest information. \nWHERE:  \nLazy F Camp and Retreat Center\n16170 Manastash Rd.\, Ellensburg\, WA 98926 \nWHAT TO EXPECT: Study\, Worship\, Music\, Relaxation\, Crafts\, Walks & Massages \nCOSTS: \n\nSkyline 2 nights/5 meals – $135.00 (Includes bedding and towels)\nRidgeview 2 nights/5 meals – $125.00 (Bring own bedding and towels)\nTrading Post 2 nights/5 meals – $120.00 (Bring own bedding and towels)\n\nHope to see you there! \nRegistration Form \nScholarship Form
URL:https://www.pnwumc.org/event/united-women-in-faith-spiritual-retreat/
LOCATION:Lazy F Camp and Retreat Center\, 16170 Manastash Road\, Ellensburg\, WA\, 98926\, United States
CATEGORIES:United Methodist Women,United Women in Faith
ATTACH;FMTTYPE=image/png:https://www.pnwumc.org/wp-content/uploads/2022/10/POSTCARD-UWF-Spiritual-Retreat-Celebrating-Womanhood.png
ORGANIZER;CN="Sharon McDaniel":MAILTO:sharongarymcdaniel@gmail.com
GEO:46.961686;-120.775124
X-APPLE-STRUCTURED-LOCATION;VALUE=URI;X-ADDRESS=Lazy F Camp and Retreat Center 16170 Manastash Road Ellensburg WA 98926 United States;X-APPLE-RADIUS=500;X-TITLE=16170 Manastash Road:geo:-120.775124,46.961686
END:VEVENT
END:VCALENDAR